From mboxrd@z Thu Jan 1 00:00:00 1970 Return-Path: Received: from mails.dpdk.org (mails.dpdk.org [217.70.189.124]) by inbox.dpdk.org (Postfix) with ESMTP id 66E6E461BE for ; Fri, 7 Feb 2025 19:36:59 +0100 (CET) Received: from mails.dpdk.org (localhost [127.0.0.1]) by mails.dpdk.org (Postfix) with ESMTP id 63B6E42ED5; Fri, 7 Feb 2025 19:36:59 +0100 (CET) Received: from mail-qt1-f226.google.com (mail-qt1-f226.google.com [209.85.160.226]) by mails.dpdk.org (Postfix) with ESMTP id 2953442E90 for ; Fri, 7 Feb 2025 19:36:58 +0100 (CET) Received: by mail-qt1-f226.google.com with SMTP id d75a77b69052e-4679eacf2c5so23444261cf.0 for ; Fri, 07 Feb 2025 10:36:58 -0800 (PST) DKIM-Signature: v=1; a=rsa-sha256; c=relaxed/relaxed; d=iol.unh.edu; s=unh-iol; t=1738953417; x=1739558217; darn=dpdk.org; h=cc:to:from:subject:message-id:date:from:to:cc:subject:date :message-id:reply-to; bh=BW1jP1poIqsYSkdzNIyJXLM7ocCc9sakU0Vcjxha4rE=; b=XncNm97bFP8gsRDAt2Bm00YBO9FKDq3cSpFTF8z2hWUExNpvR38jPlP02WHYTv59lO v44TYzQDQDFFOV/MnEzez7m53B7hwPYlapbxMk9w2PuZVVPnaRQzStMQ5VGOkkkIXMnF GMXauKMKWrdoX9ua614/RxeYn2BQ4Knk3OduU= X-Google-DKIM-Signature: v=1; a=rsa-sha256; c=relaxed/relaxed; d=1e100.net; s=20230601; t=1738953417; x=1739558217; h=cc:to:from:subject:message-id:date:x-gm-message-state:from:to:cc :subject:date:message-id:reply-to; bh=BW1jP1poIqsYSkdzNIyJXLM7ocCc9sakU0Vcjxha4rE=; b=AyPGW/kHvX9DXK9o5b3kunp0Du+sYYzmbBf/cjBwDQZFDo80rqFdVtEx3hwXuMDXUj 9SL9jSf2EvDBVVtBibJABEUIZDucABbhaQN1gunbjZe/9LimiwVYuNXxAiA77b6iBEEW J21L8c8lfY7L3kviEl51o1KXNYvQpep1Nk5KeqxqWOIWo2RC1twXk8pp4I5eazjVO7aX 0cNV0v58dV0vQr16sW+q0UP7uI00RR2awUUsVa5Iexg8g40GTz9/9dpEUQNltx3G046/ RwiRIeF/btDfzQhhjGPxSsUWAV5gb7RL/2qOPkC0G5NGyeOEw65+3HtUsvzhKOm1M1kc FvCQ== X-Gm-Message-State: AOJu0Yy+QfuOYdvqXnQQUvacIsjapRvngasR/ZNrozqIkjtMLzHYreLf XJ20d1zap0RLbuGnN08+yOJuYbRHVaqrnx8mYpbqrQU9lpe7FS+bcmWuw1cMhv7nT2Bw3r88Pvj ktewq0sMy3W5kATFuD0UdZNnEcezK75CYdIT2CENI X-Gm-Gg: ASbGncvoSkk1j10Im45sthAyBMxBArjPXlO3jQMrILyVm8XX7Ag3AVYPks6TSuYp5BV y3qECzMsNM42hNj5kePhpl8sZtdF8lX3PPxl8ktD9SQG49ACEPCiBQZU9BMopDK1ddsv1hou234 a9BQzTVd85xP/Tvcz7+Dc3xc5Gzs/YR+idLefvi/8FmktfTkmEeqOLkEDSQQinLk7zxQ1zIG6TE tD+gcHXDom6MGn/kFm9LunwHK2FGmdJqp7itle4uTMK4K32wzVwD5ZcICfib3YeCTcwfKeQm8PI JoltCDOFcuKQGsd2QFrDK6C0aWYu7g== X-Google-Smtp-Source: AGHT+IEStkB7jof3DoUs2amlmkY9OutsI+Z2f2GbPYaRC0w6D9ZzDvUJ/wFWMl6tNAq6AfhKn4eE0qDbu0Iy X-Received: by 2002:ac8:7c46:0:b0:467:6e45:218d with SMTP id d75a77b69052e-471679a02d6mr50131441cf.3.1738953417528; Fri, 07 Feb 2025 10:36:57 -0800 (PST) Received: from postal.iol.unh.edu (postal.iol.unh.edu. [132.177.123.84]) by smtp-relay.gmail.com with ESMTPS id d75a77b69052e-47153b5a7b0sm1865801cf.21.2025.02.07.10.36.57 (version=TLS1_2 cipher=ECDHE-ECDSA-AES128-GCM-SHA256 bits=128/128); Fri, 07 Feb 2025 10:36:57 -0800 (PST) X-Relaying-Domain: iol.unh.edu Date: Fri, 07 Feb 2025 10:36:57 -0800 (PST) Message-ID: <67a652c9.050a0220.38ae3c.94d8SMTPIN_ADDED_MISSING@mx.google.com> Received: from [172.21.0.5] (unknown [172.18.0.240]) by postal.iol.unh.edu (Postfix) with ESMTP id 36A4E6052477; Fri, 7 Feb 2025 13:36:27 -0500 (EST) Subject: |SUCCESS| [GIT MASTER] 7df61db6c387703a36306c1aea92225921e2eeb2 From: dpdklab@iol.unh.edu To: Test Report Cc: dpdk-test-reports@iol.unh.edu Content-Type: text/plain X-BeenThere: test-report@dpdk.org X-Mailman-Version: 2.1.29 Precedence: list List-Id: automatic DPDK test reports List-Unsubscribe: , List-Archive: List-Post: List-Help: List-Subscribe: , Errors-To: test-report-bounces@dpdk.org _Testing PASS_ Branch: dpdk 7df61db6c387703a36306c1aea92225921e2eeb2 --> testing pass Test environment and result as below: +---------------------+--------------------+------------------+-------------------+-------------------------+-------------------+----------------------+ | Environment | dpdk_meson_compile | dpdk_compile_ovs | dpdk_compile_spdk | dpdk_llvm_clang_compile | dpdk_msvc_compile | dpdk_mingw64_compile | +=====================+====================+==================+===================+=========================+===================+======================+ | CentOS Stream 9 | PASS | PASS | PASS | SKIPPED | SKIPPED | SKIPPED | +---------------------+--------------------+------------------+-------------------+-------------------------+-------------------+----------------------+ | Debian 12 | PASS | PASS | PASS | SKIPPED | SKIPPED | SKIPPED | +---------------------+--------------------+------------------+-------------------+-------------------------+-------------------+----------------------+ | Fedora 39 (Clang) | PASS | PASS | PASS | SKIPPED | SKIPPED | SKIPPED | +---------------------+--------------------+------------------+-------------------+-------------------------+-------------------+----------------------+ | Fedora 39 | PASS | PASS | PASS | SKIPPED | SKIPPED | SKIPPED | +---------------------+--------------------+------------------+-------------------+-------------------------+-------------------+----------------------+ | Fedora 40 | PASS | PASS | PASS | SKIPPED | SKIPPED | SKIPPED | +---------------------+--------------------+------------------+-------------------+-------------------------+-------------------+----------------------+ | Fedora 40 (Clang) | PASS | PASS | PASS | SKIPPED | SKIPPED | SKIPPED | +---------------------+--------------------+------------------+-------------------+-------------------------+-------------------+----------------------+ | openSUSE Leap 15 | PASS | PASS | SKIPPED | SKIPPED | SKIPPED | SKIPPED | +---------------------+--------------------+------------------+-------------------+-------------------------+-------------------+----------------------+ | RHEL8 | PASS | PASS | SKIPPED | SKIPPED | SKIPPED | SKIPPED | +---------------------+--------------------+------------------+-------------------+-------------------------+-------------------+----------------------+ | Ubuntu 24.04 | PASS | PASS | PASS | SKIPPED | SKIPPED | SKIPPED | +---------------------+--------------------+------------------+-------------------+-------------------------+-------------------+----------------------+ | Ubuntu 20.04 | PASS | SKIPPED | SKIPPED | SKIPPED | SKIPPED | SKIPPED | +---------------------+--------------------+------------------+-------------------+-------------------------+-------------------+----------------------+ | Alpine | PASS | PASS | SKIPPED | SKIPPED | SKIPPED | SKIPPED | +---------------------+--------------------+------------------+-------------------+-------------------------+-------------------+----------------------+ | RHEL9 | PASS | PASS | SKIPPED | SKIPPED | SKIPPED | SKIPPED | +---------------------+--------------------+------------------+-------------------+-------------------------+-------------------+----------------------+ | Ubuntu 22.04 | PASS | PASS | PASS | SKIPPED | SKIPPED | SKIPPED | +---------------------+--------------------+------------------+-------------------+-------------------------+-------------------+----------------------+ | Arch Linux | PASS | PASS | SKIPPED | SKIPPED | SKIPPED | SKIPPED | +---------------------+--------------------+------------------+-------------------+-------------------------+-------------------+----------------------+ | FreeBSD 13.4 | PASS | SKIPPED | SKIPPED | SKIPPED | SKIPPED | SKIPPED | +---------------------+--------------------+------------------+-------------------+-------------------------+-------------------+----------------------+ | FreeBSD 14.2 | PASS | SKIPPED | SKIPPED | SKIPPED | SKIPPED | SKIPPED | +---------------------+--------------------+------------------+-------------------+-------------------------+-------------------+----------------------+ | Windows Server 2022 | SKIPPED | SKIPPED | SKIPPED | PASS | PASS | PASS | +---------------------+--------------------+------------------+-------------------+-------------------------+-------------------+----------------------+ CentOS Stream 9 Kernel: Depends on container host Compiler: gcc 11.5.0 20240719 (Red Hat 11.5.0-2) Debian 12 Kernel: Depends on container host Compiler: gcc (Debian 12.2.0-14) 12.2.0 Fedora 39 (Clang) Kernel: Depends on container host Compiler: clang 17.0.6 (Fedora 17.0.6-2.fc39) Fedora 39 Kernel: Depends on container host Compiler: gcc 13.3.1 20240522 (Red Hat 13.3.1-1) Fedora 40 Kernel: Depends on container host Compiler: gcc 14.2.1 20240912 (Red Hat 14.2.1-3) Fedora 40 (Clang) Kernel: Depends on container host Compiler: clang 18.1.8 (Fedora 18.1.8-1.fc40) openSUSE Leap 15 Kernel: Depends on container host Compiler: gcc (SUSE Linux) 7.5.0 RHEL8 Kernel: Depends on container host Compiler: gcc 8.5.0 20210514 (Red Hat 8.5.0-22) Ubuntu 24.04 Kernel: Depends on container host Compiler: gcc (Ubuntu 13.3.0-6ubuntu2~24.04) 13.3.0 Ubuntu 20.04 Kernel: Depends on container host Compiler: gcc (Ubuntu 9.4.0-1ubuntu1~20.04.2) 9.4.0 Alpine Kernel: Depends on container host Compiler: gcc (Alpine 14.2.0) 14.2.0 RHEL9 Kernel: Depends on container host Compiler: gcc 11.5.0 20240719 (Red Hat 11.5.0-2) Ubuntu 22.04 Kernel: Depends on container host Compiler: gcc (Ubuntu 11.4.0-1ubuntu1~22.04) 11.4.0 Arch Linux Kernel: Depends on container host Compiler: gcc 14.2.1 20240910 FreeBSD 13.4 Kernel: 13.4-RELEASE-p1 Compiler: clang 18.1.6 FreeBSD 14.2 Kernel: 14.2-RELEASE Compiler: clang 18.1.6 Windows Server 2022 Kernel: 10.0.20348.2031 Compiler: clang 15.0.7, gcc 14.1.0 (MinGW), and MSVC VS 19.39.33521 To view detailed results, visit: https://lab.dpdk.org/results/dashboard/tarballs/31872/ UNH-IOL DPDK Community Lab To manage your email subscriptions, visit: https://lab.dpdk.org/results/dashboard/preferences/subscriptions/