From mboxrd@z Thu Jan  1 00:00:00 1970
Return-Path: <test-report-bounces@dpdk.org>
Received: from mails.dpdk.org (mails.dpdk.org [217.70.189.124])
	by inbox.dpdk.org (Postfix) with ESMTP id 728E8461BE
	for <public@inbox.dpdk.org>; Fri,  7 Feb 2025 19:37:01 +0100 (CET)
Received: from mails.dpdk.org (localhost [127.0.0.1])
	by mails.dpdk.org (Postfix) with ESMTP id 6FA6042ED5;
	Fri,  7 Feb 2025 19:37:01 +0100 (CET)
Received: from mail-ot1-f100.google.com (mail-ot1-f100.google.com
 [209.85.210.100])
 by mails.dpdk.org (Postfix) with ESMTP id A0FDF42E90
 for <test-report@dpdk.org>; Fri,  7 Feb 2025 19:37:00 +0100 (CET)
Received: by mail-ot1-f100.google.com with SMTP id
 46e09a7af769-724d1724657so1813865a34.0
 for <test-report@dpdk.org>; Fri, 07 Feb 2025 10:37:00 -0800 (PST)
DKIM-Signature: v=1; a=rsa-sha256; c=relaxed/relaxed;
 d=iol.unh.edu; s=unh-iol; t=1738953419; x=1739558219; darn=dpdk.org;
 h=references:in-reply-to:cc:to:from:subject:message-id:date:from:to
 :cc:subject:date:message-id:reply-to;
 bh=oIxUVgw4dYuzctx2GPdFpOrtfdQxAhx2NEDqUj/9R0c=;
 b=Ruc56b9efpSE9DJrNCaXESliYT8BOCJvAe3j7yREqLUDVEujktk288lSx1XUiWHkKJ
 w8vKL34/7OlsTFu8Ug0BO/l4K7hz+svPCeHujktM98U1FoHXDzPMp7yFn63Vtu0sEFtD
 zj4ZdzFW7NV/hW5cR+IY+dNGVpLzkLEs6qYSY=
X-Google-DKIM-Signature: v=1; a=rsa-sha256; c=relaxed/relaxed;
 d=1e100.net; s=20230601; t=1738953419; x=1739558219;
 h=references:in-reply-to:cc:to:from:subject:message-id:date
 :x-gm-message-state:from:to:cc:subject:date:message-id:reply-to;
 bh=oIxUVgw4dYuzctx2GPdFpOrtfdQxAhx2NEDqUj/9R0c=;
 b=CpyWMNUTtLbv6AGqiuG1jghuebQr6kT45JHQpjivRi9UIdF7kLjb1pZ5ClRgkjJSu6
 VBU+j+MSVHCKGjOXWumIVvyLgC4uyTATr6I3g6x2yt0YF5V02qHfE6VqFvHxaDeaSbDZ
 UQAcdsn+uuXlvLgYaSF5y+nG9bRhCwwbdvvFLLNQk4O2FtWljaiaYPHNZsQjxK996S2G
 uuXOE4hH2jehomIJAhxwaObmuNaUfpAlV73ju3j3xByMeTe6qNs6ufdWoDqunZgC/KjO
 1t0yz5uiRSqkfK6cFjf1T1cWjVGX5Y2LPsfF2S2d4Zu7V/GSv1pL/DZoe1HV3y2mkX3G
 DrHA==
X-Gm-Message-State: AOJu0Yz6iRa1jJNx1/7H8/d/23CHeyAlc4Ra+0I9TU2QD7c9SPBGRv09
 FLbqcGJWt3tsScDimsUb7MCeaQ1nuhEQ8phrqcPXlPoYk6NMrunJtD0ZvQILY6Sykctbc29UJyY
 XUdqfdy/iLDUz+CQNDW61Yweghp22fQe5q33mXH2y
X-Gm-Gg: ASbGncuq1q4U+mA07wDW2DmeQMH8w+TE1UE/HYvSGulfad0Rz7ZS2MNcnGnHoX1LeJv
 /0xIYBMoUTsyE/44aylqpDaW8NYxJXWSt27mT28pOTlHe9c3ssTXYJjpGnWTyI9DtntlK/wkDo0
 +rVcepq6I8dBCizskLCNQ7lPn/3N9OHFsM+TmJ7EWr1lYGuEepzFQv87s1LBqlQF/zMMVT85Bf9
 L+trOVdNzj+H90gLI1kiMygSDwuMAond1gMCtnsQPVaS9LoDpSm2uanZMrgw+mcQ1q6RiwDLEDD
 UtxuByV2ty0nk0Sc/doujoBMT9GFCQ==
X-Google-Smtp-Source: AGHT+IFXTP18IPLdkQGpSi/PwE9KEyjsMHuiWsokx/sG1I+gkb1xwNV2pmmFpW0HKzy9SDaQUO4sQQggeO/+
X-Received: by 2002:a05:6830:4865:b0:71d:4dbb:7232 with SMTP id
 46e09a7af769-726ad665ec7mr5326038a34.3.1738953419725; 
 Fri, 07 Feb 2025 10:36:59 -0800 (PST)
Received: from postal.iol.unh.edu (postal.iol.unh.edu. [132.177.123.84])
 by smtp-relay.gmail.com with ESMTPS id
 006d021491bc7-5fc544caa2dsm101256eaf.8.2025.02.07.10.36.59
 (version=TLS1_2 cipher=ECDHE-ECDSA-AES128-GCM-SHA256 bits=128/128);
 Fri, 07 Feb 2025 10:36:59 -0800 (PST)
X-Relaying-Domain: iol.unh.edu
Date: Fri, 07 Feb 2025 10:36:59 -0800 (PST)
Message-ID: <67a652cb.050a0220.295443.541cSMTPIN_ADDED_MISSING@mx.google.com>
Received: from [172.21.0.8] (unknown [172.18.0.240])
 by postal.iol.unh.edu (Postfix) with ESMTP id 2DEC7605247D;
 Fri,  7 Feb 2025 13:36:29 -0500 (EST)
Subject: |SUCCESS| pw149030-149031 [PATCH] [v5,2/2] dts: add flow create/dele
From: dpdklab@iol.unh.edu
To: Test Report <test-report@dpdk.org>
Cc: dpdk-test-reports@iol.unh.edu
In-Reply-To: <20241204232246.30339-2-dmarx@iol.unh.edu>
References: <20241204232246.30339-2-dmarx@iol.unh.edu>
Content-Type: text/plain
X-BeenThere: test-report@dpdk.org
X-Mailman-Version: 2.1.29
Precedence: list
List-Id: automatic DPDK test reports <test-report.dpdk.org>
List-Unsubscribe: <https://mails.dpdk.org/options/test-report>,
 <mailto:test-report-request@dpdk.org?subject=unsubscribe>
List-Archive: <http://mails.dpdk.org/archives/test-report/>
List-Post: <mailto:test-report@dpdk.org>
List-Help: <mailto:test-report-request@dpdk.org?subject=help>
List-Subscribe: <https://mails.dpdk.org/listinfo/test-report>,
 <mailto:test-report-request@dpdk.org?subject=subscribe>
Errors-To: test-report-bounces@dpdk.org

Test-Label: iol-compile-amd64-testing
Test-Status: SUCCESS
http://dpdk.org/patch/149031

_Testing PASS_

Submitter: Dean Marx <dmarx@iol.unh.edu>
Date: Wednesday, December 04 2024 23:22:46 
DPDK git baseline: Repo:dpdk
  Branch: master
  CommitID:7df61db6c387703a36306c1aea92225921e2eeb2

149030-149031 --> testing pass

Test environment and result as below:

+---------------------+--------------------+------------------+-------------------+-------------------+-------------------------+----------------------+
|     Environment     | dpdk_meson_compile | dpdk_compile_ovs | dpdk_compile_spdk | dpdk_msvc_compile | dpdk_llvm_clang_compile | dpdk_mingw64_compile |
+=====================+====================+==================+===================+===================+=========================+======================+
| Debian 12           | PASS               | PASS             | PASS              | SKIPPED           | SKIPPED                 | SKIPPED              |
+---------------------+--------------------+------------------+-------------------+-------------------+-------------------------+----------------------+
| CentOS Stream 9     | PASS               | PASS             | PASS              | SKIPPED           | SKIPPED                 | SKIPPED              |
+---------------------+--------------------+------------------+-------------------+-------------------+-------------------------+----------------------+
| Fedora 40 (Clang)   | PASS               | PASS             | PASS              | SKIPPED           | SKIPPED                 | SKIPPED              |
+---------------------+--------------------+------------------+-------------------+-------------------+-------------------------+----------------------+
| RHEL8               | PASS               | PASS             | SKIPPED           | SKIPPED           | SKIPPED                 | SKIPPED              |
+---------------------+--------------------+------------------+-------------------+-------------------+-------------------------+----------------------+
| FreeBSD 13.4        | PASS               | SKIPPED          | SKIPPED           | SKIPPED           | SKIPPED                 | SKIPPED              |
+---------------------+--------------------+------------------+-------------------+-------------------+-------------------------+----------------------+
| openSUSE Leap 15    | PASS               | PASS             | SKIPPED           | SKIPPED           | SKIPPED                 | SKIPPED              |
+---------------------+--------------------+------------------+-------------------+-------------------+-------------------------+----------------------+
| Fedora 39 (Clang)   | PASS               | PASS             | PASS              | SKIPPED           | SKIPPED                 | SKIPPED              |
+---------------------+--------------------+------------------+-------------------+-------------------+-------------------------+----------------------+
| Fedora 40           | PASS               | PASS             | PASS              | SKIPPED           | SKIPPED                 | SKIPPED              |
+---------------------+--------------------+------------------+-------------------+-------------------+-------------------------+----------------------+
| Alpine              | PASS               | PASS             | SKIPPED           | SKIPPED           | SKIPPED                 | SKIPPED              |
+---------------------+--------------------+------------------+-------------------+-------------------+-------------------------+----------------------+
| Ubuntu 22.04        | PASS               | PASS             | PASS              | SKIPPED           | SKIPPED                 | SKIPPED              |
+---------------------+--------------------+------------------+-------------------+-------------------+-------------------------+----------------------+
| Ubuntu 24.04        | PASS               | PASS             | PASS              | SKIPPED           | SKIPPED                 | SKIPPED              |
+---------------------+--------------------+------------------+-------------------+-------------------+-------------------------+----------------------+
| Fedora 39           | PASS               | PASS             | PASS              | SKIPPED           | SKIPPED                 | SKIPPED              |
+---------------------+--------------------+------------------+-------------------+-------------------+-------------------------+----------------------+
| RHEL9               | PASS               | PASS             | SKIPPED           | SKIPPED           | SKIPPED                 | SKIPPED              |
+---------------------+--------------------+------------------+-------------------+-------------------+-------------------------+----------------------+
| Ubuntu 20.04        | PASS               | SKIPPED          | SKIPPED           | SKIPPED           | SKIPPED                 | SKIPPED              |
+---------------------+--------------------+------------------+-------------------+-------------------+-------------------------+----------------------+
| FreeBSD 14.2        | PASS               | SKIPPED          | SKIPPED           | SKIPPED           | SKIPPED                 | SKIPPED              |
+---------------------+--------------------+------------------+-------------------+-------------------+-------------------------+----------------------+
| Windows Server 2022 | SKIPPED            | SKIPPED          | SKIPPED           | PASS              | PASS                    | PASS                 |
+---------------------+--------------------+------------------+-------------------+-------------------+-------------------------+----------------------+


Debian 12
	Kernel: Depends on container host
	Compiler: gcc (Debian 12.2.0-14) 12.2.0

CentOS Stream 9
	Kernel: Depends on container host
	Compiler: gcc 11.5.0 20240719 (Red Hat 11.5.0-2)

Fedora 40 (Clang)
	Kernel: Depends on container host
	Compiler: clang 18.1.8 (Fedora 18.1.8-1.fc40)

RHEL8
	Kernel: Depends on container host
	Compiler: gcc 8.5.0 20210514 (Red Hat 8.5.0-22)

FreeBSD 13.4
	Kernel: 13.4-RELEASE-p1
	Compiler: clang 18.1.6

openSUSE Leap 15
	Kernel: Depends on container host
	Compiler: gcc (SUSE Linux) 7.5.0

Fedora 39 (Clang)
	Kernel: Depends on container host
	Compiler: clang 17.0.6 (Fedora 17.0.6-2.fc39)

Fedora 40
	Kernel: Depends on container host
	Compiler: gcc 14.2.1 20240912 (Red Hat 14.2.1-3)

Alpine
	Kernel: Depends on container host
	Compiler: gcc (Alpine 14.2.0) 14.2.0

Ubuntu 22.04
	Kernel: Depends on container host
	Compiler: gcc (Ubuntu 11.4.0-1ubuntu1~22.04) 11.4.0

Ubuntu 24.04
	Kernel: Depends on container host
	Compiler: gcc (Ubuntu 13.3.0-6ubuntu2~24.04) 13.3.0

Fedora 39
	Kernel: Depends on container host
	Compiler: gcc 13.3.1 20240522 (Red Hat 13.3.1-1)

RHEL9
	Kernel: Depends on container host
	Compiler: gcc 11.5.0 20240719 (Red Hat 11.5.0-2)

Ubuntu 20.04
	Kernel: Depends on container host
	Compiler: gcc (Ubuntu 9.4.0-1ubuntu1~20.04.2) 9.4.0

FreeBSD 14.2
	Kernel: 14.2-RELEASE
	Compiler: clang 18.1.6

Windows Server 2022
	Kernel: 10.0.20348.2031
	Compiler: clang 15.0.7, gcc 14.1.0 (MinGW), and MSVC VS 19.39.33521

To view detailed results, visit:
https://lab.dpdk.org/results/dashboard/patchsets/32088/

UNH-IOL DPDK Community Lab

To manage your email subscriptions, visit: 
https://lab.dpdk.org/results/dashboard/preferences/subscriptions/