From mboxrd@z Thu Jan 1 00:00:00 1970 Return-Path: Received: from mails.dpdk.org (mails.dpdk.org [217.70.189.124]) by inbox.dpdk.org (Postfix) with ESMTP id 8A873461BE for ; Fri, 7 Feb 2025 19:37:06 +0100 (CET) Received: from mails.dpdk.org (localhost [127.0.0.1]) by mails.dpdk.org (Postfix) with ESMTP id 83A3342ED5; Fri, 7 Feb 2025 19:37:06 +0100 (CET) Received: from mail-il1-f226.google.com (mail-il1-f226.google.com [209.85.166.226]) by mails.dpdk.org (Postfix) with ESMTP id 024A642E90 for ; Fri, 7 Feb 2025 19:37:05 +0100 (CET) Received: by mail-il1-f226.google.com with SMTP id e9e14a558f8ab-3d07df73412so13174615ab.1 for ; Fri, 07 Feb 2025 10:37:04 -0800 (PST) DKIM-Signature: v=1; a=rsa-sha256; c=relaxed/relaxed; d=iol.unh.edu; s=unh-iol; t=1738953424; x=1739558224; darn=dpdk.org; h=cc:to:from:subject:message-id:date:from:to:cc:subject:date :message-id:reply-to; bh=lnhTtZaJq+BswGJyobwJ1pLcm874ueyyZk4AUb4IfKM=; b=Velr7yldwRDarV0otvXYguTjoAYV7KETWREfLg2zuN18HjCJkTZOHKlqzvfA5hNI8v rzBsVGbW+8NNQzJYUR+TWaE5vaKz7+w3/RQXBMQIHAEkLMzqHvE5JN8nb4RjCMUBKM9G qk5aKlMfzRSQHtUFnppSFUKBd3WEhE65Tig3c= X-Google-DKIM-Signature: v=1; a=rsa-sha256; c=relaxed/relaxed; d=1e100.net; s=20230601; t=1738953424; x=1739558224; h=cc:to:from:subject:message-id:date:x-gm-message-state:from:to:cc :subject:date:message-id:reply-to; bh=lnhTtZaJq+BswGJyobwJ1pLcm874ueyyZk4AUb4IfKM=; b=LyMauZXoRfPFivLRG08TKxmTbl5mwJL+B5TZL1c38VX9HX0yvba9Q5VnR1/gRmjwNC wOCN7SCMxeUTtmhug1z3EaugAr+tgl9MuSZrkgyrl2ztiemWPvgMyVDQU62bl5aDxD4a CslXAi/RW/FhROMacbhDhsyaINlf/7s+UJjHjhe6oK4FRNBnTS90BLyamJH5i7LkkPag TraCeiJNkl2+jxojCimgtdXZFyJehA2MsdiJgRg75Aparm18vrmUbsK8sNgo7kVDYB+d 9RxAtrim0U13t3grqOCb+z6uJbQ3eMARGfqEe1lr9n+DhwUnIoNbdZdMlzQ6Jurnb3f1 kWuA== X-Gm-Message-State: AOJu0YytrlM7JIqfBwsnh11czQIkAhecE8GtMdAhVvA9LwUVPE/CVTe7 88Os3DT1BZawkiampaD7zxctlUdwFLLSS+WU5zmA0XXdoxiHd22hTlrLPvYm8wSRHZUholV6RTs RqrJ4YRxJgfGTX1A63evyK4T0migxfJXP X-Gm-Gg: ASbGncva863Vjue7v7gsdcwlCIrN7a7HQrR8dwV/aqYvbUvesSEn5Od5QU5lROK0tQV 6UTVvie2s+XGA7L6lqk4NxK31/znQJdlGVcFCVMnsLOAkTR6JW+N86H+KPkPqdQHicUmTVEpjrS r03cVR2oxYOgafqxfiSuZm3vyeDI3DCK0luO1bsMWs5aETwiU5S8DwGfFyOugjGclYq1bQPpLrE FT/5Yot31ZkoCb47CDscRziZ2GJMkABKxLmRwooqdfaxWMbAl+TFGcbzyrVDs0dp6uFH2u44rUy 1pFsTTv0oCcVT8GjwHVk6H3n4JEsfg== X-Google-Smtp-Source: AGHT+IFkrS4C/Y9Yqxvs9keTe4MNqKaxs39oVwLPMl7Vr9oTfG6c/0azEoXxXJpFICJGNSYGjvJ3l9saVfVs X-Received: by 2002:a05:6e02:1c8c:b0:3cf:bb11:a3a4 with SMTP id e9e14a558f8ab-3d13df2bd00mr30070555ab.15.1738953424356; Fri, 07 Feb 2025 10:37:04 -0800 (PST) Received: from postal.iol.unh.edu (postal.iol.unh.edu. [132.177.123.84]) by smtp-relay.gmail.com with ESMTPS id e9e14a558f8ab-3d05e918545sm2626105ab.29.2025.02.07.10.37.04 (version=TLS1_2 cipher=ECDHE-ECDSA-AES128-GCM-SHA256 bits=128/128); Fri, 07 Feb 2025 10:37:04 -0800 (PST) X-Relaying-Domain: iol.unh.edu Date: Fri, 07 Feb 2025 10:37:04 -0800 (PST) Message-ID: <67a652d0.050a0220.2061e.dfa4SMTPIN_ADDED_MISSING@mx.google.com> Received: from [172.21.0.6] (unknown [172.18.0.240]) by postal.iol.unh.edu (Postfix) with ESMTP id CA6F56052483; Fri, 7 Feb 2025 13:36:33 -0500 (EST) Subject: |SUCCESS| [GIT MASTER] e8eb14e00d56027bef8569d68cf00e39670edca2 From: dpdklab@iol.unh.edu To: Test Report Cc: dpdk-test-reports@iol.unh.edu, Xueming Li , Christian Ehrhardt , Kevin Traynor , Luca Boccassi Content-Type: text/plain X-BeenThere: test-report@dpdk.org X-Mailman-Version: 2.1.29 Precedence: list List-Id: automatic DPDK test reports List-Unsubscribe: , List-Archive: List-Post: List-Help: List-Subscribe: , Errors-To: test-report-bounces@dpdk.org _Testing PASS_ Branch: tags/v23.11 e8eb14e00d56027bef8569d68cf00e39670edca2 --> testing pass Test environment and result as below: +---------------------+--------------------+------------------+-------------------+-------------------+-------------------------+----------------------+ | Environment | dpdk_meson_compile | dpdk_compile_ovs | dpdk_compile_spdk | dpdk_msvc_compile | dpdk_llvm_clang_compile | dpdk_mingw64_compile | +=====================+====================+==================+===================+===================+=========================+======================+ | CentOS Stream 9 | PASS | PASS | PASS | SKIPPED | SKIPPED | SKIPPED | +---------------------+--------------------+------------------+-------------------+-------------------+-------------------------+----------------------+ | Debian 12 | PASS | PASS | PASS | SKIPPED | SKIPPED | SKIPPED | +---------------------+--------------------+------------------+-------------------+-------------------+-------------------------+----------------------+ | Fedora 39 (Clang) | PASS | PASS | PASS | SKIPPED | SKIPPED | SKIPPED | +---------------------+--------------------+------------------+-------------------+-------------------+-------------------------+----------------------+ | Fedora 39 | PASS | PASS | PASS | SKIPPED | SKIPPED | SKIPPED | +---------------------+--------------------+------------------+-------------------+-------------------+-------------------------+----------------------+ | Fedora 40 (Clang) | PASS | PASS | PASS | SKIPPED | SKIPPED | SKIPPED | +---------------------+--------------------+------------------+-------------------+-------------------+-------------------------+----------------------+ | RHEL9 | PASS | PASS | SKIPPED | SKIPPED | SKIPPED | SKIPPED | +---------------------+--------------------+------------------+-------------------+-------------------+-------------------------+----------------------+ | Fedora 40 | PASS | PASS | PASS | SKIPPED | SKIPPED | SKIPPED | +---------------------+--------------------+------------------+-------------------+-------------------+-------------------------+----------------------+ | RHEL8 | PASS | PASS | SKIPPED | SKIPPED | SKIPPED | SKIPPED | +---------------------+--------------------+------------------+-------------------+-------------------+-------------------------+----------------------+ | openSUSE Leap 15 | PASS | PASS | SKIPPED | SKIPPED | SKIPPED | SKIPPED | +---------------------+--------------------+------------------+-------------------+-------------------+-------------------------+----------------------+ | Ubuntu 22.04 | PASS | PASS | PASS | SKIPPED | SKIPPED | SKIPPED | +---------------------+--------------------+------------------+-------------------+-------------------+-------------------------+----------------------+ | Ubuntu 24.04 | PASS | PASS | PASS | SKIPPED | SKIPPED | SKIPPED | +---------------------+--------------------+------------------+-------------------+-------------------+-------------------------+----------------------+ | Ubuntu 20.04 | PASS | SKIPPED | SKIPPED | SKIPPED | SKIPPED | SKIPPED | +---------------------+--------------------+------------------+-------------------+-------------------+-------------------------+----------------------+ | Alpine | PASS | PASS | SKIPPED | SKIPPED | SKIPPED | SKIPPED | +---------------------+--------------------+------------------+-------------------+-------------------+-------------------------+----------------------+ | FreeBSD 14.2 | PASS | SKIPPED | SKIPPED | SKIPPED | SKIPPED | SKIPPED | +---------------------+--------------------+------------------+-------------------+-------------------+-------------------------+----------------------+ | FreeBSD 13.4 | PASS | SKIPPED | SKIPPED | SKIPPED | SKIPPED | SKIPPED | +---------------------+--------------------+------------------+-------------------+-------------------+-------------------------+----------------------+ | Windows Server 2022 | SKIPPED | SKIPPED | SKIPPED | PASS | PASS | PASS | +---------------------+--------------------+------------------+-------------------+-------------------+-------------------------+----------------------+ CentOS Stream 9 Kernel: Depends on container host Compiler: gcc 11.5.0 20240719 (Red Hat 11.5.0-2) Debian 12 Kernel: Depends on container host Compiler: gcc (Debian 12.2.0-14) 12.2.0 Fedora 39 (Clang) Kernel: Depends on container host Compiler: clang 17.0.6 (Fedora 17.0.6-2.fc39) Fedora 39 Kernel: Depends on container host Compiler: gcc 13.3.1 20240522 (Red Hat 13.3.1-1) Fedora 40 (Clang) Kernel: Depends on container host Compiler: clang 18.1.8 (Fedora 18.1.8-1.fc40) RHEL9 Kernel: Depends on container host Compiler: gcc 11.5.0 20240719 (Red Hat 11.5.0-2) Fedora 40 Kernel: Depends on container host Compiler: gcc 14.2.1 20240912 (Red Hat 14.2.1-3) RHEL8 Kernel: Depends on container host Compiler: gcc 8.5.0 20210514 (Red Hat 8.5.0-22) openSUSE Leap 15 Kernel: Depends on container host Compiler: gcc (SUSE Linux) 7.5.0 Ubuntu 22.04 Kernel: Depends on container host Compiler: gcc (Ubuntu 11.4.0-1ubuntu1~22.04) 11.4.0 Ubuntu 24.04 Kernel: Depends on container host Compiler: gcc (Ubuntu 13.3.0-6ubuntu2~24.04) 13.3.0 Ubuntu 20.04 Kernel: Depends on container host Compiler: gcc (Ubuntu 9.4.0-1ubuntu1~20.04.2) 9.4.0 Alpine Kernel: Depends on container host Compiler: gcc (Alpine 14.2.0) 14.2.0 FreeBSD 14.2 Kernel: 14.2-RELEASE Compiler: clang 18.1.6 FreeBSD 13.4 Kernel: 13.4-RELEASE-p1 Compiler: clang 18.1.6 Windows Server 2022 Kernel: 10.0.20348.2031 Compiler: clang 15.0.7, gcc 14.1.0 (MinGW), and MSVC VS 19.39.33521 To view detailed results, visit: https://lab.dpdk.org/results/dashboard/tarballs/31870/ UNH-IOL DPDK Community Lab To manage your email subscriptions, visit: https://lab.dpdk.org/results/dashboard/preferences/subscriptions/