From mboxrd@z Thu Jan 1 00:00:00 1970 Return-Path: Received: from mails.dpdk.org (mails.dpdk.org [217.70.189.124]) by inbox.dpdk.org (Postfix) with ESMTP id 9564B461BE for ; Fri, 7 Feb 2025 19:37:09 +0100 (CET) Received: from mails.dpdk.org (localhost [127.0.0.1]) by mails.dpdk.org (Postfix) with ESMTP id 92CFA42ED5; Fri, 7 Feb 2025 19:37:09 +0100 (CET) Received: from mail-il1-f228.google.com (mail-il1-f228.google.com [209.85.166.228]) by mails.dpdk.org (Postfix) with ESMTP id 285CD42E90 for ; Fri, 7 Feb 2025 19:37:08 +0100 (CET) Received: by mail-il1-f228.google.com with SMTP id e9e14a558f8ab-3d04d767d3aso18245735ab.2 for ; Fri, 07 Feb 2025 10:37:08 -0800 (PST) DKIM-Signature: v=1; a=rsa-sha256; c=relaxed/relaxed; d=iol.unh.edu; s=unh-iol; t=1738953427; x=1739558227; darn=dpdk.org; h=references:in-reply-to:cc:to:from:subject:message-id:date:from:to :cc:subject:date:message-id:reply-to; bh=AIi7nMFNwj6ywDXErVtbZlfggevi/AMqYH5xyHKC3JI=; b=ahTfuVpNlGkzTPaJMXIUaKEkPSaKAcqgvVNPxv5RMnAex4idi2TDDLq8woDr92C8Dn OA9R1qlryQdlExaTrjRganAqnyNwYmiG/YyoOe9lg127p7pHgjvN/2hkSqCExc3zwL5I ZKGgU+5I7ogRsIrBrDqd/zweWF7Z/vYZYhPkM= X-Google-DKIM-Signature: v=1; a=rsa-sha256; c=relaxed/relaxed; d=1e100.net; s=20230601; t=1738953427; x=1739558227; h=references:in-reply-to:cc:to:from:subject:message-id:date :x-gm-message-state:from:to:cc:subject:date:message-id:reply-to; bh=AIi7nMFNwj6ywDXErVtbZlfggevi/AMqYH5xyHKC3JI=; b=sMRMK8UWnbjldoFcSZwQ28FQ1tTzWCJE93ZM+DG47BfJbdV6a20vytG/QsyKn2A0vS mcVAnumzswdza98iLP6Ps7T+Ats2wmiYXHg1+l/Ocqu5tbFRYfF52KzRRTD1lzUQXlxr tVxkvFMUMAROzTQdg7/qaFXC9A7MWIB/Nk8AtQMyK7JNpXSo7GR7vqmzdzjkijY+QTrC soT15tgjHa8Ep4jm58kN0YIul5x5TeQpIP9GED0seQZPDiQP0ky2pGz545Jmt49KpRb9 iysivuoqvKh8UcpHpfFrpvoPZ4QqdhO9Z90jGyvRpYKsB1N7g+2qZ//WfAx7Lbb8jrXF YX0Q== X-Gm-Message-State: AOJu0YyVCksCSbwwP8fXjtI1KqqEFRS1xWf09puG7lgdCux0tF3rp6gx zNUtFz7JfUwDaMksrlYrQf+uTGoihPYm6x2V0M4yxwn2RAvxtAZUMSFNQgDpONgQqzBC2nJ11tx XecOgGnuyWUk7Bkqsw7OrUuzgmJz1QTp42LFhm2ZB X-Gm-Gg: ASbGncsqh/x/C6r3dMU5eNyqwdH6zR2l5rjM7wk1R1JLnafNFaiNmJSWM7GEp3x48ZV Pt7+eYSP2iMncGTRaCADdFRHgNvusRjEEVI/K5dyVUv4iD7BXmD+bftpWqEpxNa8phz4Q2Y1+0h Ziy5O1HjxEadMzmnWQjv9egYZr9z+NKSqgWo686bF2iCPnEoKjNf8SwDBb7XTizm1uhgwNABkBD vX7jkrYSf3VI4RedwhqHfh9Ejbt5ViAE74xEgufVZvDmY6t9Qq/sPR7ys6XJBC2BUs8Y7F6m7HM lIvncmVzOJkXd2mb7y22V+xvW4UdJg== X-Google-Smtp-Source: AGHT+IHObxbsmQGtN1/Ffo/9KROBbxX+S4rG9QCFhx3qCGriJcQCNCRRJwQzCyy6F4h/Ofutq24FZDng9Nxg X-Received: by 2002:a05:6e02:1544:b0:3d0:4700:db17 with SMTP id e9e14a558f8ab-3d13dfd4445mr36631475ab.20.1738953427481; Fri, 07 Feb 2025 10:37:07 -0800 (PST) Received: from postal.iol.unh.edu (postal.iol.unh.edu. [132.177.123.84]) by smtp-relay.gmail.com with ESMTPS id 8926c6da1cb9f-4eccfad4f39sm255761173.67.2025.02.07.10.37.07 (version=TLS1_2 cipher=ECDHE-ECDSA-AES128-GCM-SHA256 bits=128/128); Fri, 07 Feb 2025 10:37:07 -0800 (PST) X-Relaying-Domain: iol.unh.edu Date: Fri, 07 Feb 2025 10:37:07 -0800 (PST) Message-ID: <67a652d3.050a0220.431a2.e199SMTPIN_ADDED_MISSING@mx.google.com> Received: from [172.21.0.14] (unknown [172.18.0.240]) by postal.iol.unh.edu (Postfix) with ESMTP id 0653E6052484; Fri, 7 Feb 2025 13:36:37 -0500 (EST) Subject: |SUCCESS| pw149033-149037 [PATCH] [v3,7/7] lib/mldev: eliminate depe From: dpdklab@iol.unh.edu To: Test Report Cc: dpdk-test-reports@iol.unh.edu In-Reply-To: <1733372429-3996-8-git-send-email-andremue@linux.microsoft.com> References: <1733372429-3996-8-git-send-email-andremue@linux.microsoft.com> Content-Type: text/plain X-BeenThere: test-report@dpdk.org X-Mailman-Version: 2.1.29 Precedence: list List-Id: automatic DPDK test reports List-Unsubscribe: , List-Archive: List-Post: List-Help: List-Subscribe: , Errors-To: test-report-bounces@dpdk.org Test-Label: iol-compile-amd64-testing Test-Status: SUCCESS http://dpdk.org/patch/149037 _Testing PASS_ Submitter: Andre Muezerie Date: Thursday, December 05 2024 04:20:29 DPDK git baseline: Repo:dpdk Branch: master CommitID:7df61db6c387703a36306c1aea92225921e2eeb2 149033-149037 --> testing pass Test environment and result as below: +---------------------+--------------------+------------------+-------------------+-------------------+-------------------------+----------------------+ | Environment | dpdk_meson_compile | dpdk_compile_ovs | dpdk_compile_spdk | dpdk_msvc_compile | dpdk_llvm_clang_compile | dpdk_mingw64_compile | +=====================+====================+==================+===================+===================+=========================+======================+ | Fedora 40 (Clang) | PASS | PASS | PASS | SKIPPED | SKIPPED | SKIPPED | +---------------------+--------------------+------------------+-------------------+-------------------+-------------------------+----------------------+ | Fedora 39 (Clang) | PASS | PASS | PASS | SKIPPED | SKIPPED | SKIPPED | +---------------------+--------------------+------------------+-------------------+-------------------+-------------------------+----------------------+ | Fedora 39 | PASS | PASS | PASS | SKIPPED | SKIPPED | SKIPPED | +---------------------+--------------------+------------------+-------------------+-------------------+-------------------------+----------------------+ | CentOS Stream 9 | PASS | PASS | PASS | SKIPPED | SKIPPED | SKIPPED | +---------------------+--------------------+------------------+-------------------+-------------------+-------------------------+----------------------+ | openSUSE Leap 15 | PASS | PASS | SKIPPED | SKIPPED | SKIPPED | SKIPPED | +---------------------+--------------------+------------------+-------------------+-------------------+-------------------------+----------------------+ | Fedora 40 | PASS | PASS | PASS | SKIPPED | SKIPPED | SKIPPED | +---------------------+--------------------+------------------+-------------------+-------------------+-------------------------+----------------------+ | Ubuntu 20.04 | PASS | SKIPPED | SKIPPED | SKIPPED | SKIPPED | SKIPPED | +---------------------+--------------------+------------------+-------------------+-------------------+-------------------------+----------------------+ | Debian 12 | PASS | PASS | PASS | SKIPPED | SKIPPED | SKIPPED | +---------------------+--------------------+------------------+-------------------+-------------------+-------------------------+----------------------+ | RHEL9 | PASS | PASS | SKIPPED | SKIPPED | SKIPPED | SKIPPED | +---------------------+--------------------+------------------+-------------------+-------------------+-------------------------+----------------------+ | RHEL8 | PASS | PASS | SKIPPED | SKIPPED | SKIPPED | SKIPPED | +---------------------+--------------------+------------------+-------------------+-------------------+-------------------------+----------------------+ | Ubuntu 24.04 | PASS | PASS | PASS | SKIPPED | SKIPPED | SKIPPED | +---------------------+--------------------+------------------+-------------------+-------------------+-------------------------+----------------------+ | Alpine | PASS | PASS | SKIPPED | SKIPPED | SKIPPED | SKIPPED | +---------------------+--------------------+------------------+-------------------+-------------------+-------------------------+----------------------+ | FreeBSD 14.2 | PASS | SKIPPED | SKIPPED | SKIPPED | SKIPPED | SKIPPED | +---------------------+--------------------+------------------+-------------------+-------------------+-------------------------+----------------------+ | FreeBSD 13.4 | PASS | SKIPPED | SKIPPED | SKIPPED | SKIPPED | SKIPPED | +---------------------+--------------------+------------------+-------------------+-------------------+-------------------------+----------------------+ | Ubuntu 22.04 | PASS | PASS | PASS | SKIPPED | SKIPPED | SKIPPED | +---------------------+--------------------+------------------+-------------------+-------------------+-------------------------+----------------------+ | Windows Server 2022 | SKIPPED | SKIPPED | SKIPPED | PASS | PASS | PASS | +---------------------+--------------------+------------------+-------------------+-------------------+-------------------------+----------------------+ Fedora 40 (Clang) Kernel: Depends on container host Compiler: clang 18.1.8 (Fedora 18.1.8-1.fc40) Fedora 39 (Clang) Kernel: Depends on container host Compiler: clang 17.0.6 (Fedora 17.0.6-2.fc39) Fedora 39 Kernel: Depends on container host Compiler: gcc 13.3.1 20240522 (Red Hat 13.3.1-1) CentOS Stream 9 Kernel: Depends on container host Compiler: gcc 11.5.0 20240719 (Red Hat 11.5.0-2) openSUSE Leap 15 Kernel: Depends on container host Compiler: gcc (SUSE Linux) 7.5.0 Fedora 40 Kernel: Depends on container host Compiler: gcc 14.2.1 20240912 (Red Hat 14.2.1-3) Ubuntu 20.04 Kernel: Depends on container host Compiler: gcc (Ubuntu 9.4.0-1ubuntu1~20.04.2) 9.4.0 Debian 12 Kernel: Depends on container host Compiler: gcc (Debian 12.2.0-14) 12.2.0 RHEL9 Kernel: Depends on container host Compiler: gcc 11.5.0 20240719 (Red Hat 11.5.0-2) RHEL8 Kernel: Depends on container host Compiler: gcc 8.5.0 20210514 (Red Hat 8.5.0-22) Ubuntu 24.04 Kernel: Depends on container host Compiler: gcc (Ubuntu 13.3.0-6ubuntu2~24.04) 13.3.0 Alpine Kernel: Depends on container host Compiler: gcc (Alpine 14.2.0) 14.2.0 FreeBSD 14.2 Kernel: 14.2-RELEASE Compiler: clang 18.1.6 FreeBSD 13.4 Kernel: 13.4-RELEASE-p1 Compiler: clang 18.1.6 Ubuntu 22.04 Kernel: Depends on container host Compiler: gcc (Ubuntu 11.4.0-1ubuntu1~22.04) 11.4.0 Windows Server 2022 Kernel: 10.0.20348.2031 Compiler: clang 15.0.7, gcc 14.1.0 (MinGW), and MSVC VS 19.39.33521 To view detailed results, visit: https://lab.dpdk.org/results/dashboard/patchsets/32089/ UNH-IOL DPDK Community Lab To manage your email subscriptions, visit: https://lab.dpdk.org/results/dashboard/preferences/subscriptions/