From mboxrd@z Thu Jan 1 00:00:00 1970 Return-Path: Received: from mails.dpdk.org (mails.dpdk.org [217.70.189.124]) by inbox.dpdk.org (Postfix) with ESMTP id D2822461BE for ; Fri, 7 Feb 2025 19:38:01 +0100 (CET) Received: from mails.dpdk.org (localhost [127.0.0.1]) by mails.dpdk.org (Postfix) with ESMTP id CFF1642ED5; Fri, 7 Feb 2025 19:38:01 +0100 (CET) Received: from mail-qv1-f100.google.com (mail-qv1-f100.google.com [209.85.219.100]) by mails.dpdk.org (Postfix) with ESMTP id ACD9742E90 for ; Fri, 7 Feb 2025 19:38:00 +0100 (CET) Received: by mail-qv1-f100.google.com with SMTP id 6a1803df08f44-6d92e457230so24452226d6.1 for ; Fri, 07 Feb 2025 10:38:00 -0800 (PST) DKIM-Signature: v=1; a=rsa-sha256; c=relaxed/relaxed; d=iol.unh.edu; s=unh-iol; t=1738953480; x=1739558280; darn=dpdk.org; h=references:in-reply-to:cc:to:from:subject:message-id:date:from:to :cc:subject:date:message-id:reply-to; bh=hQ4SXbum3Igme5OlZZzjsG5XSA0PPf0HTXxJ66aOgHM=; b=ZMLj6S3RBEfXgM4JLMrhqn5UwIa1RwSAsXAB92ckFDBwkh9HOi/KTI2BibIzuKLhDU LUFqGBNyULMb+lfw+L/V1SxW50QVpEMtS/pJKxj5kpOIcVuBIY0es7ZfzoLwvXuBIcZf PCgWbW6nJT85tgbEdxNYqojjgu0jg+taE1TUU= X-Google-DKIM-Signature: v=1; a=rsa-sha256; c=relaxed/relaxed; d=1e100.net; s=20230601; t=1738953480; x=1739558280; h=references:in-reply-to:cc:to:from:subject:message-id:date :x-gm-message-state:from:to:cc:subject:date:message-id:reply-to; bh=hQ4SXbum3Igme5OlZZzjsG5XSA0PPf0HTXxJ66aOgHM=; b=ZDF2ejflsLKgVSdFi9fIuS0FmGuStvJBIy09xdy9Xi7iGujarmJ3H8MfeJTS8sgCYD unrk8k1C2wdJgsmri2gXKrj6Sh/idmEo+bgLKxnkGlKDCGNrO3WSGvSLxPgBxX5xBCCp +FWNBhxLLx3lrUtuW+UCm60VwqudhDPAJT/yfU32lEe/lPnQ0lqBrYAo96W9cpJ6XEOj 4q7ZA5jI1ljbUOF0TLeB5JYnwpwz3vwT6miFe7RfmXXRYFWUKdTHWUYMMKaHxxMra1dx z0DvhbYBsJjsZ/NiZ35LZMLDdjhcrqpc4A6HYBk5voSm+JVrRnLbT+DhWfdSxxd9SbXR Vtuw== X-Gm-Message-State: AOJu0Yywuv9YdXrskkChthropl2MgKjmJ4a7aWWTksrU9pS6Y0BBPJNk r9Z8R4KpuTZMNof1c8g2YlS2M9oyeedDVN5zr0j+XilvCqASlx2Vy4C4wepoNBOXtcAiW4yTjf2 iUyK1Ehvl8KgUu0J718A33aRhN0GLYB/RCdSWDLbP X-Gm-Gg: ASbGncsA5ZiPuaLiQStKqhaAD4ZCEKvMy5gE2hx3wwAXU1UueT2KLbCeNRv1Dr6IPsx qmJ3cdPgeDHDoqbgZj0U8FbxracZjSj2bgB7wTHr0umFSv13VQTzNIU7g8rkkP4eAAFUtBgHmdP jSiGOOFXbAwz42KJGWBpGTWN0hxDV6yz9r4fWvqyNBXzRzIBzy0qPhpgHQBPaFqxWmevcHuABoS 2kfqKAbRu3NSy7iH4zYBfY2E5XEJeZCetpSr54vFIDBH0gE7/Kupm+NV1mE1SxIz6XymtssB9og 4jgwJuV95URJ3Tyaj5wjN+Z7c8ieng== X-Google-Smtp-Source: AGHT+IFDPdFM0JD/o6/g3UzoZDdpPw1+kQC4uiuetaMjzMb6WJHPXpoIGLyG+23S7dP86mViweDQdD0UmBsh X-Received: by 2002:a05:6214:20ce:b0:6e1:715f:cdd0 with SMTP id 6a1803df08f44-6e4455ed8d1mr76085806d6.16.1738953480010; Fri, 07 Feb 2025 10:38:00 -0800 (PST) Received: from postal.iol.unh.edu (postal.iol.unh.edu. [132.177.123.84]) by smtp-relay.gmail.com with ESMTPS id 6a1803df08f44-6e4483471c3sm1102166d6.32.2025.02.07.10.37.59 (version=TLS1_2 cipher=ECDHE-ECDSA-AES128-GCM-SHA256 bits=128/128); Fri, 07 Feb 2025 10:38:00 -0800 (PST) X-Relaying-Domain: iol.unh.edu Date: Fri, 07 Feb 2025 10:38:00 -0800 (PST) Message-ID: <67a65308.050a0220.62c2c.533cSMTPIN_ADDED_MISSING@mx.google.com> Received: from [172.21.0.11] (unknown [172.18.0.240]) by postal.iol.unh.edu (Postfix) with ESMTP id B5CC46052477; Fri, 7 Feb 2025 13:37:59 -0500 (EST) Subject: |SUCCESS| pw149048 [PATCH] net/mlx5: do not poll CQEs when no availa From: dpdklab@iol.unh.edu To: Test Report Cc: dpdk-test-reports@iol.unh.edu In-Reply-To: <20241206005811.948293-1-gahu@nvidia.com> References: <20241206005811.948293-1-gahu@nvidia.com> Content-Type: text/plain X-BeenThere: test-report@dpdk.org X-Mailman-Version: 2.1.29 Precedence: list List-Id: automatic DPDK test reports List-Unsubscribe: , List-Archive: List-Post: List-Help: List-Subscribe: , Errors-To: test-report-bounces@dpdk.org Test-Label: iol-compile-amd64-testing Test-Status: SUCCESS http://dpdk.org/patch/149048 _Testing PASS_ Submitter: Gavin Hu Date: Friday, December 06 2024 00:58:11 DPDK git baseline: Repo:dpdk Branch: master CommitID:1b3bf1128d9bda5595861814792f74b8f57160c8 149048 --> testing pass Test environment and result as below: +---------------------+--------------------+------------------+-------------------+-------------------+-------------------------+----------------------+ | Environment | dpdk_meson_compile | dpdk_compile_ovs | dpdk_compile_spdk | dpdk_msvc_compile | dpdk_llvm_clang_compile | dpdk_mingw64_compile | +=====================+====================+==================+===================+===================+=========================+======================+ | CentOS Stream 9 | PASS | PASS | PASS | SKIPPED | SKIPPED | SKIPPED | +---------------------+--------------------+------------------+-------------------+-------------------+-------------------------+----------------------+ | Debian 12 | PASS | PASS | PASS | SKIPPED | SKIPPED | SKIPPED | +---------------------+--------------------+------------------+-------------------+-------------------+-------------------------+----------------------+ | Fedora 40 (Clang) | PASS | PASS | PASS | SKIPPED | SKIPPED | SKIPPED | +---------------------+--------------------+------------------+-------------------+-------------------+-------------------------+----------------------+ | Fedora 39 (Clang) | PASS | PASS | PASS | SKIPPED | SKIPPED | SKIPPED | +---------------------+--------------------+------------------+-------------------+-------------------+-------------------------+----------------------+ | Fedora 39 | PASS | PASS | PASS | SKIPPED | SKIPPED | SKIPPED | +---------------------+--------------------+------------------+-------------------+-------------------+-------------------------+----------------------+ | Fedora 40 | PASS | PASS | PASS | SKIPPED | SKIPPED | SKIPPED | +---------------------+--------------------+------------------+-------------------+-------------------+-------------------------+----------------------+ | openSUSE Leap 15 | PASS | PASS | SKIPPED | SKIPPED | SKIPPED | SKIPPED | +---------------------+--------------------+------------------+-------------------+-------------------+-------------------------+----------------------+ | RHEL8 | PASS | PASS | SKIPPED | SKIPPED | SKIPPED | SKIPPED | +---------------------+--------------------+------------------+-------------------+-------------------+-------------------------+----------------------+ | RHEL9 | PASS | PASS | SKIPPED | SKIPPED | SKIPPED | SKIPPED | +---------------------+--------------------+------------------+-------------------+-------------------+-------------------------+----------------------+ | Ubuntu 20.04 | PASS | SKIPPED | SKIPPED | SKIPPED | SKIPPED | SKIPPED | +---------------------+--------------------+------------------+-------------------+-------------------+-------------------------+----------------------+ | Ubuntu 22.04 | PASS | PASS | PASS | SKIPPED | SKIPPED | SKIPPED | +---------------------+--------------------+------------------+-------------------+-------------------+-------------------------+----------------------+ | Ubuntu 24.04 | PASS | PASS | PASS | SKIPPED | SKIPPED | SKIPPED | +---------------------+--------------------+------------------+-------------------+-------------------+-------------------------+----------------------+ | Alpine | PASS | PASS | SKIPPED | SKIPPED | SKIPPED | SKIPPED | +---------------------+--------------------+------------------+-------------------+-------------------+-------------------------+----------------------+ | FreeBSD 13.4 | PASS | SKIPPED | SKIPPED | SKIPPED | SKIPPED | SKIPPED | +---------------------+--------------------+------------------+-------------------+-------------------+-------------------------+----------------------+ | FreeBSD 14.2 | PASS | SKIPPED | SKIPPED | SKIPPED | SKIPPED | SKIPPED | +---------------------+--------------------+------------------+-------------------+-------------------+-------------------------+----------------------+ | Windows Server 2022 | SKIPPED | SKIPPED | SKIPPED | PASS | PASS | PASS | +---------------------+--------------------+------------------+-------------------+-------------------+-------------------------+----------------------+ CentOS Stream 9 Kernel: Depends on container host Compiler: gcc 11.5.0 20240719 (Red Hat 11.5.0-2) Debian 12 Kernel: Depends on container host Compiler: gcc (Debian 12.2.0-14) 12.2.0 Fedora 40 (Clang) Kernel: Depends on container host Compiler: clang 18.1.8 (Fedora 18.1.8-1.fc40) Fedora 39 (Clang) Kernel: Depends on container host Compiler: clang 17.0.6 (Fedora 17.0.6-2.fc39) Fedora 39 Kernel: Depends on container host Compiler: gcc 13.3.1 20240522 (Red Hat 13.3.1-1) Fedora 40 Kernel: Depends on container host Compiler: gcc 14.2.1 20240912 (Red Hat 14.2.1-3) openSUSE Leap 15 Kernel: Depends on container host Compiler: gcc (SUSE Linux) 7.5.0 RHEL8 Kernel: Depends on container host Compiler: gcc 8.5.0 20210514 (Red Hat 8.5.0-22) RHEL9 Kernel: Depends on container host Compiler: gcc 11.5.0 20240719 (Red Hat 11.5.0-2) Ubuntu 20.04 Kernel: Depends on container host Compiler: gcc (Ubuntu 9.4.0-1ubuntu1~20.04.2) 9.4.0 Ubuntu 22.04 Kernel: Depends on container host Compiler: gcc (Ubuntu 11.4.0-1ubuntu1~22.04) 11.4.0 Ubuntu 24.04 Kernel: Depends on container host Compiler: gcc (Ubuntu 13.3.0-6ubuntu2~24.04) 13.3.0 Alpine Kernel: Depends on container host Compiler: gcc (Alpine 14.2.0) 14.2.0 FreeBSD 13.4 Kernel: 13.4-RELEASE-p1 Compiler: clang 18.1.6 FreeBSD 14.2 Kernel: 14.2-RELEASE Compiler: clang 18.1.6 Windows Server 2022 Kernel: 10.0.20348.2031 Compiler: clang 15.0.7, gcc 14.1.0 (MinGW), and MSVC VS 19.39.33521 To view detailed results, visit: https://lab.dpdk.org/results/dashboard/patchsets/32095/ UNH-IOL DPDK Community Lab To manage your email subscriptions, visit: https://lab.dpdk.org/results/dashboard/preferences/subscriptions/