From mboxrd@z Thu Jan 1 00:00:00 1970 Return-Path: Received: from mails.dpdk.org (mails.dpdk.org [217.70.189.124]) by inbox.dpdk.org (Postfix) with ESMTP id E9104461BE for ; Fri, 7 Feb 2025 19:38:07 +0100 (CET) Received: from mails.dpdk.org (localhost [127.0.0.1]) by mails.dpdk.org (Postfix) with ESMTP id E6FEC42ED5; Fri, 7 Feb 2025 19:38:07 +0100 (CET) Received: from mail-pl1-f227.google.com (mail-pl1-f227.google.com [209.85.214.227]) by mails.dpdk.org (Postfix) with ESMTP id 6DAA042E90 for ; Fri, 7 Feb 2025 19:38:04 +0100 (CET) Received: by mail-pl1-f227.google.com with SMTP id d9443c01a7336-2166651f752so54657905ad.3 for ; Fri, 07 Feb 2025 10:38:04 -0800 (PST) DKIM-Signature: v=1; a=rsa-sha256; c=relaxed/relaxed; d=iol.unh.edu; s=unh-iol; t=1738953483; x=1739558283; darn=dpdk.org; h=references:in-reply-to:cc:to:from:subject:message-id:date:from:to :cc:subject:date:message-id:reply-to; bh=pnqPteEhg61TgmV+W+Ri/pkJhoMhzB8sZZutbdlWBDQ=; b=FHfR6YZeS4eUF7JVmYEyeRxNsY9SRPGekW0zH5xO3v7RNXOh6u56B3p5Di81+oNo00 idPvCRVkLNbp+r7wGfHIEeZUOq3sVlExkil83loZoC+2/wB5nsLUCMhXeWfAPB+5dh+W sOffv4g2dTaMvSnsguaPdXsid42wCXuvB2Zbk= X-Google-DKIM-Signature: v=1; a=rsa-sha256; c=relaxed/relaxed; d=1e100.net; s=20230601; t=1738953483; x=1739558283; h=references:in-reply-to:cc:to:from:subject:message-id:date :x-gm-message-state:from:to:cc:subject:date:message-id:reply-to; bh=pnqPteEhg61TgmV+W+Ri/pkJhoMhzB8sZZutbdlWBDQ=; b=vwNecpQ6CRamH73wwGs//r41G5wHKi4UFoJ526wCL4NHAsYrhBWkvtFR3o4trezAJn 3n4wsm0ul+OTWV0bSGyXCC8gpqjBebtRTPfR1wj595dQ6s20edYMhtrLp8vAYEh+20Dy iOiqfG9K+20CihUp6+eWowW+FqGgq17DXRiPnJe/PGymm0RJuwo53ey0sekusxfVQE2J zNk0pcklvtWaG+zskJCUppbnMyk7FCB5KvZBJWvxnSLnfUDF+ervpyDl7Nu8Dk3/WYSU HBmHQvmgWLyhv/l6SZUdX8uPPPwpc/e5bKjSjfCn/vG+3rjjtZOvNcTBsTyEecuWhVKM ykrA== X-Gm-Message-State: AOJu0YzbYe/Vt+UqB8C1mzjnJ4Ye1g1Jw0LiE9dbIald1k2Uzd3WoMQY NXESzg/4lQxahcTwa3YXNLAOpJniZp+kQJ9h0Pst4DUNShDERvOoPQMJ1KCvx5TSuJKy3dfmCqT 2nbuCjVynRQxBzOSaRapRHhIIBj/SsKnnFwaeHuX6 X-Gm-Gg: ASbGncthDD1kTEBacgealQWJ9EcRgC0SLm1fup/DeHLZqWU01WrI7Me78bYRg3SGamv LMDU9gMD7UYVBZsgLOs4j/1ajo8fvQ2yGy5tAsWN3AX5DIFcp74bIHnFDM6cnu/kFIF2tDwxtIP IPgay937+9qRCvk4CyMhHbGvQDvuTO5s4UCNogPxZBSGH6jqcV765JctXHIZ0AVNQH8CBxCjZ0F 78Ld6o2yYiFVlOzw+Lnddi/GAtTThSV2fQdVIUokk5u0XAL1R78Fdgp9KVKNXixHVmomT1AA9wk C34ivh/sAkZG1bg19wH/lGaC+z/eWA== X-Google-Smtp-Source: AGHT+IESo43BZ7R+2j0Ojb2lW/qri8ba8GdC4eGahH/WMWVg9gSTIbnSXQu3bGRkaNMpFoCHYPLBYSFVfXcJ X-Received: by 2002:a05:6a21:8dc8:b0:1e1:9bea:659e with SMTP id adf61e73a8af0-1ee03b76d38mr8320694637.35.1738953483626; Fri, 07 Feb 2025 10:38:03 -0800 (PST) Received: from postal.iol.unh.edu (postal.iol.unh.edu. [132.177.123.84]) by smtp-relay.gmail.com with ESMTPS id d2e1a72fcca58-73048c290c0sm178544b3a.21.2025.02.07.10.38.03 (version=TLS1_2 cipher=ECDHE-ECDSA-AES128-GCM-SHA256 bits=128/128); Fri, 07 Feb 2025 10:38:03 -0800 (PST) X-Relaying-Domain: iol.unh.edu Date: Fri, 07 Feb 2025 10:38:03 -0800 (PST) Message-ID: <67a6530b.a70a0220.14e7df.9bb7SMTPIN_ADDED_MISSING@mx.google.com> Received: from [172.21.0.12] (unknown [172.18.0.240]) by postal.iol.unh.edu (Postfix) with ESMTP id C23B46052477; Fri, 7 Feb 2025 13:38:02 -0500 (EST) Subject: |SUCCESS| pw149065 [PATCH] [V1] doc: add tested Intel platforms two From: dpdklab@iol.unh.edu To: Test Report Cc: dpdk-test-reports@iol.unh.edu In-Reply-To: <20241206053928.1640200-1-linglix.chen@intel.com> References: <20241206053928.1640200-1-linglix.chen@intel.com> Content-Type: text/plain X-BeenThere: test-report@dpdk.org X-Mailman-Version: 2.1.29 Precedence: list List-Id: automatic DPDK test reports List-Unsubscribe: , List-Archive: List-Post: List-Help: List-Subscribe: , Errors-To: test-report-bounces@dpdk.org Test-Label: iol-compile-amd64-testing Test-Status: SUCCESS http://dpdk.org/patch/149065 _Testing PASS_ Submitter: Lingli Chen Date: Friday, December 06 2024 05:39:28 DPDK git baseline: Repo:dpdk Branch: master CommitID:7df61db6c387703a36306c1aea92225921e2eeb2 149065 --> testing pass Test environment and result as below: +---------------------+--------------------+------------------+-------------------+-------------------+-------------------------+----------------------+ | Environment | dpdk_meson_compile | dpdk_compile_ovs | dpdk_compile_spdk | dpdk_msvc_compile | dpdk_llvm_clang_compile | dpdk_mingw64_compile | +=====================+====================+==================+===================+===================+=========================+======================+ | CentOS Stream 9 | PASS | PASS | PASS | SKIPPED | SKIPPED | SKIPPED | +---------------------+--------------------+------------------+-------------------+-------------------+-------------------------+----------------------+ | Debian 12 | PASS | PASS | PASS | SKIPPED | SKIPPED | SKIPPED | +---------------------+--------------------+------------------+-------------------+-------------------+-------------------------+----------------------+ | Fedora 39 (Clang) | PASS | PASS | PASS | SKIPPED | SKIPPED | SKIPPED | +---------------------+--------------------+------------------+-------------------+-------------------+-------------------------+----------------------+ | Fedora 39 | PASS | PASS | PASS | SKIPPED | SKIPPED | SKIPPED | +---------------------+--------------------+------------------+-------------------+-------------------+-------------------------+----------------------+ | Fedora 40 (Clang) | PASS | PASS | PASS | SKIPPED | SKIPPED | SKIPPED | +---------------------+--------------------+------------------+-------------------+-------------------+-------------------------+----------------------+ | RHEL8 | PASS | PASS | SKIPPED | SKIPPED | SKIPPED | SKIPPED | +---------------------+--------------------+------------------+-------------------+-------------------+-------------------------+----------------------+ | openSUSE Leap 15 | PASS | PASS | SKIPPED | SKIPPED | SKIPPED | SKIPPED | +---------------------+--------------------+------------------+-------------------+-------------------+-------------------------+----------------------+ | Fedora 40 | PASS | PASS | PASS | SKIPPED | SKIPPED | SKIPPED | +---------------------+--------------------+------------------+-------------------+-------------------+-------------------------+----------------------+ | Ubuntu 22.04 | PASS | PASS | PASS | SKIPPED | SKIPPED | SKIPPED | +---------------------+--------------------+------------------+-------------------+-------------------+-------------------------+----------------------+ | RHEL9 | PASS | PASS | SKIPPED | SKIPPED | SKIPPED | SKIPPED | +---------------------+--------------------+------------------+-------------------+-------------------+-------------------------+----------------------+ | Ubuntu 20.04 | PASS | SKIPPED | SKIPPED | SKIPPED | SKIPPED | SKIPPED | +---------------------+--------------------+------------------+-------------------+-------------------+-------------------------+----------------------+ | Ubuntu 24.04 | PASS | PASS | PASS | SKIPPED | SKIPPED | SKIPPED | +---------------------+--------------------+------------------+-------------------+-------------------+-------------------------+----------------------+ | Alpine | PASS | PASS | SKIPPED | SKIPPED | SKIPPED | SKIPPED | +---------------------+--------------------+------------------+-------------------+-------------------+-------------------------+----------------------+ | FreeBSD 13.4 | PASS | SKIPPED | SKIPPED | SKIPPED | SKIPPED | SKIPPED | +---------------------+--------------------+------------------+-------------------+-------------------+-------------------------+----------------------+ | FreeBSD 14.2 | PASS | SKIPPED | SKIPPED | SKIPPED | SKIPPED | SKIPPED | +---------------------+--------------------+------------------+-------------------+-------------------+-------------------------+----------------------+ | Windows Server 2022 | SKIPPED | SKIPPED | SKIPPED | PASS | PASS | PASS | +---------------------+--------------------+------------------+-------------------+-------------------+-------------------------+----------------------+ CentOS Stream 9 Kernel: Depends on container host Compiler: gcc 11.5.0 20240719 (Red Hat 11.5.0-2) Debian 12 Kernel: Depends on container host Compiler: gcc (Debian 12.2.0-14) 12.2.0 Fedora 39 (Clang) Kernel: Depends on container host Compiler: clang 17.0.6 (Fedora 17.0.6-2.fc39) Fedora 39 Kernel: Depends on container host Compiler: gcc 13.3.1 20240522 (Red Hat 13.3.1-1) Fedora 40 (Clang) Kernel: Depends on container host Compiler: clang 18.1.8 (Fedora 18.1.8-1.fc40) RHEL8 Kernel: Depends on container host Compiler: gcc 8.5.0 20210514 (Red Hat 8.5.0-22) openSUSE Leap 15 Kernel: Depends on container host Compiler: gcc (SUSE Linux) 7.5.0 Fedora 40 Kernel: Depends on container host Compiler: gcc 14.2.1 20240912 (Red Hat 14.2.1-3) Ubuntu 22.04 Kernel: Depends on container host Compiler: gcc (Ubuntu 11.4.0-1ubuntu1~22.04) 11.4.0 RHEL9 Kernel: Depends on container host Compiler: gcc 11.5.0 20240719 (Red Hat 11.5.0-2) Ubuntu 20.04 Kernel: Depends on container host Compiler: gcc (Ubuntu 9.4.0-1ubuntu1~20.04.2) 9.4.0 Ubuntu 24.04 Kernel: Depends on container host Compiler: gcc (Ubuntu 13.3.0-6ubuntu2~24.04) 13.3.0 Alpine Kernel: Depends on container host Compiler: gcc (Alpine 14.2.0) 14.2.0 FreeBSD 13.4 Kernel: 13.4-RELEASE-p1 Compiler: clang 18.1.6 FreeBSD 14.2 Kernel: 14.2-RELEASE Compiler: clang 18.1.6 Windows Server 2022 Kernel: 10.0.20348.2031 Compiler: clang 15.0.7, gcc 14.1.0 (MinGW), and MSVC VS 19.39.33521 To view detailed results, visit: https://lab.dpdk.org/results/dashboard/patchsets/32098/ UNH-IOL DPDK Community Lab To manage your email subscriptions, visit: https://lab.dpdk.org/results/dashboard/preferences/subscriptions/