From mboxrd@z Thu Jan 1 00:00:00 1970 Return-Path: Received: from mails.dpdk.org (mails.dpdk.org [217.70.189.124]) by inbox.dpdk.org (Postfix) with ESMTP id 0B36B461BE for ; Fri, 7 Feb 2025 19:38:12 +0100 (CET) Received: from mails.dpdk.org (localhost [127.0.0.1]) by mails.dpdk.org (Postfix) with ESMTP id 0436942ED5; Fri, 7 Feb 2025 19:38:12 +0100 (CET) Received: from mail-pl1-f227.google.com (mail-pl1-f227.google.com [209.85.214.227]) by mails.dpdk.org (Postfix) with ESMTP id 8A27A42E90 for ; Fri, 7 Feb 2025 19:38:10 +0100 (CET) Received: by mail-pl1-f227.google.com with SMTP id d9443c01a7336-21f5a224544so10490965ad.0 for ; Fri, 07 Feb 2025 10:38:10 -0800 (PST) DKIM-Signature: v=1; a=rsa-sha256; c=relaxed/relaxed; d=iol.unh.edu; s=unh-iol; t=1738953490; x=1739558290; darn=dpdk.org; h=references:in-reply-to:cc:to:from:subject:message-id:date:from:to :cc:subject:date:message-id:reply-to; bh=LniwGZRdL8o7mL1kg7YfoMK2VzYjyFB57dwy5nIGxnY=; b=R/8eCXM9UL9o3L3ANmRKJlIlZbA1g21LO15aczcXuHJ2QL9yc8bQCJIMf8pOnsL3px MO+R9xQ4H+qykwyn2vhsgeQiltYN8Eg46HKI9KeOYm4HgWeDq6sBgE3W8jB5CrUVTkok ylScEayhTta8dmogOBFukmtLL7BSBPiLwR5Jo= X-Google-DKIM-Signature: v=1; a=rsa-sha256; c=relaxed/relaxed; d=1e100.net; s=20230601; t=1738953490; x=1739558290; h=references:in-reply-to:cc:to:from:subject:message-id:date :x-gm-message-state:from:to:cc:subject:date:message-id:reply-to; bh=LniwGZRdL8o7mL1kg7YfoMK2VzYjyFB57dwy5nIGxnY=; b=raxJds3ULpxpnou0UCiRicY0HZDwPEEuOD+KBXUDQMZerDx4h9t7obTRPNfpp/xyCn KAmBPX5lO9cI1svqxV+wPDCUztiKBRuGMP2gbJv9cxL1Ak/6gf5oGyk66k1Tp3VFJUXm Hlb2VKdNEWSJGp7uy8cftP4g01hMpqFSePBYCt1q6ze4MpxfVr+LpWmaqngKmjO7324f dv8UUoNovY9/A4/FBqotNug4bdV/kMqougL9OGcZb6j+QWjY45eNwbogpPIfEv7jUH+Y wSE1UjBEko7jMY83PmEWW+BqS+aClEwP5NjvOFB1+7YhSxN6d3jeaNY0k+VxfPhC3L4a ZHRQ== X-Gm-Message-State: AOJu0Yx9weF5eIGX4F2UPgz9rVzvJY3UMVElrPwk+/wknqLWpN33GT8B tUGiwMcAnJO0Gx0xZvW0Bra/C7L6gdlJn2ttNVhwmYT9tK0BLTjHLQt0EOQbIVg2wfluItCiof+ 16f2J+9NsoWFvYjKLgtDqp4oP55ypSbzF9qHQ60pv X-Gm-Gg: ASbGncsqc7sengKgJ2uiJsXIP6msir+HAw3ME4okkPGuH5bEs2lCpLGKiJ1rJmo//hN syD4jSgLjTWOw/O+UhUnLyFBwIWwCw+YUzBqq28zRZy5B32StYWX+ONuma2vKvrI83lwUENLZ5B W4kUymYlHIPhG4KxgiJKK/XqmHRLaIwO0AAiM2NBjXjRpveAcLpD3Sr6IyIDx2JZv9dbVP+SpWe 0JcEaicFZhjyeA9gao1h63z5hsCzIh+i0Mn9rOH2gGmMKsKn6HfAkvqovWimdc6tMMpj4bHcOed IHgCLxrB/zfS51Rozw6I8tjJ/t7Tkg== X-Google-Smtp-Source: AGHT+IHQMHe3uutuS/1c91gAw2Kk/j98nvoUYBKEHerQCNPtMFyWH51R8hhxxrgTxU9kVdeRWIa60mhXFR+u X-Received: by 2002:a17:903:1c4:b0:21b:d105:26b9 with SMTP id d9443c01a7336-21f4e6c3f37mr68690355ad.16.1738953489404; Fri, 07 Feb 2025 10:38:09 -0800 (PST) Received: from postal.iol.unh.edu (postal.iol.unh.edu. [132.177.123.84]) by smtp-relay.gmail.com with ESMTPS id d9443c01a7336-21f51a8e67dsm1220295ad.96.2025.02.07.10.38.09 (version=TLS1_2 cipher=ECDHE-ECDSA-AES128-GCM-SHA256 bits=128/128); Fri, 07 Feb 2025 10:38:09 -0800 (PST) X-Relaying-Domain: iol.unh.edu Date: Fri, 07 Feb 2025 10:38:09 -0800 (PST) Message-ID: <67a65311.170a0220.df711.5f48SMTPIN_ADDED_MISSING@mx.google.com> Received: from [172.21.0.5] (unknown [172.18.0.240]) by postal.iol.unh.edu (Postfix) with ESMTP id 87C5B6052471; Fri, 7 Feb 2025 13:37:38 -0500 (EST) Subject: |SUCCESS| pw149049 [PATCH] net/ice/base: support switch recipe reuse From: dpdklab@iol.unh.edu To: Test Report Cc: dpdk-test-reports@iol.unh.edu In-Reply-To: <20241206013825.2101540-1-zhichaox.zeng@intel.com> References: <20241206013825.2101540-1-zhichaox.zeng@intel.com> Content-Type: text/plain X-BeenThere: test-report@dpdk.org X-Mailman-Version: 2.1.29 Precedence: list List-Id: automatic DPDK test reports List-Unsubscribe: , List-Archive: List-Post: List-Help: List-Subscribe: , Errors-To: test-report-bounces@dpdk.org Test-Label: iol-compile-amd64-testing Test-Status: SUCCESS http://dpdk.org/patch/149049 _Testing PASS_ Submitter: Zeng, ZhichaoX Date: Friday, December 06 2024 01:38:25 DPDK git baseline: Repo:dpdk Branch: master CommitID:ce85dd8562ad9673eb4fe46b4a8bd3a508e8b32f 149049 --> testing pass Test environment and result as below: +---------------------+--------------------+------------------+-------------------+-------------------+-------------------------+----------------------+ | Environment | dpdk_meson_compile | dpdk_compile_ovs | dpdk_compile_spdk | dpdk_msvc_compile | dpdk_llvm_clang_compile | dpdk_mingw64_compile | +=====================+====================+==================+===================+===================+=========================+======================+ | CentOS Stream 9 | PASS | PASS | PASS | SKIPPED | SKIPPED | SKIPPED | +---------------------+--------------------+------------------+-------------------+-------------------+-------------------------+----------------------+ | Debian 12 | PASS | PASS | PASS | SKIPPED | SKIPPED | SKIPPED | +---------------------+--------------------+------------------+-------------------+-------------------+-------------------------+----------------------+ | Fedora 40 (Clang) | PASS | PASS | PASS | SKIPPED | SKIPPED | SKIPPED | +---------------------+--------------------+------------------+-------------------+-------------------+-------------------------+----------------------+ | Fedora 39 | PASS | PASS | PASS | SKIPPED | SKIPPED | SKIPPED | +---------------------+--------------------+------------------+-------------------+-------------------+-------------------------+----------------------+ | Fedora 39 (Clang) | PASS | PASS | PASS | SKIPPED | SKIPPED | SKIPPED | +---------------------+--------------------+------------------+-------------------+-------------------+-------------------------+----------------------+ | openSUSE Leap 15 | PASS | PASS | SKIPPED | SKIPPED | SKIPPED | SKIPPED | +---------------------+--------------------+------------------+-------------------+-------------------+-------------------------+----------------------+ | Fedora 40 | PASS | PASS | PASS | SKIPPED | SKIPPED | SKIPPED | +---------------------+--------------------+------------------+-------------------+-------------------+-------------------------+----------------------+ | RHEL8 | PASS | PASS | SKIPPED | SKIPPED | SKIPPED | SKIPPED | +---------------------+--------------------+------------------+-------------------+-------------------+-------------------------+----------------------+ | FreeBSD 13.4 | PASS | SKIPPED | SKIPPED | SKIPPED | SKIPPED | SKIPPED | +---------------------+--------------------+------------------+-------------------+-------------------+-------------------------+----------------------+ | RHEL9 | PASS | PASS | SKIPPED | SKIPPED | SKIPPED | SKIPPED | +---------------------+--------------------+------------------+-------------------+-------------------+-------------------------+----------------------+ | Ubuntu 20.04 | PASS | SKIPPED | SKIPPED | SKIPPED | SKIPPED | SKIPPED | +---------------------+--------------------+------------------+-------------------+-------------------+-------------------------+----------------------+ | Ubuntu 22.04 | PASS | PASS | PASS | SKIPPED | SKIPPED | SKIPPED | +---------------------+--------------------+------------------+-------------------+-------------------+-------------------------+----------------------+ | Ubuntu 24.04 | PASS | PASS | PASS | SKIPPED | SKIPPED | SKIPPED | +---------------------+--------------------+------------------+-------------------+-------------------+-------------------------+----------------------+ | Alpine | PASS | PASS | SKIPPED | SKIPPED | SKIPPED | SKIPPED | +---------------------+--------------------+------------------+-------------------+-------------------+-------------------------+----------------------+ | FreeBSD 14.2 | PASS | SKIPPED | SKIPPED | SKIPPED | SKIPPED | SKIPPED | +---------------------+--------------------+------------------+-------------------+-------------------+-------------------------+----------------------+ | Windows Server 2022 | SKIPPED | SKIPPED | SKIPPED | PASS | PASS | PASS | +---------------------+--------------------+------------------+-------------------+-------------------+-------------------------+----------------------+ CentOS Stream 9 Kernel: Depends on container host Compiler: gcc 11.5.0 20240719 (Red Hat 11.5.0-2) Debian 12 Kernel: Depends on container host Compiler: gcc (Debian 12.2.0-14) 12.2.0 Fedora 40 (Clang) Kernel: Depends on container host Compiler: clang 18.1.8 (Fedora 18.1.8-1.fc40) Fedora 39 Kernel: Depends on container host Compiler: gcc 13.3.1 20240522 (Red Hat 13.3.1-1) Fedora 39 (Clang) Kernel: Depends on container host Compiler: clang 17.0.6 (Fedora 17.0.6-2.fc39) openSUSE Leap 15 Kernel: Depends on container host Compiler: gcc (SUSE Linux) 7.5.0 Fedora 40 Kernel: Depends on container host Compiler: gcc 14.2.1 20240912 (Red Hat 14.2.1-3) RHEL8 Kernel: Depends on container host Compiler: gcc 8.5.0 20210514 (Red Hat 8.5.0-22) FreeBSD 13.4 Kernel: 13.4-RELEASE-p1 Compiler: clang 18.1.6 RHEL9 Kernel: Depends on container host Compiler: gcc 11.5.0 20240719 (Red Hat 11.5.0-2) Ubuntu 20.04 Kernel: Depends on container host Compiler: gcc (Ubuntu 9.4.0-1ubuntu1~20.04.2) 9.4.0 Ubuntu 22.04 Kernel: Depends on container host Compiler: gcc (Ubuntu 11.4.0-1ubuntu1~22.04) 11.4.0 Ubuntu 24.04 Kernel: Depends on container host Compiler: gcc (Ubuntu 13.3.0-6ubuntu2~24.04) 13.3.0 Alpine Kernel: Depends on container host Compiler: gcc (Alpine 14.2.0) 14.2.0 FreeBSD 14.2 Kernel: 14.2-RELEASE Compiler: clang 18.1.6 Windows Server 2022 Kernel: 10.0.20348.2031 Compiler: clang 15.0.7, gcc 14.1.0 (MinGW), and MSVC VS 19.39.33521 To view detailed results, visit: https://lab.dpdk.org/results/dashboard/patchsets/32096/ UNH-IOL DPDK Community Lab To manage your email subscriptions, visit: https://lab.dpdk.org/results/dashboard/preferences/subscriptions/