From mboxrd@z Thu Jan 1 00:00:00 1970 Return-Path: Received: from mails.dpdk.org (mails.dpdk.org [217.70.189.124]) by inbox.dpdk.org (Postfix) with ESMTP id 20A14461BE for ; Fri, 7 Feb 2025 19:38:15 +0100 (CET) Received: from mails.dpdk.org (localhost [127.0.0.1]) by mails.dpdk.org (Postfix) with ESMTP id 1E3BC42ED5; Fri, 7 Feb 2025 19:38:15 +0100 (CET) Received: from mail-pj1-f98.google.com (mail-pj1-f98.google.com [209.85.216.98]) by mails.dpdk.org (Postfix) with ESMTP id C1BF442E90 for ; Fri, 7 Feb 2025 19:38:12 +0100 (CET) Received: by mail-pj1-f98.google.com with SMTP id 98e67ed59e1d1-2f9bac7699aso3575392a91.1 for ; Fri, 07 Feb 2025 10:38:12 -0800 (PST) DKIM-Signature: v=1; a=rsa-sha256; c=relaxed/relaxed; d=iol.unh.edu; s=unh-iol; t=1738953492; x=1739558292; darn=dpdk.org; h=references:in-reply-to:cc:to:from:subject:message-id:date:from:to :cc:subject:date:message-id:reply-to; bh=ZilU/l0Vy9JhJdYiZrfmTsoAlI/XdAAtAmnCbvbtaqI=; b=frzcwuBUIBNXEmaxSIbdjhxxeAgiw3162WaLjkQ2zwvLCyRcieUsGTK9ZXiOFvyrbw ZxlgdVh6ZUNlCBECrVyFITuJH5WUYvWCEdrfmuxsOtAlFs98YzPmaFZjPLRe8eWGJuOD bwnVqR/5urNVGfXPjZMPCKUNeOnmFPrskP+Tc= X-Google-DKIM-Signature: v=1; a=rsa-sha256; c=relaxed/relaxed; d=1e100.net; s=20230601; t=1738953492; x=1739558292; h=references:in-reply-to:cc:to:from:subject:message-id:date :x-gm-message-state:from:to:cc:subject:date:message-id:reply-to; bh=ZilU/l0Vy9JhJdYiZrfmTsoAlI/XdAAtAmnCbvbtaqI=; b=K6J56/Ii+nhje1fov1mF69Eass+60uZ/SkrzKnNxSw3QvLacnICk6Wfzd+hgE5otdz D33ApSqeTQpf+Lm1WEYo5rg72vIktW6rM0Eq+tbu/A2PVUnP/IEAWT2sSHYDyw/Gvi5/ HOw1HWiH2kllsVnm+GOQJ/pEKXJamN7tV7dq6u7wscml8Rua2i9t3UrbuMy2gvystFAs QoNbyi7yY33mWMMYwymfEKrNR5D7PwRbHMfU1DgWRM6XoQ+nQPr3SLcHPBAPZWst8f8X krToEzHlvKQIPpfpJ/n3TzzKsWfxM0uatoUFBPItoFt7EZ+Q8/Zz7l+OZDdCkAJwi5hQ HJDw== X-Gm-Message-State: AOJu0YwCy56oEFMgTs5dmAgRUwFAD4tXks6+jXeBMHv5xaUwAmPkl7Vy Ew4G3qMQddkCe3Gp/YLzO9mpuk0wZLQaJETRnlTWvr9vZmo2LSN/l5B52f1xuGc8Igzxr7hj2xy e6bF+dOpZcFJu6U+o4hUJlJwmOHpNQpw+CXzTHswS X-Gm-Gg: ASbGncsMrIjUBVx9kiILAX5t0vIRCBcS+2FyCHmaOi8Y8qCbcMP/dtOg0OzQq6vCHu1 Vp0TyVENvVKkMChTTR+ZoBiBtrgrydun1YQX4exqIgurA2qyRcJETebAiKAXFhfj/Mn2ZEy730n eaqbCtkMAlVa2mtM2dPVACE+oHs36DDJwNDougm8UvG7UhNAKHM3dFa4h6VtlzPlaUF1jPdsqrj TCuAACr4UV0nGtVXDJbqNX2pr3TKn48JnFmE0Xl5b/ClMBMh3rE19ekrXIYpzhOkqizHsvcKHhc fYO+jhkoMGL2jaKBINzyIkpcGccHtQ== X-Google-Smtp-Source: AGHT+IGuubSAgscQ4j//N/08LQdTaM4XLm5mIOUnvtRaR88X0aTiWXpyxchqtA8SOX4jxdAN9gSyqmM0cIGk X-Received: by 2002:a17:90a:da87:b0:2f7:7680:51a6 with SMTP id 98e67ed59e1d1-2fa23f5eb94mr5507396a91.6.1738953492010; Fri, 07 Feb 2025 10:38:12 -0800 (PST) Received: from postal.iol.unh.edu (postal.iol.unh.edu. [132.177.123.84]) by smtp-relay.gmail.com with ESMTPS id 98e67ed59e1d1-2fa09a69b7asm295473a91.8.2025.02.07.10.38.11 (version=TLS1_2 cipher=ECDHE-ECDSA-AES128-GCM-SHA256 bits=128/128); Fri, 07 Feb 2025 10:38:12 -0800 (PST) X-Relaying-Domain: iol.unh.edu Date: Fri, 07 Feb 2025 10:38:12 -0800 (PST) Message-ID: <67a65314.170a0220.1b9c5.fec6SMTPIN_ADDED_MISSING@mx.google.com> Received: from [172.21.0.6] (unknown [172.18.0.240]) by postal.iol.unh.edu (Postfix) with ESMTP id 3ADA76052472; Fri, 7 Feb 2025 13:37:41 -0500 (EST) Subject: |SUCCESS| pw149070 [PATCH] [v2] net/mlx5: fix hypervisor detection i From: dpdklab@iol.unh.edu To: Test Report Cc: dpdk-test-reports@iol.unh.edu In-Reply-To: <20241206142605.2582139-1-viacheslavo@nvidia.com> References: <20241206142605.2582139-1-viacheslavo@nvidia.com> Content-Type: text/plain X-BeenThere: test-report@dpdk.org X-Mailman-Version: 2.1.29 Precedence: list List-Id: automatic DPDK test reports List-Unsubscribe: , List-Archive: List-Post: List-Help: List-Subscribe: , Errors-To: test-report-bounces@dpdk.org Test-Label: iol-compile-amd64-testing Test-Status: SUCCESS http://dpdk.org/patch/149070 _Testing PASS_ Submitter: Slava Ovsiienko Date: Friday, December 06 2024 14:26:05 DPDK git baseline: Repo:dpdk Branch: master CommitID:1b3bf1128d9bda5595861814792f74b8f57160c8 149070 --> testing pass Test environment and result as below: +---------------------+--------------------+------------------+-------------------+-------------------+-------------------------+----------------------+ | Environment | dpdk_meson_compile | dpdk_compile_ovs | dpdk_compile_spdk | dpdk_msvc_compile | dpdk_llvm_clang_compile | dpdk_mingw64_compile | +=====================+====================+==================+===================+===================+=========================+======================+ | CentOS Stream 9 | PASS | PASS | PASS | SKIPPED | SKIPPED | SKIPPED | +---------------------+--------------------+------------------+-------------------+-------------------+-------------------------+----------------------+ | Debian 12 | PASS | PASS | PASS | SKIPPED | SKIPPED | SKIPPED | +---------------------+--------------------+------------------+-------------------+-------------------+-------------------------+----------------------+ | Fedora 39 (Clang) | PASS | PASS | PASS | SKIPPED | SKIPPED | SKIPPED | +---------------------+--------------------+------------------+-------------------+-------------------+-------------------------+----------------------+ | Fedora 39 | PASS | PASS | PASS | SKIPPED | SKIPPED | SKIPPED | +---------------------+--------------------+------------------+-------------------+-------------------+-------------------------+----------------------+ | Fedora 40 (Clang) | PASS | PASS | PASS | SKIPPED | SKIPPED | SKIPPED | +---------------------+--------------------+------------------+-------------------+-------------------+-------------------------+----------------------+ | Fedora 40 | PASS | PASS | PASS | SKIPPED | SKIPPED | SKIPPED | +---------------------+--------------------+------------------+-------------------+-------------------+-------------------------+----------------------+ | openSUSE Leap 15 | PASS | PASS | SKIPPED | SKIPPED | SKIPPED | SKIPPED | +---------------------+--------------------+------------------+-------------------+-------------------+-------------------------+----------------------+ | RHEL8 | PASS | PASS | SKIPPED | SKIPPED | SKIPPED | SKIPPED | +---------------------+--------------------+------------------+-------------------+-------------------+-------------------------+----------------------+ | Ubuntu 20.04 | PASS | SKIPPED | SKIPPED | SKIPPED | SKIPPED | SKIPPED | +---------------------+--------------------+------------------+-------------------+-------------------+-------------------------+----------------------+ | RHEL9 | PASS | PASS | SKIPPED | SKIPPED | SKIPPED | SKIPPED | +---------------------+--------------------+------------------+-------------------+-------------------+-------------------------+----------------------+ | Ubuntu 22.04 | PASS | PASS | PASS | SKIPPED | SKIPPED | SKIPPED | +---------------------+--------------------+------------------+-------------------+-------------------+-------------------------+----------------------+ | Alpine | PASS | PASS | SKIPPED | SKIPPED | SKIPPED | SKIPPED | +---------------------+--------------------+------------------+-------------------+-------------------+-------------------------+----------------------+ | Ubuntu 24.04 | PASS | PASS | PASS | SKIPPED | SKIPPED | SKIPPED | +---------------------+--------------------+------------------+-------------------+-------------------+-------------------------+----------------------+ | FreeBSD 13.4 | PASS | SKIPPED | SKIPPED | SKIPPED | SKIPPED | SKIPPED | +---------------------+--------------------+------------------+-------------------+-------------------+-------------------------+----------------------+ | FreeBSD 14.2 | PASS | SKIPPED | SKIPPED | SKIPPED | SKIPPED | SKIPPED | +---------------------+--------------------+------------------+-------------------+-------------------+-------------------------+----------------------+ | Windows Server 2022 | SKIPPED | SKIPPED | SKIPPED | PASS | PASS | PASS | +---------------------+--------------------+------------------+-------------------+-------------------+-------------------------+----------------------+ CentOS Stream 9 Kernel: Depends on container host Compiler: gcc 11.5.0 20240719 (Red Hat 11.5.0-2) Debian 12 Kernel: Depends on container host Compiler: gcc (Debian 12.2.0-14) 12.2.0 Fedora 39 (Clang) Kernel: Depends on container host Compiler: clang 17.0.6 (Fedora 17.0.6-2.fc39) Fedora 39 Kernel: Depends on container host Compiler: gcc 13.3.1 20240522 (Red Hat 13.3.1-1) Fedora 40 (Clang) Kernel: Depends on container host Compiler: clang 18.1.8 (Fedora 18.1.8-1.fc40) Fedora 40 Kernel: Depends on container host Compiler: gcc 14.2.1 20240912 (Red Hat 14.2.1-3) openSUSE Leap 15 Kernel: Depends on container host Compiler: gcc (SUSE Linux) 7.5.0 RHEL8 Kernel: Depends on container host Compiler: gcc 8.5.0 20210514 (Red Hat 8.5.0-22) Ubuntu 20.04 Kernel: Depends on container host Compiler: gcc (Ubuntu 9.4.0-1ubuntu1~20.04.2) 9.4.0 RHEL9 Kernel: Depends on container host Compiler: gcc 11.5.0 20240719 (Red Hat 11.5.0-2) Ubuntu 22.04 Kernel: Depends on container host Compiler: gcc (Ubuntu 11.4.0-1ubuntu1~22.04) 11.4.0 Alpine Kernel: Depends on container host Compiler: gcc (Alpine 14.2.0) 14.2.0 Ubuntu 24.04 Kernel: Depends on container host Compiler: gcc (Ubuntu 13.3.0-6ubuntu2~24.04) 13.3.0 FreeBSD 13.4 Kernel: 13.4-RELEASE-p1 Compiler: clang 18.1.6 FreeBSD 14.2 Kernel: 14.2-RELEASE Compiler: clang 18.1.6 Windows Server 2022 Kernel: 10.0.20348.2031 Compiler: clang 15.0.7, gcc 14.1.0 (MinGW), and MSVC VS 19.39.33521 To view detailed results, visit: https://lab.dpdk.org/results/dashboard/patchsets/32101/ UNH-IOL DPDK Community Lab To manage your email subscriptions, visit: https://lab.dpdk.org/results/dashboard/preferences/subscriptions/