From mboxrd@z Thu Jan 1 00:00:00 1970 Return-Path: Received: from mails.dpdk.org (mails.dpdk.org [217.70.189.124]) by inbox.dpdk.org (Postfix) with ESMTP id 3A87A461BE for ; Fri, 7 Feb 2025 19:38:22 +0100 (CET) Received: from mails.dpdk.org (localhost [127.0.0.1]) by mails.dpdk.org (Postfix) with ESMTP id 34DA842ED5; Fri, 7 Feb 2025 19:38:22 +0100 (CET) Received: from mail-ot1-f99.google.com (mail-ot1-f99.google.com [209.85.210.99]) by mails.dpdk.org (Postfix) with ESMTP id 3C39E42E90 for ; Fri, 7 Feb 2025 19:38:20 +0100 (CET) Received: by mail-ot1-f99.google.com with SMTP id 46e09a7af769-71e1b1767b3so1377634a34.3 for ; Fri, 07 Feb 2025 10:38:20 -0800 (PST) DKIM-Signature: v=1; a=rsa-sha256; c=relaxed/relaxed; d=iol.unh.edu; s=unh-iol; t=1738953499; x=1739558299; darn=dpdk.org; h=cc:to:from:subject:message-id:date:from:to:cc:subject:date :message-id:reply-to; bh=sB3Rsr4nXDIx7SCoeKZzlBiafD72nMO61lwVeN8yUcs=; b=MPQbdvGphk3UdZK7HYUBCBGNHPQNBL+9O1rvXU2NQ24oMjx6ZZknUvkfPGumuMVk3D FASN1zy97yrYb8tLjjz+i4vVGjQqedhoWE8rCzW+YwJ9oMt6HQBcI8Z7bjB404Cmw+M7 a4PCBoB28gV99D4M11qw6h6CEilmWDg1L/ZK0= X-Google-DKIM-Signature: v=1; a=rsa-sha256; c=relaxed/relaxed; d=1e100.net; s=20230601; t=1738953499; x=1739558299; h=cc:to:from:subject:message-id:date:x-gm-message-state:from:to:cc :subject:date:message-id:reply-to; bh=sB3Rsr4nXDIx7SCoeKZzlBiafD72nMO61lwVeN8yUcs=; b=Ebr8OkWgGfbknoyy6rn/B6VAgwWcmRB1nqEyHM0LQ3xAPCspXOJV1jzdimBjjGCC2R po00UTJQhr9lF+BexGaA1mZS4uc46Vce26wDcvGK3apEsrtY9RZhKsiO9V0EjIYgcKqk CLO7NpAp3HwxRNzCkPhbfvwkOWcug0fB/o8ZK8D+veMOZjJwgvht5iDBT5/Qv1vLqP9S y0+DEFHoVXW7O1vIeROeo8p+64ve8eAlAxSpHToDzGibUhwMUW6hEqrqAHGhYMuZZbjK 3t/aLqg+IdyTdul7Y6PGhp5cT0cugFQyOS6K2beQPngczr9xntHOCgfd05zmfSZikG0W /lGQ== X-Gm-Message-State: AOJu0YwOCBZ3NlE/aHyXaELhJFwc+v8oKJKl6CYn7/QX1HEBfaIlBhgi fMhWvSM/NgaPIXre32DZex6QbWFLV3CV0X9+9WS7SIB2JPU0Y6Yy3dpNZvJRW3WTp+tzIUWwEjK bt6snWIwS0ioXLCRWJJQoUvHNtImJlziaD9XBo6ZJ X-Gm-Gg: ASbGnctnZJpUkB947k/yO5eqbhonXVHueY8DUyGafaNrgNakcmeYbbFDr4R74tF4BYs w9VMVmmtww2TBqASy2sWvjifVJY4ntfB+iasvPGQAB/rDIK+yQEn9c3IJvhXKIKaNHGz8D3smj9 Fu0t+dUJcTQr1YG8OZREv+UqGLDwvndqPrtMxD8/e1WiXf7VyVKkv3LoKEMlieSMrbQ7yY/6jn9 /M//7G0lypgZuWdFE9E7peLMAI/BZM81wRuYiQrEsdo5y4vLoM3fi0YDCNk0GffRAmtdjhBBwdw GBhacfIt2Jf2tqw4FWW4y8s8T//4tw== X-Google-Smtp-Source: AGHT+IEuNrg/TFPuYXcHJhHALZ77yGB5FHSDzAVMAmbnsFjNRihrarFmzR/RvNEYKBvwgjjdsa3rxwCI4VO3 X-Received: by 2002:a05:6870:3046:b0:2b8:a98:ed6d with SMTP id 586e51a60fabf-2b83ec1ea31mr3171395fac.14.1738953499397; Fri, 07 Feb 2025 10:38:19 -0800 (PST) Received: from postal.iol.unh.edu (postal.iol.unh.edu. [132.177.123.84]) by smtp-relay.gmail.com with ESMTPS id 586e51a60fabf-2b825e3c678sm199116fac.8.2025.02.07.10.38.19 (version=TLS1_2 cipher=ECDHE-ECDSA-AES128-GCM-SHA256 bits=128/128); Fri, 07 Feb 2025 10:38:19 -0800 (PST) X-Relaying-Domain: iol.unh.edu Date: Fri, 07 Feb 2025 10:38:19 -0800 (PST) Message-ID: <67a6531b.050a0220.136036.ab61SMTPIN_ADDED_MISSING@mx.google.com> Received: from [172.21.0.5] (unknown [172.18.0.240]) by postal.iol.unh.edu (Postfix) with ESMTP id DB4B96052472; Fri, 7 Feb 2025 13:38:18 -0500 (EST) Subject: |SUCCESS| [GIT MASTER] 7df61db6c387703a36306c1aea92225921e2eeb2 From: dpdklab@iol.unh.edu To: Test Report Cc: dpdk-test-reports@iol.unh.edu, Akhil Goyal Content-Type: text/plain X-BeenThere: test-report@dpdk.org X-Mailman-Version: 2.1.29 Precedence: list List-Id: automatic DPDK test reports List-Unsubscribe: , List-Archive: List-Post: List-Help: List-Subscribe: , Errors-To: test-report-bounces@dpdk.org _Testing PASS_ Branch: dpdk-next-crypto 7df61db6c387703a36306c1aea92225921e2eeb2 --> testing pass Test environment and result as below: +---------------------+--------------------+------------------+-------------------+-------------------+-------------------------+----------------------+ | Environment | dpdk_meson_compile | dpdk_compile_ovs | dpdk_compile_spdk | dpdk_msvc_compile | dpdk_llvm_clang_compile | dpdk_mingw64_compile | +=====================+====================+==================+===================+===================+=========================+======================+ | CentOS Stream 9 | PASS | PASS | PASS | SKIPPED | SKIPPED | SKIPPED | +---------------------+--------------------+------------------+-------------------+-------------------+-------------------------+----------------------+ | Debian 12 | PASS | PASS | PASS | SKIPPED | SKIPPED | SKIPPED | +---------------------+--------------------+------------------+-------------------+-------------------+-------------------------+----------------------+ | Fedora 39 (Clang) | PASS | PASS | PASS | SKIPPED | SKIPPED | SKIPPED | +---------------------+--------------------+------------------+-------------------+-------------------+-------------------------+----------------------+ | Fedora 39 | PASS | PASS | PASS | SKIPPED | SKIPPED | SKIPPED | +---------------------+--------------------+------------------+-------------------+-------------------+-------------------------+----------------------+ | Fedora 40 (Clang) | PASS | PASS | PASS | SKIPPED | SKIPPED | SKIPPED | +---------------------+--------------------+------------------+-------------------+-------------------+-------------------------+----------------------+ | openSUSE Leap 15 | PASS | PASS | SKIPPED | SKIPPED | SKIPPED | SKIPPED | +---------------------+--------------------+------------------+-------------------+-------------------+-------------------------+----------------------+ | Fedora 40 | PASS | PASS | PASS | SKIPPED | SKIPPED | SKIPPED | +---------------------+--------------------+------------------+-------------------+-------------------+-------------------------+----------------------+ | Ubuntu 20.04 | PASS | SKIPPED | SKIPPED | SKIPPED | SKIPPED | SKIPPED | +---------------------+--------------------+------------------+-------------------+-------------------+-------------------------+----------------------+ | RHEL9 | PASS | PASS | SKIPPED | SKIPPED | SKIPPED | SKIPPED | +---------------------+--------------------+------------------+-------------------+-------------------+-------------------------+----------------------+ | RHEL8 | PASS | PASS | SKIPPED | SKIPPED | SKIPPED | SKIPPED | +---------------------+--------------------+------------------+-------------------+-------------------+-------------------------+----------------------+ | Ubuntu 22.04 | PASS | PASS | PASS | SKIPPED | SKIPPED | SKIPPED | +---------------------+--------------------+------------------+-------------------+-------------------+-------------------------+----------------------+ | Alpine | PASS | PASS | SKIPPED | SKIPPED | SKIPPED | SKIPPED | +---------------------+--------------------+------------------+-------------------+-------------------+-------------------------+----------------------+ | Ubuntu 24.04 | PASS | PASS | PASS | SKIPPED | SKIPPED | SKIPPED | +---------------------+--------------------+------------------+-------------------+-------------------+-------------------------+----------------------+ | FreeBSD 13.4 | PASS | SKIPPED | SKIPPED | SKIPPED | SKIPPED | SKIPPED | +---------------------+--------------------+------------------+-------------------+-------------------+-------------------------+----------------------+ | FreeBSD 14.2 | PASS | SKIPPED | SKIPPED | SKIPPED | SKIPPED | SKIPPED | +---------------------+--------------------+------------------+-------------------+-------------------+-------------------------+----------------------+ | Windows Server 2022 | SKIPPED | SKIPPED | SKIPPED | PASS | PASS | PASS | +---------------------+--------------------+------------------+-------------------+-------------------+-------------------------+----------------------+ CentOS Stream 9 Kernel: Depends on container host Compiler: gcc 11.5.0 20240719 (Red Hat 11.5.0-2) Debian 12 Kernel: Depends on container host Compiler: gcc (Debian 12.2.0-14) 12.2.0 Fedora 39 (Clang) Kernel: Depends on container host Compiler: clang 17.0.6 (Fedora 17.0.6-2.fc39) Fedora 39 Kernel: Depends on container host Compiler: gcc 13.3.1 20240522 (Red Hat 13.3.1-1) Fedora 40 (Clang) Kernel: Depends on container host Compiler: clang 18.1.8 (Fedora 18.1.8-1.fc40) openSUSE Leap 15 Kernel: Depends on container host Compiler: gcc (SUSE Linux) 7.5.0 Fedora 40 Kernel: Depends on container host Compiler: gcc 14.2.1 20240912 (Red Hat 14.2.1-3) Ubuntu 20.04 Kernel: Depends on container host Compiler: gcc (Ubuntu 9.4.0-1ubuntu1~20.04.2) 9.4.0 RHEL9 Kernel: Depends on container host Compiler: gcc 11.5.0 20240719 (Red Hat 11.5.0-2) RHEL8 Kernel: Depends on container host Compiler: gcc 8.5.0 20210514 (Red Hat 8.5.0-22) Ubuntu 22.04 Kernel: Depends on container host Compiler: gcc (Ubuntu 11.4.0-1ubuntu1~22.04) 11.4.0 Alpine Kernel: Depends on container host Compiler: gcc (Alpine 14.2.0) 14.2.0 Ubuntu 24.04 Kernel: Depends on container host Compiler: gcc (Ubuntu 13.3.0-6ubuntu2~24.04) 13.3.0 FreeBSD 13.4 Kernel: 13.4-RELEASE-p1 Compiler: clang 18.1.6 FreeBSD 14.2 Kernel: 14.2-RELEASE Compiler: clang 18.1.6 Windows Server 2022 Kernel: 10.0.20348.2031 Compiler: clang 15.0.7, gcc 14.1.0 (MinGW), and MSVC VS 19.39.33521 To view detailed results, visit: https://lab.dpdk.org/results/dashboard/tarballs/31854/ UNH-IOL DPDK Community Lab To manage your email subscriptions, visit: https://lab.dpdk.org/results/dashboard/preferences/subscriptions/