From mboxrd@z Thu Jan 1 00:00:00 1970 Return-Path: Received: from mails.dpdk.org (mails.dpdk.org [217.70.189.124]) by inbox.dpdk.org (Postfix) with ESMTP id 4D9FF461BE for ; Fri, 7 Feb 2025 19:38:28 +0100 (CET) Received: from mails.dpdk.org (localhost [127.0.0.1]) by mails.dpdk.org (Postfix) with ESMTP id 4AF6442ED5; Fri, 7 Feb 2025 19:38:28 +0100 (CET) Received: from mail-pl1-f228.google.com (mail-pl1-f228.google.com [209.85.214.228]) by mails.dpdk.org (Postfix) with ESMTP id 586D642E90 for ; Fri, 7 Feb 2025 19:38:26 +0100 (CET) Received: by mail-pl1-f228.google.com with SMTP id d9443c01a7336-21f4500a5c3so40818725ad.3 for ; Fri, 07 Feb 2025 10:38:26 -0800 (PST) DKIM-Signature: v=1; a=rsa-sha256; c=relaxed/relaxed; d=iol.unh.edu; s=unh-iol; t=1738953505; x=1739558305; darn=dpdk.org; h=references:in-reply-to:cc:to:from:subject:message-id:date:from:to :cc:subject:date:message-id:reply-to; bh=A6/9ig7Ccpzt+XLbXD0xhRos/BrSSERufjyb+3bnOjc=; b=eDqeAVQdAKOT6/b0L9ErREqCf4YtNUsTZl1d4JAnueBsQxZnKNQizSupCfhRGxZ74p 4iSVgUcOM8ET4tsWu25Uaz42Hu568+F1nAC4eKQmUxKDOhlnfQOetqYzwHfWxwaZwcbX WcQEX922n7/c018iE6NicBueOvX2/SSpUvcYY= X-Google-DKIM-Signature: v=1; a=rsa-sha256; c=relaxed/relaxed; d=1e100.net; s=20230601; t=1738953505; x=1739558305; h=references:in-reply-to:cc:to:from:subject:message-id:date :x-gm-message-state:from:to:cc:subject:date:message-id:reply-to; bh=A6/9ig7Ccpzt+XLbXD0xhRos/BrSSERufjyb+3bnOjc=; b=HZr/+1ldL+h43wszSjeYtOkxW6qNXJbk+YudI0gR4GtU+eWy75jkkk2LaaQ/9mSl8a 5gePtSgP72RzG9STaD1sHMX0g0GjurolgInxGwxnbIB+pg6cNABahVeb1ABYxBoM2+cI oQ3g1EVKbukashs4mS2ibFy1CKL6cK5BzSQx9wHaJ5BAB8zwgGWDbVG8vSmZ7pz1c4/M s9VdZ2W9O/Ro/Z/aY/SCMagZymcJd/sI4YhQleLIAjIvz6BP5aTQ8VKOT8i1ynRqqi8P rBIbonHzvKdWlPzzJf3VL0yX8zc9+fHt/EFsb60Dp3WyNku396lzQu6Y+wV+r0uJbVYP r3Gg== X-Gm-Message-State: AOJu0YyFkYx+Fw/bOhyFK0awBPq+Z5YKfTbSom/PhIcxinQLKWSwcx54 CTrVrayfeay+XcqGPnB680Sjz2KCpTHGZjFpDFaPibsYGTD9N4DQe5sgugVe19dkeqeXIJQZux2 ri9UiH05xeytw22q8WGRjOZgY1yS0c3ql7qNALHG9 X-Gm-Gg: ASbGncuYPRRvE01IuZomPoGk4MmTbmavEmNn521BwkkR8UzPXjTHsh7v9LYckmUxQaX iVscO6OnmagiNx7vqfmN+bsLacDh7fL0/BT/ilRNljnIR7av6qy/XQcHpbK9FPZmC1+CXvTOOCF yZ72bPMKGhOtTe34AhwvVM7/h9zodYGBnMbjX5XgPAm9gAsC0QuwPEg+aIbayg7P8va/afMoPrh 79dxN6cal0XWhhQXC7RalsDcokAD2dNDHe0un19ifZU+snvYYE2lzGJDT7z1vn7A7tSf7AQPEuS tKsTHe1ivFKcuIhrLfVPjZVUahQjsw== X-Google-Smtp-Source: AGHT+IEk8tNqa5KAEepDvOyZUJKaU9kYbN7rGAu1qgm96JPRIaaP9lmk2KU2/Grzt6RmbNl5PjE6eETYX5mq X-Received: by 2002:a17:902:f78d:b0:21f:c67:a68a with SMTP id d9443c01a7336-21f4e72919emr70269175ad.31.1738953505669; Fri, 07 Feb 2025 10:38:25 -0800 (PST) Received: from postal.iol.unh.edu (postal.iol.unh.edu. [132.177.123.84]) by smtp-relay.gmail.com with ESMTPS id 98e67ed59e1d1-2fa13d63e95sm240490a91.4.2025.02.07.10.38.25 (version=TLS1_2 cipher=ECDHE-ECDSA-AES128-GCM-SHA256 bits=128/128); Fri, 07 Feb 2025 10:38:25 -0800 (PST) X-Relaying-Domain: iol.unh.edu Date: Fri, 07 Feb 2025 10:38:25 -0800 (PST) Message-ID: <67a65321.170a0220.1be132.c303SMTPIN_ADDED_MISSING@mx.google.com> Received: from [172.21.0.14] (unknown [172.18.0.240]) by postal.iol.unh.edu (Postfix) with ESMTP id DB9296052472; Fri, 7 Feb 2025 13:38:24 -0500 (EST) Subject: |SUCCESS| pw149039 [PATCH] lib/gso: gso Adds the processing of IPV6 From: dpdklab@iol.unh.edu To: Test Report Cc: dpdk-test-reports@iol.unh.edu In-Reply-To: <20241204100551.2914-1-18859237562@163.com> References: <20241204100551.2914-1-18859237562@163.com> Content-Type: text/plain X-BeenThere: test-report@dpdk.org X-Mailman-Version: 2.1.29 Precedence: list List-Id: automatic DPDK test reports List-Unsubscribe: , List-Archive: List-Post: List-Help: List-Subscribe: , Errors-To: test-report-bounces@dpdk.org Test-Label: iol-compile-amd64-testing Test-Status: SUCCESS http://dpdk.org/patch/149039 _Testing PASS_ Submitter: Caiqiang Liao <18859237562@163.com> Date: Wednesday, December 04 2024 10:05:51 DPDK git baseline: Repo:dpdk Branch: master CommitID:7df61db6c387703a36306c1aea92225921e2eeb2 149039 --> testing pass Test environment and result as below: +---------------------+--------------------+------------------+-------------------+-------------------------+-------------------+----------------------+ | Environment | dpdk_meson_compile | dpdk_compile_ovs | dpdk_compile_spdk | dpdk_llvm_clang_compile | dpdk_msvc_compile | dpdk_mingw64_compile | +=====================+====================+==================+===================+=========================+===================+======================+ | Fedora 39 (Clang) | PASS | PASS | PASS | SKIPPED | SKIPPED | SKIPPED | +---------------------+--------------------+------------------+-------------------+-------------------------+-------------------+----------------------+ | Fedora 39 | PASS | PASS | PASS | SKIPPED | SKIPPED | SKIPPED | +---------------------+--------------------+------------------+-------------------+-------------------------+-------------------+----------------------+ | Debian 12 | PASS | PASS | PASS | SKIPPED | SKIPPED | SKIPPED | +---------------------+--------------------+------------------+-------------------+-------------------------+-------------------+----------------------+ | RHEL9 | PASS | PASS | SKIPPED | SKIPPED | SKIPPED | SKIPPED | +---------------------+--------------------+------------------+-------------------+-------------------------+-------------------+----------------------+ | CentOS Stream 9 | PASS | PASS | PASS | SKIPPED | SKIPPED | SKIPPED | +---------------------+--------------------+------------------+-------------------+-------------------------+-------------------+----------------------+ | RHEL8 | PASS | PASS | SKIPPED | SKIPPED | SKIPPED | SKIPPED | +---------------------+--------------------+------------------+-------------------+-------------------------+-------------------+----------------------+ | Ubuntu 22.04 | PASS | PASS | PASS | SKIPPED | SKIPPED | SKIPPED | +---------------------+--------------------+------------------+-------------------+-------------------------+-------------------+----------------------+ | Fedora 40 | PASS | PASS | PASS | SKIPPED | SKIPPED | SKIPPED | +---------------------+--------------------+------------------+-------------------+-------------------------+-------------------+----------------------+ | openSUSE Leap 15 | PASS | PASS | SKIPPED | SKIPPED | SKIPPED | SKIPPED | +---------------------+--------------------+------------------+-------------------+-------------------------+-------------------+----------------------+ | Fedora 40 (Clang) | PASS | PASS | PASS | SKIPPED | SKIPPED | SKIPPED | +---------------------+--------------------+------------------+-------------------+-------------------------+-------------------+----------------------+ | Ubuntu 24.04 | PASS | PASS | PASS | SKIPPED | SKIPPED | SKIPPED | +---------------------+--------------------+------------------+-------------------+-------------------------+-------------------+----------------------+ | FreeBSD 13.4 | PASS | SKIPPED | SKIPPED | SKIPPED | SKIPPED | SKIPPED | +---------------------+--------------------+------------------+-------------------+-------------------------+-------------------+----------------------+ | Alpine | PASS | PASS | SKIPPED | SKIPPED | SKIPPED | SKIPPED | +---------------------+--------------------+------------------+-------------------+-------------------------+-------------------+----------------------+ | FreeBSD 14.2 | PASS | SKIPPED | SKIPPED | SKIPPED | SKIPPED | SKIPPED | +---------------------+--------------------+------------------+-------------------+-------------------------+-------------------+----------------------+ | Ubuntu 20.04 | PASS | SKIPPED | SKIPPED | SKIPPED | SKIPPED | SKIPPED | +---------------------+--------------------+------------------+-------------------+-------------------------+-------------------+----------------------+ | Windows Server 2022 | SKIPPED | SKIPPED | SKIPPED | PASS | PASS | PASS | +---------------------+--------------------+------------------+-------------------+-------------------------+-------------------+----------------------+ Fedora 39 (Clang) Kernel: Depends on container host Compiler: clang 17.0.6 (Fedora 17.0.6-2.fc39) Fedora 39 Kernel: Depends on container host Compiler: gcc 13.3.1 20240522 (Red Hat 13.3.1-1) Debian 12 Kernel: Depends on container host Compiler: gcc (Debian 12.2.0-14) 12.2.0 RHEL9 Kernel: Depends on container host Compiler: gcc 11.5.0 20240719 (Red Hat 11.5.0-2) CentOS Stream 9 Kernel: Depends on container host Compiler: gcc 11.5.0 20240719 (Red Hat 11.5.0-2) RHEL8 Kernel: Depends on container host Compiler: gcc 8.5.0 20210514 (Red Hat 8.5.0-22) Ubuntu 22.04 Kernel: Depends on container host Compiler: gcc (Ubuntu 11.4.0-1ubuntu1~22.04) 11.4.0 Fedora 40 Kernel: Depends on container host Compiler: gcc 14.2.1 20240912 (Red Hat 14.2.1-3) openSUSE Leap 15 Kernel: Depends on container host Compiler: gcc (SUSE Linux) 7.5.0 Fedora 40 (Clang) Kernel: Depends on container host Compiler: clang 18.1.8 (Fedora 18.1.8-1.fc40) Ubuntu 24.04 Kernel: Depends on container host Compiler: gcc (Ubuntu 13.3.0-6ubuntu2~24.04) 13.3.0 FreeBSD 13.4 Kernel: 13.4-RELEASE-p1 Compiler: clang 18.1.6 Alpine Kernel: Depends on container host Compiler: gcc (Alpine 14.2.0) 14.2.0 FreeBSD 14.2 Kernel: 14.2-RELEASE Compiler: clang 18.1.6 Ubuntu 20.04 Kernel: Depends on container host Compiler: gcc (Ubuntu 9.4.0-1ubuntu1~20.04.2) 9.4.0 Windows Server 2022 Kernel: 10.0.20348.2031 Compiler: clang 15.0.7, gcc 14.1.0 (MinGW), and MSVC VS 19.39.33521 To view detailed results, visit: https://lab.dpdk.org/results/dashboard/patchsets/32090/ UNH-IOL DPDK Community Lab To manage your email subscriptions, visit: https://lab.dpdk.org/results/dashboard/preferences/subscriptions/