From mboxrd@z Thu Jan 1 00:00:00 1970 Return-Path: Received: from mails.dpdk.org (mails.dpdk.org [217.70.189.124]) by inbox.dpdk.org (Postfix) with ESMTP id 5D9D7461BE for ; Fri, 7 Feb 2025 19:38:32 +0100 (CET) Received: from mails.dpdk.org (localhost [127.0.0.1]) by mails.dpdk.org (Postfix) with ESMTP id 584BD42ED5; Fri, 7 Feb 2025 19:38:32 +0100 (CET) Received: from mail-il1-f225.google.com (mail-il1-f225.google.com [209.85.166.225]) by mails.dpdk.org (Postfix) with ESMTP id 3E95942E90 for ; Fri, 7 Feb 2025 19:38:30 +0100 (CET) Received: by mail-il1-f225.google.com with SMTP id e9e14a558f8ab-3ce7c4115e8so11414945ab.1 for ; Fri, 07 Feb 2025 10:38:30 -0800 (PST) DKIM-Signature: v=1; a=rsa-sha256; c=relaxed/relaxed; d=iol.unh.edu; s=unh-iol; t=1738953509; x=1739558309; darn=dpdk.org; h=cc:to:from:subject:message-id:date:from:to:cc:subject:date :message-id:reply-to; bh=+g9lc+Cfei7ocYfFWVbj0QM3w09ywkGZ34ipyX/dzoc=; b=bhs1tvEZkHvD0q0A+kujpcR/vpvVWJitbgMbC3Esxqf2iDtSi4A4z/Noqu4z61/6N4 5rFaN0i9TVFIO0JNjjRlXjuRKJMOUzmZTfLTj8lLJlN7Hdzx1h49fYJr63/5zgJN3rw9 SqtzD53sJk+FLE4s7ZHphunlsxS7Ymf3BtZpk= X-Google-DKIM-Signature: v=1; a=rsa-sha256; c=relaxed/relaxed; d=1e100.net; s=20230601; t=1738953509; x=1739558309; h=cc:to:from:subject:message-id:date:x-gm-message-state:from:to:cc :subject:date:message-id:reply-to; bh=+g9lc+Cfei7ocYfFWVbj0QM3w09ywkGZ34ipyX/dzoc=; b=a72e4TqvDBZ2y+gQi1YgJvOnh5GMaNuILGOqv/DU0gAXDnLL28jnHyWMdIfegluLtN wgT7AaMVFsrDRb/5LqLysUoWq4YMoLDFvq3KlDlc1QFo2xOinM6iscKDA0BMAa3b2oAg I0Rs5h7t3zRBgy8TkRjX/OXGbDmBnl9AV2F8iDBd7XX0AaPqqiHF+WneA4kiAZsk8k7c fHsvWSTsN0rEixkXCuh5KWErUte2v1Rk7s+VliJkj1YcS217oY5QeB7QWzCypMvvyXxz qbR/uacgaidV5GVx/+FVHbZ9cc6ec5WeOdkA4DTbiNgBCvWSz4zBNYaWRmJJHkPHYIfU eG0A== X-Gm-Message-State: AOJu0YznmpRj9rV1MEQQ0KlgY7ri+WAFkFbvYS2CpCXSjVT5m2VHHgGI Blbwfeq8PF9vlS25YKL8b/A93yhnI9L6rNqwtCEU76Z+CePO4CkyzICTIZjmaU5DqVdz4i7LitY pTi3jO7qYEll3SOxzD2SAcxqJxWc13jZMmhYeO9xP X-Gm-Gg: ASbGncuVS1RLCFAhIST/UWVyTzuZQ2O5wHcN6Y9jkbdNHXWl3jP7nFpLgo1cLF5hI4T 5V+98oqmZQOG6maIatjB9gLrVSCATtQ+ysHMi9G4HTHcQabqNx8o39xygXTvxJXZJ4xnzgpJm3j gbcT607tI9Phps1nXckAOpI0hR1+4xB7PsvFvY2rDCt4T4bPCm7wkE/rGjpPSYxjM3SA1Rne1n9 dqEEyGGKkDWe0tkUJqYDwE2EqZQi5g77Xp3RwpQOFrAsltlfeBTVPps0aOPtUfzttiP409YorZz g2NE523EQ6QHe+1AyQ67/w/fYeshnw== X-Google-Smtp-Source: AGHT+IG5KIV1w+gf29BTcFw2UZYWk1b91qUXQk0wPLNJ8xjysVKAwIe0soRR3l10T7clUme4dkv3hOmBHOsQ X-Received: by 2002:a05:6e02:1d01:b0:3d0:53ed:fd6f with SMTP id e9e14a558f8ab-3d05a6b2118mr81921635ab.9.1738953509603; Fri, 07 Feb 2025 10:38:29 -0800 (PST) Received: from postal.iol.unh.edu (postal.iol.unh.edu. [132.177.123.84]) by smtp-relay.gmail.com with ESMTPS id 8926c6da1cb9f-4eccf9f5b05sm253817173.40.2025.02.07.10.38.29 (version=TLS1_2 cipher=ECDHE-ECDSA-AES128-GCM-SHA256 bits=128/128); Fri, 07 Feb 2025 10:38:29 -0800 (PST) X-Relaying-Domain: iol.unh.edu Date: Fri, 07 Feb 2025 10:38:29 -0800 (PST) Message-ID: <67a65325.050a0220.1b099.e114SMTPIN_ADDED_MISSING@mx.google.com> Received: from [172.21.0.15] (unknown [172.18.0.240]) by postal.iol.unh.edu (Postfix) with ESMTP id 24E146052472; Fri, 7 Feb 2025 13:38:29 -0500 (EST) Subject: |SUCCESS| [GIT MASTER] 7df61db6c387703a36306c1aea92225921e2eeb2 From: dpdklab@iol.unh.edu To: Test Report Cc: dpdk-test-reports@iol.unh.edu Content-Type: text/plain X-BeenThere: test-report@dpdk.org X-Mailman-Version: 2.1.29 Precedence: list List-Id: automatic DPDK test reports List-Unsubscribe: , List-Archive: List-Post: List-Help: List-Subscribe: , Errors-To: test-report-bounces@dpdk.org _Testing PASS_ Branch: dpdk 7df61db6c387703a36306c1aea92225921e2eeb2 --> testing pass Test environment and result as below: +---------------------+--------------------+------------------+-------------------+-------------------+-------------------------+----------------------+ | Environment | dpdk_meson_compile | dpdk_compile_ovs | dpdk_compile_spdk | dpdk_msvc_compile | dpdk_llvm_clang_compile | dpdk_mingw64_compile | +=====================+====================+==================+===================+===================+=========================+======================+ | Fedora 40 (Clang) | PASS | PASS | PASS | SKIPPED | SKIPPED | SKIPPED | +---------------------+--------------------+------------------+-------------------+-------------------+-------------------------+----------------------+ | CentOS Stream 9 | PASS | PASS | PASS | SKIPPED | SKIPPED | SKIPPED | +---------------------+--------------------+------------------+-------------------+-------------------+-------------------------+----------------------+ | Debian 12 | PASS | PASS | PASS | SKIPPED | SKIPPED | SKIPPED | +---------------------+--------------------+------------------+-------------------+-------------------+-------------------------+----------------------+ | Fedora 39 (Clang) | PASS | PASS | PASS | SKIPPED | SKIPPED | SKIPPED | +---------------------+--------------------+------------------+-------------------+-------------------+-------------------------+----------------------+ | Fedora 39 | PASS | PASS | PASS | SKIPPED | SKIPPED | SKIPPED | +---------------------+--------------------+------------------+-------------------+-------------------+-------------------------+----------------------+ | Fedora 40 | PASS | PASS | PASS | SKIPPED | SKIPPED | SKIPPED | +---------------------+--------------------+------------------+-------------------+-------------------+-------------------------+----------------------+ | openSUSE Leap 15 | PASS | PASS | SKIPPED | SKIPPED | SKIPPED | SKIPPED | +---------------------+--------------------+------------------+-------------------+-------------------+-------------------------+----------------------+ | RHEL8 | PASS | PASS | SKIPPED | SKIPPED | SKIPPED | SKIPPED | +---------------------+--------------------+------------------+-------------------+-------------------+-------------------------+----------------------+ | RHEL9 | PASS | PASS | SKIPPED | SKIPPED | SKIPPED | SKIPPED | +---------------------+--------------------+------------------+-------------------+-------------------+-------------------------+----------------------+ | Ubuntu 20.04 | PASS | SKIPPED | SKIPPED | SKIPPED | SKIPPED | SKIPPED | +---------------------+--------------------+------------------+-------------------+-------------------+-------------------------+----------------------+ | Ubuntu 22.04 | PASS | PASS | PASS | SKIPPED | SKIPPED | SKIPPED | +---------------------+--------------------+------------------+-------------------+-------------------+-------------------------+----------------------+ | Ubuntu 24.04 | PASS | PASS | PASS | SKIPPED | SKIPPED | SKIPPED | +---------------------+--------------------+------------------+-------------------+-------------------+-------------------------+----------------------+ | Alpine | PASS | PASS | SKIPPED | SKIPPED | SKIPPED | SKIPPED | +---------------------+--------------------+------------------+-------------------+-------------------+-------------------------+----------------------+ | Arch Linux | PASS | PASS | SKIPPED | SKIPPED | SKIPPED | SKIPPED | +---------------------+--------------------+------------------+-------------------+-------------------+-------------------------+----------------------+ | FreeBSD 13.4 | PASS | SKIPPED | SKIPPED | SKIPPED | SKIPPED | SKIPPED | +---------------------+--------------------+------------------+-------------------+-------------------+-------------------------+----------------------+ | FreeBSD 14.2 | PASS | SKIPPED | SKIPPED | SKIPPED | SKIPPED | SKIPPED | +---------------------+--------------------+------------------+-------------------+-------------------+-------------------------+----------------------+ | Windows Server 2022 | SKIPPED | SKIPPED | SKIPPED | PASS | PASS | PASS | +---------------------+--------------------+------------------+-------------------+-------------------+-------------------------+----------------------+ Fedora 40 (Clang) Kernel: Depends on container host Compiler: clang 18.1.8 (Fedora 18.1.8-1.fc40) CentOS Stream 9 Kernel: Depends on container host Compiler: gcc 11.5.0 20240719 (Red Hat 11.5.0-2) Debian 12 Kernel: Depends on container host Compiler: gcc (Debian 12.2.0-14) 12.2.0 Fedora 39 (Clang) Kernel: Depends on container host Compiler: clang 17.0.6 (Fedora 17.0.6-2.fc39) Fedora 39 Kernel: Depends on container host Compiler: gcc 13.3.1 20240522 (Red Hat 13.3.1-1) Fedora 40 Kernel: Depends on container host Compiler: gcc 14.2.1 20240912 (Red Hat 14.2.1-3) openSUSE Leap 15 Kernel: Depends on container host Compiler: gcc (SUSE Linux) 7.5.0 RHEL8 Kernel: Depends on container host Compiler: gcc 8.5.0 20210514 (Red Hat 8.5.0-22) RHEL9 Kernel: Depends on container host Compiler: gcc 11.5.0 20240719 (Red Hat 11.5.0-2) Ubuntu 20.04 Kernel: Depends on container host Compiler: gcc (Ubuntu 9.4.0-1ubuntu1~20.04.2) 9.4.0 Ubuntu 22.04 Kernel: Depends on container host Compiler: gcc (Ubuntu 11.4.0-1ubuntu1~22.04) 11.4.0 Ubuntu 24.04 Kernel: Depends on container host Compiler: gcc (Ubuntu 13.3.0-6ubuntu2~24.04) 13.3.0 Alpine Kernel: Depends on container host Compiler: gcc (Alpine 14.2.0) 14.2.0 Arch Linux Kernel: Depends on container host Compiler: gcc 14.2.1 20240910 FreeBSD 13.4 Kernel: 13.4-RELEASE-p1 Compiler: clang 18.1.6 FreeBSD 14.2 Kernel: 14.2-RELEASE Compiler: clang 18.1.6 Windows Server 2022 Kernel: 10.0.20348.2031 Compiler: clang 15.0.7, gcc 14.1.0 (MinGW), and MSVC VS 19.39.33521 To view detailed results, visit: https://lab.dpdk.org/results/dashboard/tarballs/31856/ UNH-IOL DPDK Community Lab To manage your email subscriptions, visit: https://lab.dpdk.org/results/dashboard/preferences/subscriptions/