From mboxrd@z Thu Jan 1 00:00:00 1970 Return-Path: Received: from mails.dpdk.org (mails.dpdk.org [217.70.189.124]) by inbox.dpdk.org (Postfix) with ESMTP id 89159461BE for ; Fri, 7 Feb 2025 19:38:35 +0100 (CET) Received: from mails.dpdk.org (localhost [127.0.0.1]) by mails.dpdk.org (Postfix) with ESMTP id 7B8FD42ED5; Fri, 7 Feb 2025 19:38:35 +0100 (CET) Received: from mail-pl1-f226.google.com (mail-pl1-f226.google.com [209.85.214.226]) by mails.dpdk.org (Postfix) with ESMTP id E8D5742E90 for ; Fri, 7 Feb 2025 19:38:33 +0100 (CET) Received: by mail-pl1-f226.google.com with SMTP id d9443c01a7336-21f48ebaadfso33762365ad.2 for ; Fri, 07 Feb 2025 10:38:33 -0800 (PST) DKIM-Signature: v=1; a=rsa-sha256; c=relaxed/relaxed; d=iol.unh.edu; s=unh-iol; t=1738953513; x=1739558313; darn=dpdk.org; h=references:in-reply-to:cc:to:from:subject:message-id:date:from:to :cc:subject:date:message-id:reply-to; bh=g23zJm03fU/SQbgd9TTwREofGNFsMgPBvefk7zkT3K0=; b=JMnuTzNrvgLeLj5WcuuXwcp+MVzYID4/Yrvg2cEvKrpRwzyzqAYyLrEGgBZgZt/JSZ Cu9qAPywtEc/9kcT+6C9FgwLwTOUWEUpfVuXtBlbQLUYT67kwlPBM/96aN9mckETTJNy 4KKSrbODKedeCRRmoarq9PYn4VaRH80ydbP5k= X-Google-DKIM-Signature: v=1; a=rsa-sha256; c=relaxed/relaxed; d=1e100.net; s=20230601; t=1738953513; x=1739558313; h=references:in-reply-to:cc:to:from:subject:message-id:date :x-gm-message-state:from:to:cc:subject:date:message-id:reply-to; bh=g23zJm03fU/SQbgd9TTwREofGNFsMgPBvefk7zkT3K0=; b=aHDZv2qe6briAYDH4nWtj7azdVui5aQyLo+48YKKCO1/QhNg8WFOej30i8F81KOOvV ZDxqGrqW3ScFY1OGuqMS5LpucARUqVP5+bUSokXMI/rlxZrASnz3Hce6/zt9BIVcxwnY 1yb5cZSbJW06HvvfSkt1SO6GJ7UToWvGBFQf//fy00GPbpraceOwmKrAPHVA07xrFxue 3kJf7yCP9qS48MUvznT4nrCUsc+ieqdb/cbZCMHXA+/KBrFYYvPtqt+y66sh1AfXiBcm n7G3XK4eV1Y1IOlsalW4NkWSQ9Eu4FQXUMxwoZRBuurPerai+NPfDKd6YncN/5JBhxbk 2g7Q== X-Gm-Message-State: AOJu0Yy4kQtxXVjfEAG88VsrCT/ik6SD/5qc0xBD2Mn6vrTcsT4u5WXt yDg6HW5cjAQL6akrdrjV6B+dB8jbiGQ1FxHeAQj9e+eNiwdPGvIUinaPuVZEy6hYy0IT0s/TNcE ETFCT8mkr8rRvJv+yGG135d39wfzWNQG9FjXEJiTy X-Gm-Gg: ASbGncs/M6KAOD/PzCs0DDJT/W+NTtjdYen1IIh+jZnLQlW8LGDTTllm2b0paZKHMd8 QIoHM5Emd8O0rYNgD/Bdfv4JuOSAGvyQTbGlZvhmmi5FpI4jVxaan6vQJfoJ1dajXY742Lv2orT YQToPPIzvIALfH2KcJHLYfPxVT0NytZ5ze99QPi7Wyl8Q9SeJGNXDPSW00s6x+HWxQ/vWOw0moW gvuiqhYrdOvdQ2w8JGbMt2fn3IscLYq3mKuV+nvvk454Tbgipvr/ml6r4uCBxAMjzQkrAANVDsN HsvYTMOrPHHl5OhOIXVcYpOdjLzWZQ== X-Google-Smtp-Source: AGHT+IGYBocTbGBhRel+5FIdGvDksdA60tlIMH0bn/11Oo0JObElC1deD81Hmvu0h6eJ8BlN4ZaRY9VFqC7H X-Received: by 2002:a05:6a00:3e0b:b0:730:29ac:b687 with SMTP id d2e1a72fcca58-7305d518345mr7257201b3a.23.1738953512986; Fri, 07 Feb 2025 10:38:32 -0800 (PST) Received: from postal.iol.unh.edu (postal.iol.unh.edu. [132.177.123.84]) by smtp-relay.gmail.com with ESMTPS id d2e1a72fcca58-73048c290c0sm178587b3a.21.2025.02.07.10.38.32 (version=TLS1_2 cipher=ECDHE-ECDSA-AES128-GCM-SHA256 bits=128/128); Fri, 07 Feb 2025 10:38:32 -0800 (PST) X-Relaying-Domain: iol.unh.edu Date: Fri, 07 Feb 2025 10:38:32 -0800 (PST) Message-ID: <67a65328.a70a0220.14e7df.9bbfSMTPIN_ADDED_MISSING@mx.google.com> Received: from [172.21.0.17] (unknown [172.18.0.240]) by postal.iol.unh.edu (Postfix) with ESMTP id 31FA76052472; Fri, 7 Feb 2025 13:38:32 -0500 (EST) Subject: |SUCCESS| pw149042-149044 [PATCH] [3/3] eal/x86: defer power intrins From: dpdklab@iol.unh.edu To: Test Report Cc: dpdk-test-reports@iol.unh.edu In-Reply-To: <20241205175754.1673888-4-david.marchand@redhat.com> References: <20241205175754.1673888-4-david.marchand@redhat.com> Content-Type: text/plain X-BeenThere: test-report@dpdk.org X-Mailman-Version: 2.1.29 Precedence: list List-Id: automatic DPDK test reports List-Unsubscribe: , List-Archive: List-Post: List-Help: List-Subscribe: , Errors-To: test-report-bounces@dpdk.org Test-Label: iol-compile-amd64-testing Test-Status: SUCCESS http://dpdk.org/patch/149044 _Testing PASS_ Submitter: David Marchand Date: Thursday, December 05 2024 17:57:54 DPDK git baseline: Repo:dpdk Branch: master CommitID:7df61db6c387703a36306c1aea92225921e2eeb2 149042-149044 --> testing pass Test environment and result as below: +---------------------+--------------------+------------------+-------------------+-------------------+-------------------------+----------------------+ | Environment | dpdk_meson_compile | dpdk_compile_ovs | dpdk_compile_spdk | dpdk_msvc_compile | dpdk_llvm_clang_compile | dpdk_mingw64_compile | +=====================+====================+==================+===================+===================+=========================+======================+ | CentOS Stream 9 | PASS | PASS | PASS | SKIPPED | SKIPPED | SKIPPED | +---------------------+--------------------+------------------+-------------------+-------------------+-------------------------+----------------------+ | Debian 12 | PASS | PASS | PASS | SKIPPED | SKIPPED | SKIPPED | +---------------------+--------------------+------------------+-------------------+-------------------+-------------------------+----------------------+ | Fedora 39 (Clang) | PASS | PASS | PASS | SKIPPED | SKIPPED | SKIPPED | +---------------------+--------------------+------------------+-------------------+-------------------+-------------------------+----------------------+ | Fedora 39 | PASS | PASS | PASS | SKIPPED | SKIPPED | SKIPPED | +---------------------+--------------------+------------------+-------------------+-------------------+-------------------------+----------------------+ | Fedora 40 (Clang) | PASS | PASS | PASS | SKIPPED | SKIPPED | SKIPPED | +---------------------+--------------------+------------------+-------------------+-------------------+-------------------------+----------------------+ | Fedora 40 | PASS | PASS | PASS | SKIPPED | SKIPPED | SKIPPED | +---------------------+--------------------+------------------+-------------------+-------------------+-------------------------+----------------------+ | openSUSE Leap 15 | PASS | PASS | SKIPPED | SKIPPED | SKIPPED | SKIPPED | +---------------------+--------------------+------------------+-------------------+-------------------+-------------------------+----------------------+ | RHEL9 | PASS | PASS | SKIPPED | SKIPPED | SKIPPED | SKIPPED | +---------------------+--------------------+------------------+-------------------+-------------------+-------------------------+----------------------+ | RHEL8 | PASS | PASS | SKIPPED | SKIPPED | SKIPPED | SKIPPED | +---------------------+--------------------+------------------+-------------------+-------------------+-------------------------+----------------------+ | Ubuntu 22.04 | PASS | PASS | PASS | SKIPPED | SKIPPED | SKIPPED | +---------------------+--------------------+------------------+-------------------+-------------------+-------------------------+----------------------+ | Ubuntu 20.04 | PASS | SKIPPED | SKIPPED | SKIPPED | SKIPPED | SKIPPED | +---------------------+--------------------+------------------+-------------------+-------------------+-------------------------+----------------------+ | Ubuntu 24.04 | PASS | PASS | PASS | SKIPPED | SKIPPED | SKIPPED | +---------------------+--------------------+------------------+-------------------+-------------------+-------------------------+----------------------+ | Alpine | PASS | PASS | SKIPPED | SKIPPED | SKIPPED | SKIPPED | +---------------------+--------------------+------------------+-------------------+-------------------+-------------------------+----------------------+ | FreeBSD 13.4 | PASS | SKIPPED | SKIPPED | SKIPPED | SKIPPED | SKIPPED | +---------------------+--------------------+------------------+-------------------+-------------------+-------------------------+----------------------+ | FreeBSD 14.2 | PASS | SKIPPED | SKIPPED | SKIPPED | SKIPPED | SKIPPED | +---------------------+--------------------+------------------+-------------------+-------------------+-------------------------+----------------------+ | Windows Server 2022 | SKIPPED | SKIPPED | SKIPPED | PASS | PASS | PASS | +---------------------+--------------------+------------------+-------------------+-------------------+-------------------------+----------------------+ CentOS Stream 9 Kernel: Depends on container host Compiler: gcc 11.5.0 20240719 (Red Hat 11.5.0-2) Debian 12 Kernel: Depends on container host Compiler: gcc (Debian 12.2.0-14) 12.2.0 Fedora 39 (Clang) Kernel: Depends on container host Compiler: clang 17.0.6 (Fedora 17.0.6-2.fc39) Fedora 39 Kernel: Depends on container host Compiler: gcc 13.3.1 20240522 (Red Hat 13.3.1-1) Fedora 40 (Clang) Kernel: Depends on container host Compiler: clang 18.1.8 (Fedora 18.1.8-1.fc40) Fedora 40 Kernel: Depends on container host Compiler: gcc 14.2.1 20240912 (Red Hat 14.2.1-3) openSUSE Leap 15 Kernel: Depends on container host Compiler: gcc (SUSE Linux) 7.5.0 RHEL9 Kernel: Depends on container host Compiler: gcc 11.5.0 20240719 (Red Hat 11.5.0-2) RHEL8 Kernel: Depends on container host Compiler: gcc 8.5.0 20210514 (Red Hat 8.5.0-22) Ubuntu 22.04 Kernel: Depends on container host Compiler: gcc (Ubuntu 11.4.0-1ubuntu1~22.04) 11.4.0 Ubuntu 20.04 Kernel: Depends on container host Compiler: gcc (Ubuntu 9.4.0-1ubuntu1~20.04.2) 9.4.0 Ubuntu 24.04 Kernel: Depends on container host Compiler: gcc (Ubuntu 13.3.0-6ubuntu2~24.04) 13.3.0 Alpine Kernel: Depends on container host Compiler: gcc (Alpine 14.2.0) 14.2.0 FreeBSD 13.4 Kernel: 13.4-RELEASE-p1 Compiler: clang 18.1.6 FreeBSD 14.2 Kernel: 14.2-RELEASE Compiler: clang 18.1.6 Windows Server 2022 Kernel: 10.0.20348.2031 Compiler: clang 15.0.7, gcc 14.1.0 (MinGW), and MSVC VS 19.39.33521 To view detailed results, visit: https://lab.dpdk.org/results/dashboard/patchsets/32093/ UNH-IOL DPDK Community Lab To manage your email subscriptions, visit: https://lab.dpdk.org/results/dashboard/preferences/subscriptions/