From mboxrd@z Thu Jan  1 00:00:00 1970
Return-Path: <test-report-bounces@dpdk.org>
Received: from mails.dpdk.org (mails.dpdk.org [217.70.189.124])
	by inbox.dpdk.org (Postfix) with ESMTP id AB7BD461BE
	for <public@inbox.dpdk.org>; Fri,  7 Feb 2025 19:38:47 +0100 (CET)
Received: from mails.dpdk.org (localhost [127.0.0.1])
	by mails.dpdk.org (Postfix) with ESMTP id A2CD842ED5;
	Fri,  7 Feb 2025 19:38:47 +0100 (CET)
Received: from mail-pl1-f226.google.com (mail-pl1-f226.google.com
 [209.85.214.226])
 by mails.dpdk.org (Postfix) with ESMTP id A702542E90
 for <test-report@dpdk.org>; Fri,  7 Feb 2025 19:38:46 +0100 (CET)
Received: by mail-pl1-f226.google.com with SMTP id
 d9443c01a7336-21f20666e72so51772015ad.1
 for <test-report@dpdk.org>; Fri, 07 Feb 2025 10:38:46 -0800 (PST)
DKIM-Signature: v=1; a=rsa-sha256; c=relaxed/relaxed;
 d=iol.unh.edu; s=unh-iol; t=1738953526; x=1739558326; darn=dpdk.org;
 h=references:in-reply-to:cc:to:from:subject:message-id:date:from:to
 :cc:subject:date:message-id:reply-to;
 bh=7JrisT6jhqViJ/2gIZogMDsssNjswO8Zm9WhqFhfA4Q=;
 b=ESzDBGYsVhz2cx0tE53L0ry82Hrfsk+T7snSgHHWpNoQY3WDfairB1Lelrns1bnSFI
 i4F5bSEN3twvio4NRoTy0N3mt3ew8GOmdce2UNaU1sfE+OIlMB1Gpn0hf4qxdNBQcR4i
 0krXHvCck5mDfCEcBtUqnJqjbSyt2RAwOGNBc=
X-Google-DKIM-Signature: v=1; a=rsa-sha256; c=relaxed/relaxed;
 d=1e100.net; s=20230601; t=1738953526; x=1739558326;
 h=references:in-reply-to:cc:to:from:subject:message-id:date
 :x-gm-message-state:from:to:cc:subject:date:message-id:reply-to;
 bh=7JrisT6jhqViJ/2gIZogMDsssNjswO8Zm9WhqFhfA4Q=;
 b=igvIc65S6OudnGHi1nv+pY38vLlyxDuD3ciIrE62hgBlOmVCZZm/BHNMwq4H3y3GJI
 XS6VwI8XOywQvTvSAAZcwkaUxaal6K9oSUiXjS0hBYlVBzHU/YP+W/KAJErS/3oezOQu
 rGnQjLAsfcjdoqVgYA0SmJCP6n5f/CH8j+VBU7OdJrEWalnoDnFfZqKEsbFBIV9zwS8w
 rpdVkiq8NlG6e0J5X1UTTdCrCb+JhmQpZVzbW4t6GJs6RXXXSO91x8t1kqxhV+eg1i+S
 +o6IgPxshW0WZzLQ1wp1b8OFWiueTyW2vXGH6e4Qo9+3zkE8ES8sIjxkA4ISTE205g6J
 QilA==
X-Gm-Message-State: AOJu0Yx3aHqXlYHRWPjILrhRE4UfGzEbSvRd+8W1bw1m88c927vMutOm
 x4cK7GKHGNRT0zUAwvyFzfhAIqZu+AswmwvjwZph+ArryfkOfMpRyeaQNLUCdkOYCc9SteqzF5r
 wOmHQX1lFiImMA+wtIpn55CDIXseldIp8/ozd+fNe
X-Gm-Gg: ASbGnct7S4TCWhDLm+2TLpLsT5WJxqzMxlP+A9IHQ0TMvv/g+/uZyH5FqFhNtGG3vQv
 XbAXH5qe2M5gR8NejT9MVM4gQ3woqOzmzDS3bWpyLxvRoXDPd1R+p3ze8x8Fmxsm1wwILNLCjwM
 8Y5EkUaSr1kQc8wwhFxrY86VIhTFvIJJ9j6yjOXYP9gtuegqwp5O97w/4yWlH38AoiaQ6wodg4U
 W3Pi8FSWUpnjgcWhqveGsKqf8xJaMUwW/buRdgRJ4y/YBMdJrz1e9cYpYzTKdIMeXKVd3bP01UC
 Q2aJ93WfMKuzoEjohUKzWft7oBAIPA==
X-Google-Smtp-Source: AGHT+IGQZxs1qai0u8uz2Nx9T1iK4gZP6S1+ouXl+C7lLVKvAxGgRHVRE/7Z4QJy8uYGIycEYTQZIE8quSMM
X-Received: by 2002:a17:903:1cd:b0:215:65f3:27f2 with SMTP id
 d9443c01a7336-21f4e6a5767mr54544775ad.8.1738953525920; 
 Fri, 07 Feb 2025 10:38:45 -0800 (PST)
Received: from postal.iol.unh.edu (postal.iol.unh.edu. [132.177.123.84])
 by smtp-relay.gmail.com with ESMTPS id
 d9443c01a7336-21f3650cd03sm2120355ad.7.2025.02.07.10.38.45
 (version=TLS1_2 cipher=ECDHE-ECDSA-AES128-GCM-SHA256 bits=128/128);
 Fri, 07 Feb 2025 10:38:45 -0800 (PST)
X-Relaying-Domain: iol.unh.edu
Date: Fri, 07 Feb 2025 10:38:45 -0800 (PST)
Message-ID: <67a65335.170a0220.2a8ff0.b4d9SMTPIN_ADDED_MISSING@mx.google.com>
Received: from [172.21.0.10] (unknown [172.18.0.240])
 by postal.iol.unh.edu (Postfix) with ESMTP id 1BAC86052471;
 Fri,  7 Feb 2025 13:38:15 -0500 (EST)
Subject: |SUCCESS| pw149052-149064 [PATCH] [v1,15/15] net/zxdh: mtu update op
From: dpdklab@iol.unh.edu
To: Test Report <test-report@dpdk.org>
Cc: dpdk-test-reports@iol.unh.edu
In-Reply-To: <20241206055715.506961-16-wang.junlong1@zte.com.cn>
References: <20241206055715.506961-16-wang.junlong1@zte.com.cn>
Content-Type: text/plain
X-BeenThere: test-report@dpdk.org
X-Mailman-Version: 2.1.29
Precedence: list
List-Id: automatic DPDK test reports <test-report.dpdk.org>
List-Unsubscribe: <https://mails.dpdk.org/options/test-report>,
 <mailto:test-report-request@dpdk.org?subject=unsubscribe>
List-Archive: <http://mails.dpdk.org/archives/test-report/>
List-Post: <mailto:test-report@dpdk.org>
List-Help: <mailto:test-report-request@dpdk.org?subject=help>
List-Subscribe: <https://mails.dpdk.org/listinfo/test-report>,
 <mailto:test-report-request@dpdk.org?subject=subscribe>
Errors-To: test-report-bounces@dpdk.org

Test-Label: iol-compile-amd64-testing
Test-Status: SUCCESS
http://dpdk.org/patch/149064

_Testing PASS_

Submitter: Junlong Wang <wang.junlong1@zte.com.cn>
Date: Friday, December 06 2024 05:57:15 
DPDK git baseline: Repo:dpdk
  Branch: master
  CommitID:69072dbdfc0ab49bc5a1a3707fd6f2bf5d4a41ef

149052-149064 --> testing pass

Test environment and result as below:

+---------------------+--------------------+------------------+-------------------+-------------------+-------------------------+----------------------+
|     Environment     | dpdk_meson_compile | dpdk_compile_ovs | dpdk_compile_spdk | dpdk_msvc_compile | dpdk_llvm_clang_compile | dpdk_mingw64_compile |
+=====================+====================+==================+===================+===================+=========================+======================+
| CentOS Stream 9     | PASS               | PASS             | PASS              | SKIPPED           | SKIPPED                 | SKIPPED              |
+---------------------+--------------------+------------------+-------------------+-------------------+-------------------------+----------------------+
| Debian 12           | PASS               | PASS             | PASS              | SKIPPED           | SKIPPED                 | SKIPPED              |
+---------------------+--------------------+------------------+-------------------+-------------------+-------------------------+----------------------+
| Fedora 39           | PASS               | PASS             | PASS              | SKIPPED           | SKIPPED                 | SKIPPED              |
+---------------------+--------------------+------------------+-------------------+-------------------+-------------------------+----------------------+
| Fedora 40 (Clang)   | PASS               | PASS             | PASS              | SKIPPED           | SKIPPED                 | SKIPPED              |
+---------------------+--------------------+------------------+-------------------+-------------------+-------------------------+----------------------+
| Fedora 40           | PASS               | PASS             | PASS              | SKIPPED           | SKIPPED                 | SKIPPED              |
+---------------------+--------------------+------------------+-------------------+-------------------+-------------------------+----------------------+
| RHEL8               | PASS               | PASS             | SKIPPED           | SKIPPED           | SKIPPED                 | SKIPPED              |
+---------------------+--------------------+------------------+-------------------+-------------------+-------------------------+----------------------+
| Ubuntu 22.04        | PASS               | PASS             | PASS              | SKIPPED           | SKIPPED                 | SKIPPED              |
+---------------------+--------------------+------------------+-------------------+-------------------+-------------------------+----------------------+
| Ubuntu 20.04        | PASS               | SKIPPED          | SKIPPED           | SKIPPED           | SKIPPED                 | SKIPPED              |
+---------------------+--------------------+------------------+-------------------+-------------------+-------------------------+----------------------+
| RHEL9               | PASS               | PASS             | SKIPPED           | SKIPPED           | SKIPPED                 | SKIPPED              |
+---------------------+--------------------+------------------+-------------------+-------------------+-------------------------+----------------------+
| Ubuntu 24.04        | PASS               | PASS             | PASS              | SKIPPED           | SKIPPED                 | SKIPPED              |
+---------------------+--------------------+------------------+-------------------+-------------------+-------------------------+----------------------+
| Alpine              | PASS               | PASS             | SKIPPED           | SKIPPED           | SKIPPED                 | SKIPPED              |
+---------------------+--------------------+------------------+-------------------+-------------------+-------------------------+----------------------+
| FreeBSD 13.4        | PASS               | SKIPPED          | SKIPPED           | SKIPPED           | SKIPPED                 | SKIPPED              |
+---------------------+--------------------+------------------+-------------------+-------------------+-------------------------+----------------------+
| FreeBSD 14.2        | PASS               | SKIPPED          | SKIPPED           | SKIPPED           | SKIPPED                 | SKIPPED              |
+---------------------+--------------------+------------------+-------------------+-------------------+-------------------------+----------------------+
| Fedora 39 (Clang)   | PASS               | PASS             | PASS              | SKIPPED           | SKIPPED                 | SKIPPED              |
+---------------------+--------------------+------------------+-------------------+-------------------+-------------------------+----------------------+
| openSUSE Leap 15    | PASS               | PASS             | SKIPPED           | SKIPPED           | SKIPPED                 | SKIPPED              |
+---------------------+--------------------+------------------+-------------------+-------------------+-------------------------+----------------------+
| Windows Server 2022 | SKIPPED            | SKIPPED          | SKIPPED           | PASS              | PASS                    | PASS                 |
+---------------------+--------------------+------------------+-------------------+-------------------+-------------------------+----------------------+


CentOS Stream 9
	Kernel: Depends on container host
	Compiler: gcc 11.5.0 20240719 (Red Hat 11.5.0-2)

Debian 12
	Kernel: Depends on container host
	Compiler: gcc (Debian 12.2.0-14) 12.2.0

Fedora 39
	Kernel: Depends on container host
	Compiler: gcc 13.3.1 20240522 (Red Hat 13.3.1-1)

Fedora 40 (Clang)
	Kernel: Depends on container host
	Compiler: clang 18.1.8 (Fedora 18.1.8-1.fc40)

Fedora 40
	Kernel: Depends on container host
	Compiler: gcc 14.2.1 20240912 (Red Hat 14.2.1-3)

RHEL8
	Kernel: Depends on container host
	Compiler: gcc 8.5.0 20210514 (Red Hat 8.5.0-22)

Ubuntu 22.04
	Kernel: Depends on container host
	Compiler: gcc (Ubuntu 11.4.0-1ubuntu1~22.04) 11.4.0

Ubuntu 20.04
	Kernel: Depends on container host
	Compiler: gcc (Ubuntu 9.4.0-1ubuntu1~20.04.2) 9.4.0

RHEL9
	Kernel: Depends on container host
	Compiler: gcc 11.5.0 20240719 (Red Hat 11.5.0-2)

Ubuntu 24.04
	Kernel: Depends on container host
	Compiler: gcc (Ubuntu 13.3.0-6ubuntu2~24.04) 13.3.0

Alpine
	Kernel: Depends on container host
	Compiler: gcc (Alpine 14.2.0) 14.2.0

FreeBSD 13.4
	Kernel: 13.4-RELEASE-p1
	Compiler: clang 18.1.6

FreeBSD 14.2
	Kernel: 14.2-RELEASE
	Compiler: clang 18.1.6

Fedora 39 (Clang)
	Kernel: Depends on container host
	Compiler: clang 17.0.6 (Fedora 17.0.6-2.fc39)

openSUSE Leap 15
	Kernel: Depends on container host
	Compiler: gcc (SUSE Linux) 7.5.0

Windows Server 2022
	Kernel: 10.0.20348.2031
	Compiler: clang 15.0.7, gcc 14.1.0 (MinGW), and MSVC VS 19.39.33521

To view detailed results, visit:
https://lab.dpdk.org/results/dashboard/patchsets/32097/

UNH-IOL DPDK Community Lab

To manage your email subscriptions, visit: 
https://lab.dpdk.org/results/dashboard/preferences/subscriptions/