From mboxrd@z Thu Jan 1 00:00:00 1970 Return-Path: Received: from mails.dpdk.org (mails.dpdk.org [217.70.189.124]) by inbox.dpdk.org (Postfix) with ESMTP id F2B38461BE for ; Fri, 7 Feb 2025 19:39:13 +0100 (CET) Received: from mails.dpdk.org (localhost [127.0.0.1]) by mails.dpdk.org (Postfix) with ESMTP id F03C942ED5; Fri, 7 Feb 2025 19:39:13 +0100 (CET) Received: from mail-pl1-f225.google.com (mail-pl1-f225.google.com [209.85.214.225]) by mails.dpdk.org (Postfix) with ESMTP id 282E142E90 for ; Fri, 7 Feb 2025 19:39:13 +0100 (CET) Received: by mail-pl1-f225.google.com with SMTP id d9443c01a7336-21f3c119fe6so50536125ad.0 for ; Fri, 07 Feb 2025 10:39:13 -0800 (PST) DKIM-Signature: v=1; a=rsa-sha256; c=relaxed/relaxed; d=iol.unh.edu; s=unh-iol; t=1738953552; x=1739558352; darn=dpdk.org; h=references:in-reply-to:cc:to:from:subject:message-id:date:from:to :cc:subject:date:message-id:reply-to; bh=N4ipcege9wc6sofDRxbtLYxpmiht2khcIxR70AySO7o=; b=TtnOHUDNg01zq+Na9d51xzCo/uF9rJLqWKp6EfBDFcd1QU0lBodZNOLm/BLm8EPHE7 tIQAdRGaThjGnYmQyLA2k+Iitoxcu9vhPY5o98uizshBotVqTAg7NLUsxvHgLRrZQkiV 1IuZ/wpTqHlRQII8F7ip9HXS04FiXRHSaipbk= X-Google-DKIM-Signature: v=1; a=rsa-sha256; c=relaxed/relaxed; d=1e100.net; s=20230601; t=1738953552; x=1739558352; h=references:in-reply-to:cc:to:from:subject:message-id:date :x-gm-message-state:from:to:cc:subject:date:message-id:reply-to; bh=N4ipcege9wc6sofDRxbtLYxpmiht2khcIxR70AySO7o=; b=W2hBQwH6+XKn/y71Mbeb2CT6QIyelWUgeIFbno7iJ+8hPXTTRqBgPI0po/SWG3kjIT /m2ZGdKNm63n7MdVHN3q2bmT5z71N9jvF5DTVf92Moz/2gcBoH3fFdSpILPxfM8xxidu 07/OIkrqRMDke3bxNiIRmFhqjauFUI8ujRZu4yKrJ9gIF36Y6Q5RUNbaOKdZWPHASzeT jXYchSUcCCGGnvDeewi0kdtgB2PF57oEWxeG3UPRqVEar7vQJ4fFR4q9MT0LGwFpP7Om sE19LbbV6UX4IP+LrppqAW4l0uc1TIN/zKLp9WyL9O4naAy7Gdhp7igqTKOAepLvB48P RCew== X-Gm-Message-State: AOJu0YzUyJXuuJVQdLJP3xlIR/diVSgbzq4+ifA5M22owHJoaX1SmAow d6b7uQSFd8n3HGdOPrk+RwIhi+Yw23OiwQXePI9cEmPh/msqEIYYYdWyTu01EIZxkw716Q6ogbq FeF2lYUijn9D3ThqH6qrvde5EpiSeZhHLziJE5G7H X-Gm-Gg: ASbGnctyIrBDVfC8GMsyBkZELwVVGBJJK6C61x1hyyAEZyHJxM6E/SnN/m3V32qxIbz oGyiYcgex/GAIAfULAU3yeaNF5arpi946UPEuNMJ+GQ+NFzvtT2B73iZWkzIlsijRwfnwiaZhey tG2HjGXkyi6BKixHF8ZpPsW3VO4sW2CUJDm51Af4t0bxuo+loIgI1SZj0bj7+Uty3n8Xhuo343Z PiqaQAn3DgDWbezEhPZPMyi7WbvYROLx57LKj11Q9ZYy/urh0KLOfbeBASkMXGUJACeUcU8ukHj PrC1Eev1KKH9z0XO1D0jnqpTgFYhvQ== X-Google-Smtp-Source: AGHT+IGkgTWyTHTpnT+fd85Gt6wMkppxAZw5birSYXv9mRHtIEWiERTcl+0PnwL21H3Assxaek96CeIYaPKm X-Received: by 2002:a17:902:eccd:b0:21f:1bd:efd4 with SMTP id d9443c01a7336-21f4e6ab27amr66381225ad.19.1738953552412; Fri, 07 Feb 2025 10:39:12 -0800 (PST) Received: from postal.iol.unh.edu (postal.iol.unh.edu. [132.177.123.84]) by smtp-relay.gmail.com with ESMTPS id d9443c01a7336-21f3658d297sm2131095ad.62.2025.02.07.10.39.12 (version=TLS1_2 cipher=ECDHE-ECDSA-AES128-GCM-SHA256 bits=128/128); Fri, 07 Feb 2025 10:39:12 -0800 (PST) X-Relaying-Domain: iol.unh.edu Date: Fri, 07 Feb 2025 10:39:12 -0800 (PST) Message-ID: <67a65350.170a0220.a860a.aa72SMTPIN_ADDED_MISSING@mx.google.com> Received: from [172.21.0.5] (unknown [172.18.0.240]) by postal.iol.unh.edu (Postfix) with ESMTP id D695E6052472; Fri, 7 Feb 2025 13:39:11 -0500 (EST) Subject: |SUCCESS| pw149010 [PATCH] cryptodev: not close device when secondar From: dpdklab@iol.unh.edu To: Test Report Cc: dpdk-test-reports@iol.unh.edu In-Reply-To: <20241204024630.2869-1-ming.1.yang@nokia-sbell.com> References: <20241204024630.2869-1-ming.1.yang@nokia-sbell.com> Content-Type: text/plain X-BeenThere: test-report@dpdk.org X-Mailman-Version: 2.1.29 Precedence: list List-Id: automatic DPDK test reports List-Unsubscribe: , List-Archive: List-Post: List-Help: List-Subscribe: , Errors-To: test-report-bounces@dpdk.org Test-Label: iol-compile-amd64-testing Test-Status: SUCCESS http://dpdk.org/patch/149010 _Testing PASS_ Submitter: Yang Ming Date: Wednesday, December 04 2024 02:46:29 DPDK git baseline: Repo:dpdk Branch: master CommitID:4843aacb0d1201fef37e8a579fcd8baec4acdf98 149010 --> testing pass Test environment and result as below: +---------------------+--------------------+------------------+-------------------+-------------------+-------------------------+----------------------+ | Environment | dpdk_meson_compile | dpdk_compile_ovs | dpdk_compile_spdk | dpdk_msvc_compile | dpdk_llvm_clang_compile | dpdk_mingw64_compile | +=====================+====================+==================+===================+===================+=========================+======================+ | CentOS Stream 9 | PASS | PASS | PASS | SKIPPED | SKIPPED | SKIPPED | +---------------------+--------------------+------------------+-------------------+-------------------+-------------------------+----------------------+ | Debian 12 | PASS | PASS | PASS | SKIPPED | SKIPPED | SKIPPED | +---------------------+--------------------+------------------+-------------------+-------------------+-------------------------+----------------------+ | Fedora 39 (Clang) | PASS | PASS | PASS | SKIPPED | SKIPPED | SKIPPED | +---------------------+--------------------+------------------+-------------------+-------------------+-------------------------+----------------------+ | Fedora 40 | PASS | PASS | PASS | SKIPPED | SKIPPED | SKIPPED | +---------------------+--------------------+------------------+-------------------+-------------------+-------------------------+----------------------+ | Fedora 40 (Clang) | PASS | PASS | PASS | SKIPPED | SKIPPED | SKIPPED | +---------------------+--------------------+------------------+-------------------+-------------------+-------------------------+----------------------+ | Fedora 39 | PASS | PASS | PASS | SKIPPED | SKIPPED | SKIPPED | +---------------------+--------------------+------------------+-------------------+-------------------+-------------------------+----------------------+ | RHEL8 | PASS | PASS | SKIPPED | SKIPPED | SKIPPED | SKIPPED | +---------------------+--------------------+------------------+-------------------+-------------------+-------------------------+----------------------+ | openSUSE Leap 15 | PASS | PASS | SKIPPED | SKIPPED | SKIPPED | SKIPPED | +---------------------+--------------------+------------------+-------------------+-------------------+-------------------------+----------------------+ | Ubuntu 20.04 | PASS | SKIPPED | SKIPPED | SKIPPED | SKIPPED | SKIPPED | +---------------------+--------------------+------------------+-------------------+-------------------+-------------------------+----------------------+ | Ubuntu 22.04 | PASS | PASS | PASS | SKIPPED | SKIPPED | SKIPPED | +---------------------+--------------------+------------------+-------------------+-------------------+-------------------------+----------------------+ | Ubuntu 24.04 | PASS | PASS | PASS | SKIPPED | SKIPPED | SKIPPED | +---------------------+--------------------+------------------+-------------------+-------------------+-------------------------+----------------------+ | Alpine | PASS | PASS | SKIPPED | SKIPPED | SKIPPED | SKIPPED | +---------------------+--------------------+------------------+-------------------+-------------------+-------------------------+----------------------+ | FreeBSD 13.4 | PASS | SKIPPED | SKIPPED | SKIPPED | SKIPPED | SKIPPED | +---------------------+--------------------+------------------+-------------------+-------------------+-------------------------+----------------------+ | FreeBSD 14.2 | PASS | SKIPPED | SKIPPED | SKIPPED | SKIPPED | SKIPPED | +---------------------+--------------------+------------------+-------------------+-------------------+-------------------------+----------------------+ | RHEL9 | PASS | PASS | SKIPPED | SKIPPED | SKIPPED | SKIPPED | +---------------------+--------------------+------------------+-------------------+-------------------+-------------------------+----------------------+ | Windows Server 2022 | SKIPPED | SKIPPED | SKIPPED | PASS | PASS | PASS | +---------------------+--------------------+------------------+-------------------+-------------------+-------------------------+----------------------+ CentOS Stream 9 Kernel: Depends on container host Compiler: gcc 11.5.0 20240719 (Red Hat 11.5.0-2) Debian 12 Kernel: Depends on container host Compiler: gcc (Debian 12.2.0-14) 12.2.0 Fedora 39 (Clang) Kernel: Depends on container host Compiler: clang 17.0.6 (Fedora 17.0.6-2.fc39) Fedora 40 Kernel: Depends on container host Compiler: gcc 14.2.1 20240912 (Red Hat 14.2.1-3) Fedora 40 (Clang) Kernel: Depends on container host Compiler: clang 18.1.8 (Fedora 18.1.8-1.fc40) Fedora 39 Kernel: Depends on container host Compiler: gcc 13.3.1 20240522 (Red Hat 13.3.1-1) RHEL8 Kernel: Depends on container host Compiler: gcc 8.5.0 20210514 (Red Hat 8.5.0-22) openSUSE Leap 15 Kernel: Depends on container host Compiler: gcc (SUSE Linux) 7.5.0 Ubuntu 20.04 Kernel: Depends on container host Compiler: gcc (Ubuntu 9.4.0-1ubuntu1~20.04.2) 9.4.0 Ubuntu 22.04 Kernel: Depends on container host Compiler: gcc (Ubuntu 11.4.0-1ubuntu1~22.04) 11.4.0 Ubuntu 24.04 Kernel: Depends on container host Compiler: gcc (Ubuntu 13.3.0-6ubuntu2~24.04) 13.3.0 Alpine Kernel: Depends on container host Compiler: gcc (Alpine 14.2.0) 14.2.0 FreeBSD 13.4 Kernel: 13.4-RELEASE-p1 Compiler: clang 18.1.6 FreeBSD 14.2 Kernel: 14.2-RELEASE Compiler: clang 18.1.6 RHEL9 Kernel: Depends on container host Compiler: gcc 11.5.0 20240719 (Red Hat 11.5.0-2) Windows Server 2022 Kernel: 10.0.20348.2031 Compiler: clang 15.0.7, gcc 14.1.0 (MinGW), and MSVC VS 19.39.33521 To view detailed results, visit: https://lab.dpdk.org/results/dashboard/patchsets/32079/ UNH-IOL DPDK Community Lab To manage your email subscriptions, visit: https://lab.dpdk.org/results/dashboard/preferences/subscriptions/