From mboxrd@z Thu Jan 1 00:00:00 1970 Return-Path: Received: from mails.dpdk.org (mails.dpdk.org [217.70.189.124]) by inbox.dpdk.org (Postfix) with ESMTP id 0BED5461BE for ; Fri, 7 Feb 2025 19:39:16 +0100 (CET) Received: from mails.dpdk.org (localhost [127.0.0.1]) by mails.dpdk.org (Postfix) with ESMTP id 0979A42ED5; Fri, 7 Feb 2025 19:39:16 +0100 (CET) Received: from mail-qv1-f97.google.com (mail-qv1-f97.google.com [209.85.219.97]) by mails.dpdk.org (Postfix) with ESMTP id 3E81842E90 for ; Fri, 7 Feb 2025 19:39:15 +0100 (CET) Received: by mail-qv1-f97.google.com with SMTP id 6a1803df08f44-6dd1962a75bso17465306d6.3 for ; Fri, 07 Feb 2025 10:39:15 -0800 (PST) DKIM-Signature: v=1; a=rsa-sha256; c=relaxed/relaxed; d=iol.unh.edu; s=unh-iol; t=1738953554; x=1739558354; darn=dpdk.org; h=references:in-reply-to:cc:to:from:subject:message-id:date:from:to :cc:subject:date:message-id:reply-to; bh=dL+7q1O5vH6YE80hsdvPnkYSRGcHmuVvqv1sMngvXMw=; b=Of43cj2jNwFe6i1tooc8zs6PwLJCtprsprw8l0T7/3g1FTX2x2+ax6Bl4o7pqVz9L8 WzASe1lUqVtdiBlszMieerPx1bvBLLGBtvB/KkzC6q5w+nwHuiFnnqLPn0doHMTeRdCQ onVrrR1GbSM989bojTAwlrjrW+xfeEg/9QOuY= X-Google-DKIM-Signature: v=1; a=rsa-sha256; c=relaxed/relaxed; d=1e100.net; s=20230601; t=1738953554; x=1739558354; h=references:in-reply-to:cc:to:from:subject:message-id:date :x-gm-message-state:from:to:cc:subject:date:message-id:reply-to; bh=dL+7q1O5vH6YE80hsdvPnkYSRGcHmuVvqv1sMngvXMw=; b=I73c7MDkAWwdV95LO5R7JtRlWcIodAaDve9UBxQoTjUXzPko44IxDg7lPYO5twdrWa u617Pn6qwoMFVP4Hr2lHKrTMew4ZW4r84fNP9aUXl8ivxs7Y5BKPiQO1ObSF3N5wu5C3 /JbT0gsyrWsBymf7Ntl5mQFP1hzllUtivG2P9DfuaRtG7JTOhMDh7TrRUxwe7vTM4SJb oM+lkBI9t9b/GXgdCkWEw1lKWnY097bD0jZpvMCPoC8Xqz+uiblUhLStBcxbN22repCT 7y+ah2PWq6i79Fcvx3a1NWwEvHXJPBVKvoZQ4lS7P5CiNcyUxnWbvU1txqXiHbh/ij4z BZHQ== X-Gm-Message-State: AOJu0YzszQuu7zji7zHq+1FZ8U36bZuGP+pyLDCRSJ0yOx2yCtBRuMTm 7K9UPRBgexgVk5cC+bnuVJDWjnu1iUFtkkFsDGuAvRSUoTQZ7jgnzAupnXGJMiQ/Y98AuSeCu4m d7lDtZ5w/pjxpMtFeIEDt61V+49D9B94PxNq47/5c X-Gm-Gg: ASbGncuGblckpKbV/kpgVf48Y0oHIKPvlqiAqXgXKemFjk4f4nnMM5nFns8xA7N5jI5 C4esmfy9ZmhKWCbmVKN0oNUGu3rq3VQAKTTTkedn/wowJOSNsZwqEkzT2TZ+phS/+2rRHiVPFWJ Li8nQeQzni9Kofq220J7cfr/Gb0c4/Iez4EVt8/d3E1bE5N9qaOWSRP7Hv6PNGek1B12tIB4NBT 7dTnOX4Y+LyN6JAAUEuxMUvTR+GCZqguNLk1srsw2VL6I0SNc6HCg95vn2x2+H+5wTRixQHQcTH I7lQ2S13G4rX+yGLMt/zozBW/39n/Q== X-Google-Smtp-Source: AGHT+IHMZWnhwymuavZAPeZdah2qj1iWVQBaSza6Pkg+i1lE8SlACvkepUfEUMzRpqaYDxd+lBSHrJrcCDXy X-Received: by 2002:ad4:4eea:0:b0:6d8:80e8:d567 with SMTP id 6a1803df08f44-6e44563cb62mr53245466d6.18.1738953554680; Fri, 07 Feb 2025 10:39:14 -0800 (PST) Received: from postal.iol.unh.edu (postal.iol.unh.edu. [132.177.123.84]) by smtp-relay.gmail.com with ESMTPS id 6a1803df08f44-6e44a589398sm931116d6.8.2025.02.07.10.39.14 (version=TLS1_2 cipher=ECDHE-ECDSA-AES128-GCM-SHA256 bits=128/128); Fri, 07 Feb 2025 10:39:14 -0800 (PST) X-Relaying-Domain: iol.unh.edu Date: Fri, 07 Feb 2025 10:39:14 -0800 (PST) Message-ID: <67a65352.050a0220.29a057.5265SMTPIN_ADDED_MISSING@mx.google.com> Received: from [172.21.0.9] (unknown [172.18.0.240]) by postal.iol.unh.edu (Postfix) with ESMTP id 62A6C6052472; Fri, 7 Feb 2025 13:39:14 -0500 (EST) Subject: |SUCCESS| pw149015 [PATCH] lib/gso: rte_gso_segment function increas From: dpdklab@iol.unh.edu To: Test Report Cc: dpdk-test-reports@iol.unh.edu In-Reply-To: <20241204024430.2749-1-18859237562@163.com> References: <20241204024430.2749-1-18859237562@163.com> Content-Type: text/plain X-BeenThere: test-report@dpdk.org X-Mailman-Version: 2.1.29 Precedence: list List-Id: automatic DPDK test reports List-Unsubscribe: , List-Archive: List-Post: List-Help: List-Subscribe: , Errors-To: test-report-bounces@dpdk.org Test-Label: iol-compile-amd64-testing Test-Status: SUCCESS http://dpdk.org/patch/149015 _Testing PASS_ Submitter: Caiqiang Liao <18859237562@163.com> Date: Wednesday, December 04 2024 02:44:30 DPDK git baseline: Repo:dpdk Branch: master CommitID:7df61db6c387703a36306c1aea92225921e2eeb2 149015 --> testing pass Test environment and result as below: +---------------------+--------------------+------------------+-------------------+-------------------+-------------------------+----------------------+ | Environment | dpdk_meson_compile | dpdk_compile_ovs | dpdk_compile_spdk | dpdk_msvc_compile | dpdk_llvm_clang_compile | dpdk_mingw64_compile | +=====================+====================+==================+===================+===================+=========================+======================+ | CentOS Stream 9 | PASS | PASS | PASS | SKIPPED | SKIPPED | SKIPPED | +---------------------+--------------------+------------------+-------------------+-------------------+-------------------------+----------------------+ | Debian 12 | PASS | PASS | PASS | SKIPPED | SKIPPED | SKIPPED | +---------------------+--------------------+------------------+-------------------+-------------------+-------------------------+----------------------+ | Fedora 39 (Clang) | PASS | PASS | PASS | SKIPPED | SKIPPED | SKIPPED | +---------------------+--------------------+------------------+-------------------+-------------------+-------------------------+----------------------+ | Fedora 39 | PASS | PASS | PASS | SKIPPED | SKIPPED | SKIPPED | +---------------------+--------------------+------------------+-------------------+-------------------+-------------------------+----------------------+ | Fedora 40 (Clang) | PASS | PASS | PASS | SKIPPED | SKIPPED | SKIPPED | +---------------------+--------------------+------------------+-------------------+-------------------+-------------------------+----------------------+ | Fedora 40 | PASS | PASS | PASS | SKIPPED | SKIPPED | SKIPPED | +---------------------+--------------------+------------------+-------------------+-------------------+-------------------------+----------------------+ | openSUSE Leap 15 | PASS | PASS | SKIPPED | SKIPPED | SKIPPED | SKIPPED | +---------------------+--------------------+------------------+-------------------+-------------------+-------------------------+----------------------+ | RHEL8 | PASS | PASS | SKIPPED | SKIPPED | SKIPPED | SKIPPED | +---------------------+--------------------+------------------+-------------------+-------------------+-------------------------+----------------------+ | Ubuntu 22.04 | PASS | PASS | PASS | SKIPPED | SKIPPED | SKIPPED | +---------------------+--------------------+------------------+-------------------+-------------------+-------------------------+----------------------+ | RHEL9 | PASS | PASS | SKIPPED | SKIPPED | SKIPPED | SKIPPED | +---------------------+--------------------+------------------+-------------------+-------------------+-------------------------+----------------------+ | Ubuntu 24.04 | PASS | PASS | PASS | SKIPPED | SKIPPED | SKIPPED | +---------------------+--------------------+------------------+-------------------+-------------------+-------------------------+----------------------+ | Ubuntu 20.04 | PASS | SKIPPED | SKIPPED | SKIPPED | SKIPPED | SKIPPED | +---------------------+--------------------+------------------+-------------------+-------------------+-------------------------+----------------------+ | Alpine | PASS | PASS | SKIPPED | SKIPPED | SKIPPED | SKIPPED | +---------------------+--------------------+------------------+-------------------+-------------------+-------------------------+----------------------+ | FreeBSD 13.4 | PASS | SKIPPED | SKIPPED | SKIPPED | SKIPPED | SKIPPED | +---------------------+--------------------+------------------+-------------------+-------------------+-------------------------+----------------------+ | FreeBSD 14.2 | PASS | SKIPPED | SKIPPED | SKIPPED | SKIPPED | SKIPPED | +---------------------+--------------------+------------------+-------------------+-------------------+-------------------------+----------------------+ | Windows Server 2022 | SKIPPED | SKIPPED | SKIPPED | PASS | PASS | PASS | +---------------------+--------------------+------------------+-------------------+-------------------+-------------------------+----------------------+ CentOS Stream 9 Kernel: Depends on container host Compiler: gcc 11.5.0 20240719 (Red Hat 11.5.0-2) Debian 12 Kernel: Depends on container host Compiler: gcc (Debian 12.2.0-14) 12.2.0 Fedora 39 (Clang) Kernel: Depends on container host Compiler: clang 17.0.6 (Fedora 17.0.6-2.fc39) Fedora 39 Kernel: Depends on container host Compiler: gcc 13.3.1 20240522 (Red Hat 13.3.1-1) Fedora 40 (Clang) Kernel: Depends on container host Compiler: clang 18.1.8 (Fedora 18.1.8-1.fc40) Fedora 40 Kernel: Depends on container host Compiler: gcc 14.2.1 20240912 (Red Hat 14.2.1-3) openSUSE Leap 15 Kernel: Depends on container host Compiler: gcc (SUSE Linux) 7.5.0 RHEL8 Kernel: Depends on container host Compiler: gcc 8.5.0 20210514 (Red Hat 8.5.0-22) Ubuntu 22.04 Kernel: Depends on container host Compiler: gcc (Ubuntu 11.4.0-1ubuntu1~22.04) 11.4.0 RHEL9 Kernel: Depends on container host Compiler: gcc 11.5.0 20240719 (Red Hat 11.5.0-2) Ubuntu 24.04 Kernel: Depends on container host Compiler: gcc (Ubuntu 13.3.0-6ubuntu2~24.04) 13.3.0 Ubuntu 20.04 Kernel: Depends on container host Compiler: gcc (Ubuntu 9.4.0-1ubuntu1~20.04.2) 9.4.0 Alpine Kernel: Depends on container host Compiler: gcc (Alpine 14.2.0) 14.2.0 FreeBSD 13.4 Kernel: 13.4-RELEASE-p1 Compiler: clang 18.1.6 FreeBSD 14.2 Kernel: 14.2-RELEASE Compiler: clang 18.1.6 Windows Server 2022 Kernel: 10.0.20348.2031 Compiler: clang 15.0.7, gcc 14.1.0 (MinGW), and MSVC VS 19.39.33521 To view detailed results, visit: https://lab.dpdk.org/results/dashboard/patchsets/32083/ UNH-IOL DPDK Community Lab To manage your email subscriptions, visit: https://lab.dpdk.org/results/dashboard/preferences/subscriptions/