From mboxrd@z Thu Jan 1 00:00:00 1970 Return-Path: Received: from mails.dpdk.org (mails.dpdk.org [217.70.189.124]) by inbox.dpdk.org (Postfix) with ESMTP id 28DAF461BE for ; Fri, 7 Feb 2025 19:39:26 +0100 (CET) Received: from mails.dpdk.org (localhost [127.0.0.1]) by mails.dpdk.org (Postfix) with ESMTP id 23F6D42ED5; Fri, 7 Feb 2025 19:39:26 +0100 (CET) Received: from mail-qv1-f100.google.com (mail-qv1-f100.google.com [209.85.219.100]) by mails.dpdk.org (Postfix) with ESMTP id 40FDC42E90 for ; Fri, 7 Feb 2025 19:39:25 +0100 (CET) Received: by mail-qv1-f100.google.com with SMTP id 6a1803df08f44-6d92e457230so24462876d6.1 for ; Fri, 07 Feb 2025 10:39:25 -0800 (PST) DKIM-Signature: v=1; a=rsa-sha256; c=relaxed/relaxed; d=iol.unh.edu; s=unh-iol; t=1738953564; x=1739558364; darn=dpdk.org; h=references:in-reply-to:cc:to:from:subject:message-id:date:from:to :cc:subject:date:message-id:reply-to; bh=Czx4twoclEE/01BEwI2dyn82b4oc9Bc0/0skR26yCgU=; b=c1NEy7XLIQK5ER7XrWE+0uxCG3OrIs85Wd8eBr7nMpZWL62YWoKSw1Y4Qfs0PW51nt c//cMGs3xo89q7FHKIY9vZqtSZ/fppn5eVp27xAwUzqMr24NYXDIWGu6TXJu+jzCLzyf NOu2pQ0dpDD0m+2nyd28P4Qw303EIuaQX/vRI= X-Google-DKIM-Signature: v=1; a=rsa-sha256; c=relaxed/relaxed; d=1e100.net; s=20230601; t=1738953564; x=1739558364; h=references:in-reply-to:cc:to:from:subject:message-id:date :x-gm-message-state:from:to:cc:subject:date:message-id:reply-to; bh=Czx4twoclEE/01BEwI2dyn82b4oc9Bc0/0skR26yCgU=; b=YNYItSYY5rvR44gLL/WY8OLefrsq15wNlJtN8cjgWbFtFaoGaB1YH4qON9Zs37QA6u dc+B99nhXTPNu1YyEcQ8W9KwLhJrdhM9p/GrAIwfx7cBQJStjaILymbVAR0CfHfcoh13 jNmVbH8EUqdW75U1MolwNexsVsLdxP53SIqsNCENNlJO4YKTdumCWpyrK7OdwSaP+5K5 TJaVTBoQwAT2ZYlWtsXK+H53JaXkU0dXw/c/j6wWaedsOVpQw9K6cIC948nrKFI81yCb yjnpM0LUv9QmX5O/OjTKTIvD2Hd3APqZRgDOmslQNxnnUGpnOExkNJZj6VNtZo+WuXBR SYfw== X-Gm-Message-State: AOJu0Yx+a2Nh+XPzGFOG7HmHo2g3lamnJHWy6Q4wcwWY9vpxK1LIVz4T pqCn1A/YfpmbsVfyONrdv4DG0kdUCZJphoFWio6OjKRCUjp3n6YxIlfPhj9Nw/WCn5mSxByjPvT z0Rc9/5VS97I1LyrAvrIuwljz/Wul9tOsQ8ezVUEP X-Gm-Gg: ASbGncvdz9uKZVMj59bP6DUdK0kGAnTJtqIb8Pw3Klndvwwy+EjM+nuh7+GY6zVitv+ /bGoFsl50mO4z4WsZ7ziFjZ6AV1vpl+26i3rWxljy1JQS+D0YeqQPmUMx1tFvUPQVTkL6TWh8Lk NRdvSKIXeySCGQXDg1DvIAol0KznfdHlbSiNU5sqo/oXYqFdYIyOJJzycvjynzid5FHueZ4cMgp ZicVDQKhG4D7jIaMs/15QG9Gn903709axx3pndMtWutwwOkkmB/D1k8w8rjcSwt6ZjVgy9K45zo sfoOm9Fb0JypsfdBotYb4us2xYbRjw== X-Google-Smtp-Source: AGHT+IGozrVP7qpCDVGZCGmUCOPjjFD/TsZgS9imEBQ6h7x9ow7KI9gDDqt1orO1Afm9arKYidy9u2++HVnw X-Received: by 2002:a05:6214:21a1:b0:6d4:215d:91b9 with SMTP id 6a1803df08f44-6e4455e6ed1mr64803266d6.11.1738953564711; Fri, 07 Feb 2025 10:39:24 -0800 (PST) Received: from postal.iol.unh.edu (postal.iol.unh.edu. [132.177.123.84]) by smtp-relay.gmail.com with ESMTPS id 6a1803df08f44-6e43ba53603sm2366886d6.33.2025.02.07.10.39.24 (version=TLS1_2 cipher=ECDHE-ECDSA-AES128-GCM-SHA256 bits=128/128); Fri, 07 Feb 2025 10:39:24 -0800 (PST) X-Relaying-Domain: iol.unh.edu Date: Fri, 07 Feb 2025 10:39:24 -0800 (PST) Message-ID: <67a6535c.d40a0220.32c491.c5bcSMTPIN_ADDED_MISSING@mx.google.com> Received: from [172.21.0.8] (unknown [172.18.0.240]) by postal.iol.unh.edu (Postfix) with ESMTP id 27D056052471; Fri, 7 Feb 2025 13:38:54 -0500 (EST) Subject: |SUCCESS| pw149017 [PATCH] MAINTAINERS: update maintainers for next- From: dpdklab@iol.unh.edu To: Test Report Cc: dpdk-test-reports@iol.unh.edu In-Reply-To: <20241204165002.9555-1-stephen@networkplumber.org> References: <20241204165002.9555-1-stephen@networkplumber.org> Content-Type: text/plain X-BeenThere: test-report@dpdk.org X-Mailman-Version: 2.1.29 Precedence: list List-Id: automatic DPDK test reports List-Unsubscribe: , List-Archive: List-Post: List-Help: List-Subscribe: , Errors-To: test-report-bounces@dpdk.org Test-Label: iol-compile-amd64-testing Test-Status: SUCCESS http://dpdk.org/patch/149017 _Testing PASS_ Submitter: Stephen Hemminger Date: Wednesday, December 04 2024 16:50:02 DPDK git baseline: Repo:dpdk Branch: master CommitID:7df61db6c387703a36306c1aea92225921e2eeb2 149017 --> testing pass Test environment and result as below: +---------------------+--------------------+------------------+-------------------+-------------------------+-------------------+----------------------+ | Environment | dpdk_meson_compile | dpdk_compile_ovs | dpdk_compile_spdk | dpdk_llvm_clang_compile | dpdk_msvc_compile | dpdk_mingw64_compile | +=====================+====================+==================+===================+=========================+===================+======================+ | CentOS Stream 9 | PASS | PASS | PASS | SKIPPED | SKIPPED | SKIPPED | +---------------------+--------------------+------------------+-------------------+-------------------------+-------------------+----------------------+ | Debian 12 | PASS | PASS | PASS | SKIPPED | SKIPPED | SKIPPED | +---------------------+--------------------+------------------+-------------------+-------------------------+-------------------+----------------------+ | Fedora 39 (Clang) | PASS | PASS | PASS | SKIPPED | SKIPPED | SKIPPED | +---------------------+--------------------+------------------+-------------------+-------------------------+-------------------+----------------------+ | Fedora 39 | PASS | PASS | PASS | SKIPPED | SKIPPED | SKIPPED | +---------------------+--------------------+------------------+-------------------+-------------------------+-------------------+----------------------+ | Fedora 40 (Clang) | PASS | PASS | PASS | SKIPPED | SKIPPED | SKIPPED | +---------------------+--------------------+------------------+-------------------+-------------------------+-------------------+----------------------+ | RHEL8 | PASS | PASS | SKIPPED | SKIPPED | SKIPPED | SKIPPED | +---------------------+--------------------+------------------+-------------------+-------------------------+-------------------+----------------------+ | Fedora 40 | PASS | PASS | PASS | SKIPPED | SKIPPED | SKIPPED | +---------------------+--------------------+------------------+-------------------+-------------------------+-------------------+----------------------+ | openSUSE Leap 15 | PASS | PASS | SKIPPED | SKIPPED | SKIPPED | SKIPPED | +---------------------+--------------------+------------------+-------------------+-------------------------+-------------------+----------------------+ | Ubuntu 22.04 | PASS | PASS | PASS | SKIPPED | SKIPPED | SKIPPED | +---------------------+--------------------+------------------+-------------------+-------------------------+-------------------+----------------------+ | Ubuntu 20.04 | PASS | SKIPPED | SKIPPED | SKIPPED | SKIPPED | SKIPPED | +---------------------+--------------------+------------------+-------------------+-------------------------+-------------------+----------------------+ | RHEL9 | PASS | PASS | SKIPPED | SKIPPED | SKIPPED | SKIPPED | +---------------------+--------------------+------------------+-------------------+-------------------------+-------------------+----------------------+ | Ubuntu 24.04 | PASS | PASS | PASS | SKIPPED | SKIPPED | SKIPPED | +---------------------+--------------------+------------------+-------------------+-------------------------+-------------------+----------------------+ | Alpine | PASS | PASS | SKIPPED | SKIPPED | SKIPPED | SKIPPED | +---------------------+--------------------+------------------+-------------------+-------------------------+-------------------+----------------------+ | FreeBSD 13.4 | PASS | SKIPPED | SKIPPED | SKIPPED | SKIPPED | SKIPPED | +---------------------+--------------------+------------------+-------------------+-------------------------+-------------------+----------------------+ | FreeBSD 14.2 | PASS | SKIPPED | SKIPPED | SKIPPED | SKIPPED | SKIPPED | +---------------------+--------------------+------------------+-------------------+-------------------------+-------------------+----------------------+ | Windows Server 2022 | SKIPPED | SKIPPED | SKIPPED | PASS | PASS | PASS | +---------------------+--------------------+------------------+-------------------+-------------------------+-------------------+----------------------+ CentOS Stream 9 Kernel: Depends on container host Compiler: gcc 11.5.0 20240719 (Red Hat 11.5.0-2) Debian 12 Kernel: Depends on container host Compiler: gcc (Debian 12.2.0-14) 12.2.0 Fedora 39 (Clang) Kernel: Depends on container host Compiler: clang 17.0.6 (Fedora 17.0.6-2.fc39) Fedora 39 Kernel: Depends on container host Compiler: gcc 13.3.1 20240522 (Red Hat 13.3.1-1) Fedora 40 (Clang) Kernel: Depends on container host Compiler: clang 18.1.8 (Fedora 18.1.8-1.fc40) RHEL8 Kernel: Depends on container host Compiler: gcc 8.5.0 20210514 (Red Hat 8.5.0-22) Fedora 40 Kernel: Depends on container host Compiler: gcc 14.2.1 20240912 (Red Hat 14.2.1-3) openSUSE Leap 15 Kernel: Depends on container host Compiler: gcc (SUSE Linux) 7.5.0 Ubuntu 22.04 Kernel: Depends on container host Compiler: gcc (Ubuntu 11.4.0-1ubuntu1~22.04) 11.4.0 Ubuntu 20.04 Kernel: Depends on container host Compiler: gcc (Ubuntu 9.4.0-1ubuntu1~20.04.2) 9.4.0 RHEL9 Kernel: Depends on container host Compiler: gcc 11.5.0 20240719 (Red Hat 11.5.0-2) Ubuntu 24.04 Kernel: Depends on container host Compiler: gcc (Ubuntu 13.3.0-6ubuntu2~24.04) 13.3.0 Alpine Kernel: Depends on container host Compiler: gcc (Alpine 14.2.0) 14.2.0 FreeBSD 13.4 Kernel: 13.4-RELEASE-p1 Compiler: clang 18.1.6 FreeBSD 14.2 Kernel: 14.2-RELEASE Compiler: clang 18.1.6 Windows Server 2022 Kernel: 10.0.20348.2031 Compiler: clang 15.0.7, gcc 14.1.0 (MinGW), and MSVC VS 19.39.33521 To view detailed results, visit: https://lab.dpdk.org/results/dashboard/patchsets/32085/ UNH-IOL DPDK Community Lab To manage your email subscriptions, visit: https://lab.dpdk.org/results/dashboard/preferences/subscriptions/