From mboxrd@z Thu Jan 1 00:00:00 1970 Return-Path: Received: from mails.dpdk.org (mails.dpdk.org [217.70.189.124]) by inbox.dpdk.org (Postfix) with ESMTP id 59CA7461BE for ; Fri, 7 Feb 2025 19:39:52 +0100 (CET) Received: from mails.dpdk.org (localhost [127.0.0.1]) by mails.dpdk.org (Postfix) with ESMTP id 54B7942EE1; Fri, 7 Feb 2025 19:39:52 +0100 (CET) Received: from mail-oi1-f226.google.com (mail-oi1-f226.google.com [209.85.167.226]) by mails.dpdk.org (Postfix) with ESMTP id 5343542EEB for ; Fri, 7 Feb 2025 19:39:48 +0100 (CET) Received: by mail-oi1-f226.google.com with SMTP id 5614622812f47-3eb9a0a2089so1495747b6e.1 for ; Fri, 07 Feb 2025 10:39:48 -0800 (PST) DKIM-Signature: v=1; a=rsa-sha256; c=relaxed/relaxed; d=iol.unh.edu; s=unh-iol; t=1738953587; x=1739558387; darn=dpdk.org; h=cc:to:from:subject:message-id:date:from:to:cc:subject:date :message-id:reply-to; bh=bVsplPyu8bsPU1ypMTJ6wTu0CiZ5YSZE0PNMgMqiiPs=; b=Dx+RbU5Dw13SC1Wyd2DhNQ3reAH2xTVfbsWKpuF91U5nSNResOSIjwOFhfnx9LILHL N7Je567CF4bv4uRljq5S43hah/I5OsAg89C+xAyZQRE/TWFDgKIbz6ZUKK3nsjVVgEdR vSrYsRioWbnyESrQvaDGdJUGddNckH61wAyY8= X-Google-DKIM-Signature: v=1; a=rsa-sha256; c=relaxed/relaxed; d=1e100.net; s=20230601; t=1738953587; x=1739558387; h=cc:to:from:subject:message-id:date:x-gm-message-state:from:to:cc :subject:date:message-id:reply-to; bh=bVsplPyu8bsPU1ypMTJ6wTu0CiZ5YSZE0PNMgMqiiPs=; b=e11ly2+hR+d/JhXSZfbz3xrNcQRD07kGADOviaeo4BtHdWG2mTipYRP9uBHAOtUh4Z 3G5H3h4CUgecui2tPZYgDHqmY+PgmMCyqxuWAtELBErLF0T200evop8FLd3LEmkOS7R6 DQ2nrcUEVH794tFHJdaMB/IeNAnpjiXiTWwnOIB2dQl9Bt65iBX1C8uYytjecbOA8HF/ yUY40c/BIel0eHxNAuMASWzeRHT1Wt+Vh3LV1o/vaYrzQTjets/Y6zqmoCiAVBF7NTC+ z/gu4KgVoZgFV7QEFr7NWZLWIGEiJs1AVjHU4iHKf2dmKhCW2GUDiiNumfrDWbdaEmik CXmQ== X-Gm-Message-State: AOJu0YxjGpREyG24sVAtv68ZGCZnsZ+LY03QWuwlnFob/J9cNDMZd219 XgFZKiC9VVt6u52LorChWy1D9th45jUxNMfRyjq6l2TgkPRlX5TJQEqgJrpVNA7BkhyKSJ4dm/N WozEJR51HFlYdDiGzdhVfnJv8Z1eauY6KtT+8eoKf X-Gm-Gg: ASbGncvYd1SJQxO/2x+gamX4PO7VjQ9yF4lstIp4aA48zMUFlSQ04sEYtiwbl70Qe6P hk4+JnqPBkf7557jXnGaTOCWjKgYypv1q6+42lX1NWwLsL0X6f14OvvCH2hLjGr+CpEI+cmw8gw aKw4iyAX3lzeKY8kLVEYepkO4+suG5+Mj5TjpSi92rNdy+vfexkblbyMT5wLxYgzFGxuWjaQyC9 +lY2+WDvFC9K2wqgEsl8zWrKh9MPwDNLo0SB3WioRyC1fEFG8l0fKpscLgFSAhG32UuCt8tYDmU /4FIQAV7RQGfBirq6dAdyHRnx/T2vA== X-Google-Smtp-Source: AGHT+IFv6VT17UWljX8zWuV05GJsTfQdSa1Ga5vgv43fACskbDHj3H9lew7/MYWSUThvIlS5MCX0zP9cZX+c X-Received: by 2002:a05:6808:320c:b0:3eb:53f2:17d4 with SMTP id 5614622812f47-3f39235762cmr3097123b6e.25.1738953587567; Fri, 07 Feb 2025 10:39:47 -0800 (PST) Received: from postal.iol.unh.edu (postal.iol.unh.edu. [132.177.123.84]) by smtp-relay.gmail.com with ESMTPS id 46e09a7af769-726af913d66sm209470a34.3.2025.02.07.10.39.47 (version=TLS1_2 cipher=ECDHE-ECDSA-AES128-GCM-SHA256 bits=128/128); Fri, 07 Feb 2025 10:39:47 -0800 (PST) X-Relaying-Domain: iol.unh.edu Date: Fri, 07 Feb 2025 10:39:47 -0800 (PST) Message-ID: <67a65373.050a0220.18c0dc.aba0SMTPIN_ADDED_MISSING@mx.google.com> Received: from [172.21.0.11] (unknown [172.18.0.240]) by postal.iol.unh.edu (Postfix) with ESMTP id B2F036052472; Fri, 7 Feb 2025 13:39:16 -0500 (EST) Subject: |SUCCESS| [GIT MASTER] 69072dbdfc0ab49bc5a1a3707fd6f2bf5d4a41ef From: dpdklab@iol.unh.edu To: Test Report Cc: dpdk-test-reports@iol.unh.edu, Stephen Hemminger Content-Type: text/plain X-BeenThere: test-report@dpdk.org X-Mailman-Version: 2.1.29 Precedence: list List-Id: automatic DPDK test reports List-Unsubscribe: , List-Archive: List-Post: List-Help: List-Subscribe: , Errors-To: test-report-bounces@dpdk.org _Testing PASS_ Branch: dpdk-next-net 69072dbdfc0ab49bc5a1a3707fd6f2bf5d4a41ef --> testing pass Test environment and result as below: +---------------------+--------------------+------------------+-------------------+-------------------+-------------------------+----------------------+ | Environment | dpdk_meson_compile | dpdk_compile_ovs | dpdk_compile_spdk | dpdk_msvc_compile | dpdk_llvm_clang_compile | dpdk_mingw64_compile | +=====================+====================+==================+===================+===================+=========================+======================+ | CentOS Stream 9 | PASS | PASS | PASS | SKIPPED | SKIPPED | SKIPPED | +---------------------+--------------------+------------------+-------------------+-------------------+-------------------------+----------------------+ | Debian 12 | PASS | PASS | PASS | SKIPPED | SKIPPED | SKIPPED | +---------------------+--------------------+------------------+-------------------+-------------------+-------------------------+----------------------+ | Fedora 40 | PASS | PASS | PASS | SKIPPED | SKIPPED | SKIPPED | +---------------------+--------------------+------------------+-------------------+-------------------+-------------------------+----------------------+ | Fedora 39 | PASS | PASS | PASS | SKIPPED | SKIPPED | SKIPPED | +---------------------+--------------------+------------------+-------------------+-------------------+-------------------------+----------------------+ | Fedora 40 (Clang) | PASS | PASS | PASS | SKIPPED | SKIPPED | SKIPPED | +---------------------+--------------------+------------------+-------------------+-------------------+-------------------------+----------------------+ | openSUSE Leap 15 | PASS | PASS | SKIPPED | SKIPPED | SKIPPED | SKIPPED | +---------------------+--------------------+------------------+-------------------+-------------------+-------------------------+----------------------+ | RHEL8 | PASS | PASS | SKIPPED | SKIPPED | SKIPPED | SKIPPED | +---------------------+--------------------+------------------+-------------------+-------------------+-------------------------+----------------------+ | Ubuntu 20.04 | PASS | SKIPPED | SKIPPED | SKIPPED | SKIPPED | SKIPPED | +---------------------+--------------------+------------------+-------------------+-------------------+-------------------------+----------------------+ | Ubuntu 22.04 | PASS | PASS | PASS | SKIPPED | SKIPPED | SKIPPED | +---------------------+--------------------+------------------+-------------------+-------------------+-------------------------+----------------------+ | RHEL9 | PASS | PASS | SKIPPED | SKIPPED | SKIPPED | SKIPPED | +---------------------+--------------------+------------------+-------------------+-------------------+-------------------------+----------------------+ | Ubuntu 24.04 | PASS | PASS | PASS | SKIPPED | SKIPPED | SKIPPED | +---------------------+--------------------+------------------+-------------------+-------------------+-------------------------+----------------------+ | Alpine | PASS | PASS | SKIPPED | SKIPPED | SKIPPED | SKIPPED | +---------------------+--------------------+------------------+-------------------+-------------------+-------------------------+----------------------+ | FreeBSD 13.4 | PASS | SKIPPED | SKIPPED | SKIPPED | SKIPPED | SKIPPED | +---------------------+--------------------+------------------+-------------------+-------------------+-------------------------+----------------------+ | FreeBSD 14.2 | PASS | SKIPPED | SKIPPED | SKIPPED | SKIPPED | SKIPPED | +---------------------+--------------------+------------------+-------------------+-------------------+-------------------------+----------------------+ | Fedora 39 (Clang) | PASS | PASS | PASS | SKIPPED | SKIPPED | SKIPPED | +---------------------+--------------------+------------------+-------------------+-------------------+-------------------------+----------------------+ | Windows Server 2022 | SKIPPED | SKIPPED | SKIPPED | PASS | PASS | PASS | +---------------------+--------------------+------------------+-------------------+-------------------+-------------------------+----------------------+ CentOS Stream 9 Kernel: Depends on container host Compiler: gcc 11.5.0 20240719 (Red Hat 11.5.0-2) Debian 12 Kernel: Depends on container host Compiler: gcc (Debian 12.2.0-14) 12.2.0 Fedora 40 Kernel: Depends on container host Compiler: gcc 14.2.1 20240912 (Red Hat 14.2.1-3) Fedora 39 Kernel: Depends on container host Compiler: gcc 13.3.1 20240522 (Red Hat 13.3.1-1) Fedora 40 (Clang) Kernel: Depends on container host Compiler: clang 18.1.8 (Fedora 18.1.8-1.fc40) openSUSE Leap 15 Kernel: Depends on container host Compiler: gcc (SUSE Linux) 7.5.0 RHEL8 Kernel: Depends on container host Compiler: gcc 8.5.0 20210514 (Red Hat 8.5.0-22) Ubuntu 20.04 Kernel: Depends on container host Compiler: gcc (Ubuntu 9.4.0-1ubuntu1~20.04.2) 9.4.0 Ubuntu 22.04 Kernel: Depends on container host Compiler: gcc (Ubuntu 11.4.0-1ubuntu1~22.04) 11.4.0 RHEL9 Kernel: Depends on container host Compiler: gcc 11.5.0 20240719 (Red Hat 11.5.0-2) Ubuntu 24.04 Kernel: Depends on container host Compiler: gcc (Ubuntu 13.3.0-6ubuntu2~24.04) 13.3.0 Alpine Kernel: Depends on container host Compiler: gcc (Alpine 14.2.0) 14.2.0 FreeBSD 13.4 Kernel: 13.4-RELEASE-p1 Compiler: clang 18.1.6 FreeBSD 14.2 Kernel: 14.2-RELEASE Compiler: clang 18.1.6 Fedora 39 (Clang) Kernel: Depends on container host Compiler: clang 17.0.6 (Fedora 17.0.6-2.fc39) Windows Server 2022 Kernel: 10.0.20348.2031 Compiler: clang 15.0.7, gcc 14.1.0 (MinGW), and MSVC VS 19.39.33521 To view detailed results, visit: https://lab.dpdk.org/results/dashboard/tarballs/31837/ UNH-IOL DPDK Community Lab To manage your email subscriptions, visit: https://lab.dpdk.org/results/dashboard/preferences/subscriptions/