From mboxrd@z Thu Jan 1 00:00:00 1970 Return-Path: Received: from mails.dpdk.org (mails.dpdk.org [217.70.189.124]) by inbox.dpdk.org (Postfix) with ESMTP id 687C9461BE for ; Fri, 7 Feb 2025 19:39:52 +0100 (CET) Received: from mails.dpdk.org (localhost [127.0.0.1]) by mails.dpdk.org (Postfix) with ESMTP id 65DE442EEF; Fri, 7 Feb 2025 19:39:52 +0100 (CET) Received: from mail-qt1-f225.google.com (mail-qt1-f225.google.com [209.85.160.225]) by mails.dpdk.org (Postfix) with ESMTP id 1572D42E90 for ; Fri, 7 Feb 2025 19:39:49 +0100 (CET) Received: by mail-qt1-f225.google.com with SMTP id d75a77b69052e-467a6ecaa54so20139681cf.0 for ; Fri, 07 Feb 2025 10:39:49 -0800 (PST) DKIM-Signature: v=1; a=rsa-sha256; c=relaxed/relaxed; d=iol.unh.edu; s=unh-iol; t=1738953588; x=1739558388; darn=dpdk.org; h=references:in-reply-to:cc:to:from:subject:message-id:date:from:to :cc:subject:date:message-id:reply-to; bh=dVXRhTUanmXDotgM/LJUBX30LttAM5G362h6ZCLfNwo=; b=eX8nSkuA/3WilRrRQl7heuG+kl3JZK8MSpKygVICklUzCdlWFm9MWPBoBnLLvdBEB4 yXp9SRfOdyZF9laaiP1QujuCTF7o2kSNP3d4zh8BTuuLJnIY0NGL3hUxu7zxo3Ay+UXC FDE7wt2AE0SBRI4BooXy8COqZ2/64xFl7lSAA= X-Google-DKIM-Signature: v=1; a=rsa-sha256; c=relaxed/relaxed; d=1e100.net; s=20230601; t=1738953588; x=1739558388; h=references:in-reply-to:cc:to:from:subject:message-id:date :x-gm-message-state:from:to:cc:subject:date:message-id:reply-to; bh=dVXRhTUanmXDotgM/LJUBX30LttAM5G362h6ZCLfNwo=; b=hQzdclrzLQ2yAQJ7aSdNqIQ6BOoQHbNAt1S+osZ4LiorEkJxlrG1SRp172gTVSLNaj ffqyW6YHvx+zNgb9s1v7Ikt+wDflWws2FqUgFducyJCTb6lNRPKvLLKxOYQGC7sqFcDS yScluf6mubKHaqCImvsQl2r+JnZ9728f/KYhnYufvw0cLHOBIePocSZBXEF6cFzFrMQm cqsGtdKQNYsypdQPcaN3zvGGctWEZ/3CknMQ636H2ZPoGWoNl6qpUUpEbrpjnSRWmIKP A4t2uuz7EY2yyLPxRKq18aZqNHAiDQOucXxK4M4wkX+rA0O26mmBCcUInWLRl8VT/Z7y GbzA== X-Gm-Message-State: AOJu0YzibpuwVR62jVhZgX8yX6/PNljJYExoFzy4YFvJB62bJ6DbeLxc GOAYXVbKNWQ7eucRs5+pbCF8oMmihgdVMpxfJT/Tbw4cF67cw1ULXnxGzmTbLqHd9pVatFj7zML QlchlPauBd0yykKyd0VWciNLrejymMg27CAPk6ijB X-Gm-Gg: ASbGnctSZbG5u0C7uBAmJ6d4tF6FW9WVTbIV3C6a206OEkk6IC+8kkDop2RjAj3aPP7 Q6i1DLoEl+afrv+OQ1Owq6J/vRTLhip8f6wxKFKzWQDTb/4pPY6ZivERNVUdL60wr92Yp+hg8g5 hdF3C3AVbPmEkL/ONhu17JKFRwb/CISeiFD+ov622kvUraW4Q/AZcgaHwizVk5vF3LXHqzHWPgK IJV5YlrLd8AEC3agXvTUIjWV9H/wJjN/Q9gRR+s6giaWigslZm8weN0D5ZED44V3Cmo3K4XGmHV LyRqPzTWjGyArKVlSip9OI1VJK/fVg== X-Google-Smtp-Source: AGHT+IEPFeW3FOjC0fOksLplUrCvf1vcf61os9WfECSM7fQ960O0nhyVmef/H+kSiP5jw0KBPfDO/HOPQ6EQ X-Received: by 2002:a05:6214:d6c:b0:6e4:2962:6d13 with SMTP id 6a1803df08f44-6e4456c5751mr65420856d6.31.1738953588491; Fri, 07 Feb 2025 10:39:48 -0800 (PST) Received: from postal.iol.unh.edu (postal.iol.unh.edu. [132.177.123.84]) by smtp-relay.gmail.com with ESMTPS id 6a1803df08f44-6e43ba33f7fsm2180956d6.14.2025.02.07.10.39.48 (version=TLS1_2 cipher=ECDHE-ECDSA-AES128-GCM-SHA256 bits=128/128); Fri, 07 Feb 2025 10:39:48 -0800 (PST) X-Relaying-Domain: iol.unh.edu Date: Fri, 07 Feb 2025 10:39:48 -0800 (PST) Message-ID: <67a65374.050a0220.171eda.bd7aSMTPIN_ADDED_MISSING@mx.google.com> Received: from [172.21.0.7] (unknown [172.18.0.240]) by postal.iol.unh.edu (Postfix) with ESMTP id E9DFC6052472; Fri, 7 Feb 2025 13:39:47 -0500 (EST) Subject: |SUCCESS| pw149008 [PATCH] [v2] examples/l3fwd: add option to set Tx From: dpdklab@iol.unh.edu To: Test Report Cc: dpdk-test-reports@iol.unh.edu In-Reply-To: <20241204020622.977156-1-haijie1@huawei.com> References: <20241204020622.977156-1-haijie1@huawei.com> Content-Type: text/plain X-BeenThere: test-report@dpdk.org X-Mailman-Version: 2.1.29 Precedence: list List-Id: automatic DPDK test reports List-Unsubscribe: , List-Archive: List-Post: List-Help: List-Subscribe: , Errors-To: test-report-bounces@dpdk.org Test-Label: iol-compile-amd64-testing Test-Status: SUCCESS http://dpdk.org/patch/149008 _Testing PASS_ Submitter: Jie Hai Date: Wednesday, December 04 2024 02:06:22 DPDK git baseline: Repo:dpdk Branch: master CommitID:1b3bf1128d9bda5595861814792f74b8f57160c8 149008 --> testing pass Test environment and result as below: +---------------------+--------------------+------------------+-------------------+-------------------+-------------------------+----------------------+ | Environment | dpdk_meson_compile | dpdk_compile_ovs | dpdk_compile_spdk | dpdk_msvc_compile | dpdk_llvm_clang_compile | dpdk_mingw64_compile | +=====================+====================+==================+===================+===================+=========================+======================+ | CentOS Stream 9 | PASS | PASS | PASS | SKIPPED | SKIPPED | SKIPPED | +---------------------+--------------------+------------------+-------------------+-------------------+-------------------------+----------------------+ | Debian 12 | PASS | PASS | PASS | SKIPPED | SKIPPED | SKIPPED | +---------------------+--------------------+------------------+-------------------+-------------------+-------------------------+----------------------+ | Fedora 39 (Clang) | PASS | PASS | PASS | SKIPPED | SKIPPED | SKIPPED | +---------------------+--------------------+------------------+-------------------+-------------------+-------------------------+----------------------+ | Fedora 40 (Clang) | PASS | PASS | PASS | SKIPPED | SKIPPED | SKIPPED | +---------------------+--------------------+------------------+-------------------+-------------------+-------------------------+----------------------+ | openSUSE Leap 15 | PASS | PASS | SKIPPED | SKIPPED | SKIPPED | SKIPPED | +---------------------+--------------------+------------------+-------------------+-------------------+-------------------------+----------------------+ | Fedora 40 | PASS | PASS | PASS | SKIPPED | SKIPPED | SKIPPED | +---------------------+--------------------+------------------+-------------------+-------------------+-------------------------+----------------------+ | RHEL8 | PASS | PASS | SKIPPED | SKIPPED | SKIPPED | SKIPPED | +---------------------+--------------------+------------------+-------------------+-------------------+-------------------------+----------------------+ | Ubuntu 20.04 | PASS | SKIPPED | SKIPPED | SKIPPED | SKIPPED | SKIPPED | +---------------------+--------------------+------------------+-------------------+-------------------+-------------------------+----------------------+ | Ubuntu 24.04 | PASS | PASS | PASS | SKIPPED | SKIPPED | SKIPPED | +---------------------+--------------------+------------------+-------------------+-------------------+-------------------------+----------------------+ | Ubuntu 22.04 | PASS | PASS | PASS | SKIPPED | SKIPPED | SKIPPED | +---------------------+--------------------+------------------+-------------------+-------------------+-------------------------+----------------------+ | Alpine | PASS | PASS | SKIPPED | SKIPPED | SKIPPED | SKIPPED | +---------------------+--------------------+------------------+-------------------+-------------------+-------------------------+----------------------+ | FreeBSD 13.4 | PASS | SKIPPED | SKIPPED | SKIPPED | SKIPPED | SKIPPED | +---------------------+--------------------+------------------+-------------------+-------------------+-------------------------+----------------------+ | FreeBSD 14.2 | PASS | SKIPPED | SKIPPED | SKIPPED | SKIPPED | SKIPPED | +---------------------+--------------------+------------------+-------------------+-------------------+-------------------------+----------------------+ | RHEL9 | PASS | PASS | SKIPPED | SKIPPED | SKIPPED | SKIPPED | +---------------------+--------------------+------------------+-------------------+-------------------+-------------------------+----------------------+ | Fedora 39 | PASS | PASS | PASS | SKIPPED | SKIPPED | SKIPPED | +---------------------+--------------------+------------------+-------------------+-------------------+-------------------------+----------------------+ | Windows Server 2022 | SKIPPED | SKIPPED | SKIPPED | PASS | PASS | PASS | +---------------------+--------------------+------------------+-------------------+-------------------+-------------------------+----------------------+ CentOS Stream 9 Kernel: Depends on container host Compiler: gcc 11.5.0 20240719 (Red Hat 11.5.0-2) Debian 12 Kernel: Depends on container host Compiler: gcc (Debian 12.2.0-14) 12.2.0 Fedora 39 (Clang) Kernel: Depends on container host Compiler: clang 17.0.6 (Fedora 17.0.6-2.fc39) Fedora 40 (Clang) Kernel: Depends on container host Compiler: clang 18.1.8 (Fedora 18.1.8-1.fc40) openSUSE Leap 15 Kernel: Depends on container host Compiler: gcc (SUSE Linux) 7.5.0 Fedora 40 Kernel: Depends on container host Compiler: gcc 14.2.1 20240912 (Red Hat 14.2.1-3) RHEL8 Kernel: Depends on container host Compiler: gcc 8.5.0 20210514 (Red Hat 8.5.0-22) Ubuntu 20.04 Kernel: Depends on container host Compiler: gcc (Ubuntu 9.4.0-1ubuntu1~20.04.2) 9.4.0 Ubuntu 24.04 Kernel: Depends on container host Compiler: gcc (Ubuntu 13.3.0-6ubuntu2~24.04) 13.3.0 Ubuntu 22.04 Kernel: Depends on container host Compiler: gcc (Ubuntu 11.4.0-1ubuntu1~22.04) 11.4.0 Alpine Kernel: Depends on container host Compiler: gcc (Alpine 14.2.0) 14.2.0 FreeBSD 13.4 Kernel: 13.4-RELEASE-p1 Compiler: clang 18.1.6 FreeBSD 14.2 Kernel: 14.2-RELEASE Compiler: clang 18.1.6 RHEL9 Kernel: Depends on container host Compiler: gcc 11.5.0 20240719 (Red Hat 11.5.0-2) Fedora 39 Kernel: Depends on container host Compiler: gcc 13.3.1 20240522 (Red Hat 13.3.1-1) Windows Server 2022 Kernel: 10.0.20348.2031 Compiler: clang 15.0.7, gcc 14.1.0 (MinGW), and MSVC VS 19.39.33521 To view detailed results, visit: https://lab.dpdk.org/results/dashboard/patchsets/32077/ UNH-IOL DPDK Community Lab To manage your email subscriptions, visit: https://lab.dpdk.org/results/dashboard/preferences/subscriptions/