From mboxrd@z Thu Jan  1 00:00:00 1970
Return-Path: <test-report-bounces@dpdk.org>
Received: from mails.dpdk.org (mails.dpdk.org [217.70.189.124])
	by inbox.dpdk.org (Postfix) with ESMTP id 80CF0461BE
	for <public@inbox.dpdk.org>; Fri,  7 Feb 2025 19:39:57 +0100 (CET)
Received: from mails.dpdk.org (localhost [127.0.0.1])
	by mails.dpdk.org (Postfix) with ESMTP id 7E02F42ED5;
	Fri,  7 Feb 2025 19:39:57 +0100 (CET)
Received: from mail-pl1-f227.google.com (mail-pl1-f227.google.com
 [209.85.214.227])
 by mails.dpdk.org (Postfix) with ESMTP id 38C4942E90
 for <test-report@dpdk.org>; Fri,  7 Feb 2025 19:39:52 +0100 (CET)
Received: by mail-pl1-f227.google.com with SMTP id
 d9443c01a7336-21f5268cf50so16017515ad.1
 for <test-report@dpdk.org>; Fri, 07 Feb 2025 10:39:52 -0800 (PST)
DKIM-Signature: v=1; a=rsa-sha256; c=relaxed/relaxed;
 d=iol.unh.edu; s=unh-iol; t=1738953591; x=1739558391; darn=dpdk.org;
 h=references:in-reply-to:cc:to:from:subject:message-id:date:from:to
 :cc:subject:date:message-id:reply-to;
 bh=xE13MSBdTEh10lCkGpKj+st/ZtG7VqGWpCPscOMmtJY=;
 b=dR+a+8blgfFU9UC1L4TcZXgMYA/TC2nGhwvbTWnMzg0GlShSdD4UnyRCpXfMM+FX/z
 XfLYPh4SXtHhGKymFfMP5OZ4xB45BELFvXfcbsi39BR5Rn2CsPQ3QJ01EuOE4CHtod/w
 9ljA6VGylKpB7ULSrQddxCTAzqHYko0gi2i8Q=
X-Google-DKIM-Signature: v=1; a=rsa-sha256; c=relaxed/relaxed;
 d=1e100.net; s=20230601; t=1738953591; x=1739558391;
 h=references:in-reply-to:cc:to:from:subject:message-id:date
 :x-gm-message-state:from:to:cc:subject:date:message-id:reply-to;
 bh=xE13MSBdTEh10lCkGpKj+st/ZtG7VqGWpCPscOMmtJY=;
 b=aniKBYRkCSJrEIdONqol7mqQ0/bCEVFve/VXRWNosJV+XnEDe5UewftOGNL+uhlPXu
 x2szGEB7i7sLqRp6S4UeBh8MZUMhmHMtX7MVfAB+Q9qoczfUe3HJ8i5yz6qYwhEA2zFi
 Q3Y37z9OKDT8ACbWXNzsMG8xbRpy7dPXCX7uCHJDx071Rr0DTIaItB7EkxwZoL9aHeBV
 pjNCD7LiSzbdEbfmcnC0Bade6BGZz16T6iKSxUjnxXxiMJWyQA3lbiibSF7GK22XZGGF
 eWmvCLGnriQH60JrLpdec8teW89cVbMrS4SyqB21y7fIea5cJ6LLPN9gDNhmcWS5fnCZ
 +x7A==
X-Gm-Message-State: AOJu0YyAR+1HrWWBDfuaYpgfTojQjZXabCugrU19BespTSTMIGGZV4uL
 GwpWkYrXRbarDmvoekI1rhkpSBVuxIQeaPOZfWnN19HVMIvHZXZxRD0JgfHDBlLTVxdKf6aC3m5
 01LTF8me3PWEM315TTGAl3ksivrgSwCIpC0EFDUby
X-Gm-Gg: ASbGnctwCmTWEGsnuV9wo3PldGEXZQ/1q0iMPEnBaDcd58zDhTY3VlhMSfxou/NH94v
 vVzxQ9s1ZUzgR9XxVydTjzA3CanA0DF1uEuqjg5DAMURD/mR0RXCX9Ul4RN1WsoHFdnx5qdnMBq
 NI2vlId5s4VJwvVwosf1Jjgt8ZuOiaHX1i0q3aXkwWQBeov/0nfdk4pmiRenjslhOpfd0RUdsCX
 So8FDVxgFz0tUtCUCE40cdeCu7wnXpNydtvFdqTWXYbd6iO5C9wY9AmxLG0JvDJIqbAO99Fpmxc
 l+/LCXl27vmnVjOimf7v6u2+tAS75g==
X-Google-Smtp-Source: AGHT+IHKE6AwlwPV7yfLeV6umZrfgS8Abpx+0rrDcN9z7ILXsDin6FqZXxZtj1K1p3Vov3j8+s/mILunjA6J
X-Received: by 2002:a17:902:e143:b0:216:50fb:5dfc with SMTP id
 d9443c01a7336-21f4e1cc2c1mr46755105ad.9.1738953591469; 
 Fri, 07 Feb 2025 10:39:51 -0800 (PST)
Received: from postal.iol.unh.edu (postal.iol.unh.edu. [132.177.123.84])
 by smtp-relay.gmail.com with ESMTPS id
 d9443c01a7336-21f368ab9adsm2180545ad.127.2025.02.07.10.39.51
 (version=TLS1_2 cipher=ECDHE-ECDSA-AES128-GCM-SHA256 bits=128/128);
 Fri, 07 Feb 2025 10:39:51 -0800 (PST)
X-Relaying-Domain: iol.unh.edu
Date: Fri, 07 Feb 2025 10:39:51 -0800 (PST)
Message-ID: <67a65377.170a0220.24d994.be31SMTPIN_ADDED_MISSING@mx.google.com>
Received: from [172.21.0.8] (unknown [172.18.0.240])
 by postal.iol.unh.edu (Postfix) with ESMTP id 5C7466052477;
 Fri,  7 Feb 2025 13:39:20 -0500 (EST)
Subject: |SUCCESS| pw149013-149014 [PATCH] [v3,2/2] usertools/devbind: replac
From: dpdklab@iol.unh.edu
To: Test Report <test-report@dpdk.org>
Cc: dpdk-test-reports@iol.unh.edu
In-Reply-To: <b8aa13c9ed8989e73e9352ea905f6956a863148d.1733305655.git.anatoly.burakov@intel.com>
References: <b8aa13c9ed8989e73e9352ea905f6956a863148d.1733305655.git.anatoly.burakov@intel.com>
Content-Type: text/plain
X-BeenThere: test-report@dpdk.org
X-Mailman-Version: 2.1.29
Precedence: list
List-Id: automatic DPDK test reports <test-report.dpdk.org>
List-Unsubscribe: <https://mails.dpdk.org/options/test-report>,
 <mailto:test-report-request@dpdk.org?subject=unsubscribe>
List-Archive: <http://mails.dpdk.org/archives/test-report/>
List-Post: <mailto:test-report@dpdk.org>
List-Help: <mailto:test-report-request@dpdk.org?subject=help>
List-Subscribe: <https://mails.dpdk.org/listinfo/test-report>,
 <mailto:test-report-request@dpdk.org?subject=subscribe>
Errors-To: test-report-bounces@dpdk.org

Test-Label: iol-compile-amd64-testing
Test-Status: SUCCESS
http://dpdk.org/patch/149014

_Testing PASS_

Submitter: Burakov, Anatoly <anatoly.burakov@intel.com>
Date: Wednesday, December 04 2024 09:47:38 
DPDK git baseline: Repo:dpdk
  Branch: master
  CommitID:1b3bf1128d9bda5595861814792f74b8f57160c8

149013-149014 --> testing pass

Test environment and result as below:

+---------------------+--------------------+------------------+-------------------+-------------------------+-------------------+----------------------+
|     Environment     | dpdk_meson_compile | dpdk_compile_ovs | dpdk_compile_spdk | dpdk_llvm_clang_compile | dpdk_msvc_compile | dpdk_mingw64_compile |
+=====================+====================+==================+===================+=========================+===================+======================+
| CentOS Stream 9     | PASS               | PASS             | PASS              | SKIPPED                 | SKIPPED           | SKIPPED              |
+---------------------+--------------------+------------------+-------------------+-------------------------+-------------------+----------------------+
| Fedora 39 (Clang)   | PASS               | PASS             | PASS              | SKIPPED                 | SKIPPED           | SKIPPED              |
+---------------------+--------------------+------------------+-------------------+-------------------------+-------------------+----------------------+
| Debian 12           | PASS               | PASS             | PASS              | SKIPPED                 | SKIPPED           | SKIPPED              |
+---------------------+--------------------+------------------+-------------------+-------------------------+-------------------+----------------------+
| Fedora 39           | PASS               | PASS             | PASS              | SKIPPED                 | SKIPPED           | SKIPPED              |
+---------------------+--------------------+------------------+-------------------+-------------------------+-------------------+----------------------+
| Fedora 40           | PASS               | PASS             | PASS              | SKIPPED                 | SKIPPED           | SKIPPED              |
+---------------------+--------------------+------------------+-------------------+-------------------------+-------------------+----------------------+
| openSUSE Leap 15    | PASS               | PASS             | SKIPPED           | SKIPPED                 | SKIPPED           | SKIPPED              |
+---------------------+--------------------+------------------+-------------------+-------------------------+-------------------+----------------------+
| Fedora 40 (Clang)   | PASS               | PASS             | PASS              | SKIPPED                 | SKIPPED           | SKIPPED              |
+---------------------+--------------------+------------------+-------------------+-------------------------+-------------------+----------------------+
| RHEL8               | PASS               | PASS             | SKIPPED           | SKIPPED                 | SKIPPED           | SKIPPED              |
+---------------------+--------------------+------------------+-------------------+-------------------------+-------------------+----------------------+
| Ubuntu 20.04        | PASS               | SKIPPED          | SKIPPED           | SKIPPED                 | SKIPPED           | SKIPPED              |
+---------------------+--------------------+------------------+-------------------+-------------------------+-------------------+----------------------+
| Ubuntu 22.04        | PASS               | PASS             | PASS              | SKIPPED                 | SKIPPED           | SKIPPED              |
+---------------------+--------------------+------------------+-------------------+-------------------------+-------------------+----------------------+
| Ubuntu 24.04        | PASS               | PASS             | PASS              | SKIPPED                 | SKIPPED           | SKIPPED              |
+---------------------+--------------------+------------------+-------------------+-------------------------+-------------------+----------------------+
| Alpine              | PASS               | PASS             | SKIPPED           | SKIPPED                 | SKIPPED           | SKIPPED              |
+---------------------+--------------------+------------------+-------------------+-------------------------+-------------------+----------------------+
| FreeBSD 13.4        | PASS               | SKIPPED          | SKIPPED           | SKIPPED                 | SKIPPED           | SKIPPED              |
+---------------------+--------------------+------------------+-------------------+-------------------------+-------------------+----------------------+
| FreeBSD 14.2        | PASS               | SKIPPED          | SKIPPED           | SKIPPED                 | SKIPPED           | SKIPPED              |
+---------------------+--------------------+------------------+-------------------+-------------------------+-------------------+----------------------+
| RHEL9               | PASS               | PASS             | SKIPPED           | SKIPPED                 | SKIPPED           | SKIPPED              |
+---------------------+--------------------+------------------+-------------------+-------------------------+-------------------+----------------------+
| Windows Server 2022 | SKIPPED            | SKIPPED          | SKIPPED           | PASS                    | PASS              | PASS                 |
+---------------------+--------------------+------------------+-------------------+-------------------------+-------------------+----------------------+


CentOS Stream 9
	Kernel: Depends on container host
	Compiler: gcc 11.5.0 20240719 (Red Hat 11.5.0-2)

Fedora 39 (Clang)
	Kernel: Depends on container host
	Compiler: clang 17.0.6 (Fedora 17.0.6-2.fc39)

Debian 12
	Kernel: Depends on container host
	Compiler: gcc (Debian 12.2.0-14) 12.2.0

Fedora 39
	Kernel: Depends on container host
	Compiler: gcc 13.3.1 20240522 (Red Hat 13.3.1-1)

Fedora 40
	Kernel: Depends on container host
	Compiler: gcc 14.2.1 20240912 (Red Hat 14.2.1-3)

openSUSE Leap 15
	Kernel: Depends on container host
	Compiler: gcc (SUSE Linux) 7.5.0

Fedora 40 (Clang)
	Kernel: Depends on container host
	Compiler: clang 18.1.8 (Fedora 18.1.8-1.fc40)

RHEL8
	Kernel: Depends on container host
	Compiler: gcc 8.5.0 20210514 (Red Hat 8.5.0-22)

Ubuntu 20.04
	Kernel: Depends on container host
	Compiler: gcc (Ubuntu 9.4.0-1ubuntu1~20.04.2) 9.4.0

Ubuntu 22.04
	Kernel: Depends on container host
	Compiler: gcc (Ubuntu 11.4.0-1ubuntu1~22.04) 11.4.0

Ubuntu 24.04
	Kernel: Depends on container host
	Compiler: gcc (Ubuntu 13.3.0-6ubuntu2~24.04) 13.3.0

Alpine
	Kernel: Depends on container host
	Compiler: gcc (Alpine 14.2.0) 14.2.0

FreeBSD 13.4
	Kernel: 13.4-RELEASE-p1
	Compiler: clang 18.1.6

FreeBSD 14.2
	Kernel: 14.2-RELEASE
	Compiler: clang 18.1.6

RHEL9
	Kernel: Depends on container host
	Compiler: gcc 11.5.0 20240719 (Red Hat 11.5.0-2)

Windows Server 2022
	Kernel: 10.0.20348.2031
	Compiler: clang 15.0.7, gcc 14.1.0 (MinGW), and MSVC VS 19.39.33521

To view detailed results, visit:
https://lab.dpdk.org/results/dashboard/patchsets/32082/

UNH-IOL DPDK Community Lab

To manage your email subscriptions, visit: 
https://lab.dpdk.org/results/dashboard/preferences/subscriptions/