From mboxrd@z Thu Jan 1 00:00:00 1970 Return-Path: Received: from mails.dpdk.org (mails.dpdk.org [217.70.189.124]) by inbox.dpdk.org (Postfix) with ESMTP id 943DD461BE for ; Fri, 7 Feb 2025 19:39:57 +0100 (CET) Received: from mails.dpdk.org (localhost [127.0.0.1]) by mails.dpdk.org (Postfix) with ESMTP id 8EB2B42EEE; Fri, 7 Feb 2025 19:39:57 +0100 (CET) Received: from mail-qt1-f228.google.com (mail-qt1-f228.google.com [209.85.160.228]) by mails.dpdk.org (Postfix) with ESMTP id AA66C42ED5 for ; Fri, 7 Feb 2025 19:39:53 +0100 (CET) Received: by mail-qt1-f228.google.com with SMTP id d75a77b69052e-467b74a1754so31116911cf.1 for ; Fri, 07 Feb 2025 10:39:53 -0800 (PST) DKIM-Signature: v=1; a=rsa-sha256; c=relaxed/relaxed; d=iol.unh.edu; s=unh-iol; t=1738953593; x=1739558393; darn=dpdk.org; h=references:in-reply-to:cc:to:from:subject:message-id:date:from:to :cc:subject:date:message-id:reply-to; bh=ruyZMaD9OgJRm2WgWgNSZtgLiedrS6kGoYaU7XWWz4w=; b=an1dYlI95vJM64jWXT3wy8JCyBk0xYNiZgdO/5U7pzKdGNX0X/vkbT6R1t2xKJfcek oSxcwMj1St1XmttjRjpl/4FKcX3w+BJwCfvWK1kFfH1ZpmQIXOBWmRqkwSrWwH3KZ/AP IimyftxM9GMF3f6uU3LIEOstfR4UMTzLuqjj0= X-Google-DKIM-Signature: v=1; a=rsa-sha256; c=relaxed/relaxed; d=1e100.net; s=20230601; t=1738953593; x=1739558393; h=references:in-reply-to:cc:to:from:subject:message-id:date :x-gm-message-state:from:to:cc:subject:date:message-id:reply-to; bh=ruyZMaD9OgJRm2WgWgNSZtgLiedrS6kGoYaU7XWWz4w=; b=HdEv+3Yod7/ci/pSKSzzd4UR5RaLRKzkLSIjz2+bebbM3kDTivSKobK+Pt5Sqfii4S muegZeeoGwGxzvfaDqZyovH3/xqtLhSE+NSk0Jt5Lw2doOQ8VVK/Pfyxk4mb0k7U0U7t 8866E5jyI7/vz85+1Azrluein48bzZ+yLUBcHZFVLGRqXi/46tE12ERI76ukVi0pBg82 OZqW157/TGFmh1g+s1hSbejYzP/dY65yo+xial9MyAAdbzJ/9KXt9KoSyQQ4DzhtWAdD APeOTvjvVkI7Tqlkl+5okatvhHWz77438T8mn5exLDXPpMv53wmwSwNGSQLJdnxToIeA NgMw== X-Gm-Message-State: AOJu0Yynkl0Em8y50NuUlHU+706r5TpvZ1dDKMvTfHYyOrPGA3084qzg 2dtCs+8Tx6JGdpXxvMse95Nkj5W/8QNVBfT7i34H4Y4/UxtsaBbNtXmNzi74Zakci5HxQTmV/s8 FCur6qK0IQBJhxQhllOnNuF5YS6GWagNbV0OTdiyU X-Gm-Gg: ASbGncu8LTPKNYN/Mgj/RyJEq05n6BSHE+GbeXyGY2VCn2+oSlSKY1s4fTMg81RrSoS 6kQ2/buceRaRQfm3wcYGVFdDtlrLm26N37KIGnPQSAskZXWgOvYSSMypc+RF2dpHAR9Y1UAZslH AJXl/sDHgzk9Fdpzwz0tqpDgYWFzxFBpAA6d1TMl4raptf7k+DOLyN2M1ujpv1Xm+ueToGl24xi Fmo61Z7/HHhu947iE+5GYY1LwL84G5KLn9JVGfgQ5Cjw0OkfzTNpb0NcdCRejggGCBER8uclMFi H/L7LWtJza2WMu9sGXMNhLyOmSvdeg== X-Google-Smtp-Source: AGHT+IFaMwtnnzlpf43hlrAZQhIoMRXUKWe2dcWSxnOYpQQL7AsbOo8Yn/z7CMgKG49tYTfkkVOb+5bhl0Tc X-Received: by 2002:ac8:5751:0:b0:46c:7142:14c4 with SMTP id d75a77b69052e-471679c73f8mr54245171cf.2.1738953593123; Fri, 07 Feb 2025 10:39:53 -0800 (PST) Received: from postal.iol.unh.edu (postal.iol.unh.edu. [132.177.123.84]) by smtp-relay.gmail.com with ESMTPS id d75a77b69052e-47149276496sm1987401cf.5.2025.02.07.10.39.53 (version=TLS1_2 cipher=ECDHE-ECDSA-AES128-GCM-SHA256 bits=128/128); Fri, 07 Feb 2025 10:39:53 -0800 (PST) X-Relaying-Domain: iol.unh.edu Date: Fri, 07 Feb 2025 10:39:53 -0800 (PST) Message-ID: <67a65379.c80a0220.aca81.a324SMTPIN_ADDED_MISSING@mx.google.com> Received: from [172.21.0.10] (unknown [172.18.0.240]) by postal.iol.unh.edu (Postfix) with ESMTP id 917BA6052472; Fri, 7 Feb 2025 13:39:52 -0500 (EST) Subject: |SUCCESS| pw149009 [PATCH] lib/lpm: use standard atomic_store_explic From: dpdklab@iol.unh.edu To: Test Report Cc: dpdk-test-reports@iol.unh.edu In-Reply-To: <1733278801-19296-1-git-send-email-andremue@linux.microsoft.com> References: <1733278801-19296-1-git-send-email-andremue@linux.microsoft.com> Content-Type: text/plain X-BeenThere: test-report@dpdk.org X-Mailman-Version: 2.1.29 Precedence: list List-Id: automatic DPDK test reports List-Unsubscribe: , List-Archive: List-Post: List-Help: List-Subscribe: , Errors-To: test-report-bounces@dpdk.org Test-Label: iol-compile-amd64-testing Test-Status: SUCCESS http://dpdk.org/patch/149009 _Testing PASS_ Submitter: Andre Muezerie Date: Wednesday, December 04 2024 02:20:01 DPDK git baseline: Repo:dpdk Branch: master CommitID:1b3bf1128d9bda5595861814792f74b8f57160c8 149009 --> testing pass Test environment and result as below: +---------------------+--------------------+------------------+-------------------+-------------------+-------------------------+----------------------+ | Environment | dpdk_meson_compile | dpdk_compile_ovs | dpdk_compile_spdk | dpdk_msvc_compile | dpdk_llvm_clang_compile | dpdk_mingw64_compile | +=====================+====================+==================+===================+===================+=========================+======================+ | CentOS Stream 9 | PASS | PASS | PASS | SKIPPED | SKIPPED | SKIPPED | +---------------------+--------------------+------------------+-------------------+-------------------+-------------------------+----------------------+ | Fedora 39 (Clang) | PASS | PASS | PASS | SKIPPED | SKIPPED | SKIPPED | +---------------------+--------------------+------------------+-------------------+-------------------+-------------------------+----------------------+ | Debian 12 | PASS | PASS | PASS | SKIPPED | SKIPPED | SKIPPED | +---------------------+--------------------+------------------+-------------------+-------------------+-------------------------+----------------------+ | openSUSE Leap 15 | PASS | PASS | SKIPPED | SKIPPED | SKIPPED | SKIPPED | +---------------------+--------------------+------------------+-------------------+-------------------+-------------------------+----------------------+ | Fedora 40 (Clang) | PASS | PASS | PASS | SKIPPED | SKIPPED | SKIPPED | +---------------------+--------------------+------------------+-------------------+-------------------+-------------------------+----------------------+ | Fedora 40 | PASS | PASS | PASS | SKIPPED | SKIPPED | SKIPPED | +---------------------+--------------------+------------------+-------------------+-------------------+-------------------------+----------------------+ | Fedora 39 | PASS | PASS | PASS | SKIPPED | SKIPPED | SKIPPED | +---------------------+--------------------+------------------+-------------------+-------------------+-------------------------+----------------------+ | Ubuntu 22.04 | PASS | PASS | PASS | SKIPPED | SKIPPED | SKIPPED | +---------------------+--------------------+------------------+-------------------+-------------------+-------------------------+----------------------+ | Ubuntu 20.04 | PASS | SKIPPED | SKIPPED | SKIPPED | SKIPPED | SKIPPED | +---------------------+--------------------+------------------+-------------------+-------------------+-------------------------+----------------------+ | RHEL8 | PASS | PASS | SKIPPED | SKIPPED | SKIPPED | SKIPPED | +---------------------+--------------------+------------------+-------------------+-------------------+-------------------------+----------------------+ | RHEL9 | PASS | PASS | SKIPPED | SKIPPED | SKIPPED | SKIPPED | +---------------------+--------------------+------------------+-------------------+-------------------+-------------------------+----------------------+ | Ubuntu 24.04 | PASS | PASS | PASS | SKIPPED | SKIPPED | SKIPPED | +---------------------+--------------------+------------------+-------------------+-------------------+-------------------------+----------------------+ | Alpine | PASS | PASS | SKIPPED | SKIPPED | SKIPPED | SKIPPED | +---------------------+--------------------+------------------+-------------------+-------------------+-------------------------+----------------------+ | FreeBSD 13.4 | PASS | SKIPPED | SKIPPED | SKIPPED | SKIPPED | SKIPPED | +---------------------+--------------------+------------------+-------------------+-------------------+-------------------------+----------------------+ | FreeBSD 14.2 | PASS | SKIPPED | SKIPPED | SKIPPED | SKIPPED | SKIPPED | +---------------------+--------------------+------------------+-------------------+-------------------+-------------------------+----------------------+ | Windows Server 2022 | SKIPPED | SKIPPED | SKIPPED | PASS | PASS | PASS | +---------------------+--------------------+------------------+-------------------+-------------------+-------------------------+----------------------+ CentOS Stream 9 Kernel: Depends on container host Compiler: gcc 11.5.0 20240719 (Red Hat 11.5.0-2) Fedora 39 (Clang) Kernel: Depends on container host Compiler: clang 17.0.6 (Fedora 17.0.6-2.fc39) Debian 12 Kernel: Depends on container host Compiler: gcc (Debian 12.2.0-14) 12.2.0 openSUSE Leap 15 Kernel: Depends on container host Compiler: gcc (SUSE Linux) 7.5.0 Fedora 40 (Clang) Kernel: Depends on container host Compiler: clang 18.1.8 (Fedora 18.1.8-1.fc40) Fedora 40 Kernel: Depends on container host Compiler: gcc 14.2.1 20240912 (Red Hat 14.2.1-3) Fedora 39 Kernel: Depends on container host Compiler: gcc 13.3.1 20240522 (Red Hat 13.3.1-1) Ubuntu 22.04 Kernel: Depends on container host Compiler: gcc (Ubuntu 11.4.0-1ubuntu1~22.04) 11.4.0 Ubuntu 20.04 Kernel: Depends on container host Compiler: gcc (Ubuntu 9.4.0-1ubuntu1~20.04.2) 9.4.0 RHEL8 Kernel: Depends on container host Compiler: gcc 8.5.0 20210514 (Red Hat 8.5.0-22) RHEL9 Kernel: Depends on container host Compiler: gcc 11.5.0 20240719 (Red Hat 11.5.0-2) Ubuntu 24.04 Kernel: Depends on container host Compiler: gcc (Ubuntu 13.3.0-6ubuntu2~24.04) 13.3.0 Alpine Kernel: Depends on container host Compiler: gcc (Alpine 14.2.0) 14.2.0 FreeBSD 13.4 Kernel: 13.4-RELEASE-p1 Compiler: clang 18.1.6 FreeBSD 14.2 Kernel: 14.2-RELEASE Compiler: clang 18.1.6 Windows Server 2022 Kernel: 10.0.20348.2031 Compiler: clang 15.0.7, gcc 14.1.0 (MinGW), and MSVC VS 19.39.33521 To view detailed results, visit: https://lab.dpdk.org/results/dashboard/patchsets/32078/ UNH-IOL DPDK Community Lab To manage your email subscriptions, visit: https://lab.dpdk.org/results/dashboard/preferences/subscriptions/