From mboxrd@z Thu Jan 1 00:00:00 1970 Return-Path: Received: from mails.dpdk.org (mails.dpdk.org [217.70.189.124]) by inbox.dpdk.org (Postfix) with ESMTP id B3AED461BE for ; Fri, 7 Feb 2025 19:40:11 +0100 (CET) Received: from mails.dpdk.org (localhost [127.0.0.1]) by mails.dpdk.org (Postfix) with ESMTP id AC73C42ED5; Fri, 7 Feb 2025 19:40:11 +0100 (CET) Received: from mail-qv1-f99.google.com (mail-qv1-f99.google.com [209.85.219.99]) by mails.dpdk.org (Postfix) with ESMTP id C78F942E90 for ; Fri, 7 Feb 2025 19:40:09 +0100 (CET) Received: by mail-qv1-f99.google.com with SMTP id 6a1803df08f44-6e43a5f59b7so22744086d6.0 for ; Fri, 07 Feb 2025 10:40:09 -0800 (PST) DKIM-Signature: v=1; a=rsa-sha256; c=relaxed/relaxed; d=iol.unh.edu; s=unh-iol; t=1738953609; x=1739558409; darn=dpdk.org; h=cc:to:from:subject:message-id:date:from:to:cc:subject:date :message-id:reply-to; bh=vDKwnP19OhErjqVryQC9Etaatru5QbXM4drH+eAIsYE=; b=RxaSRByQR9Z9s/1D3RqavCCR/xcqMJ8oW+rBNXlBHQAipyG9FkdYXLIQb3n6yKwHbE eM6KtElHbhB9f5OO4ittboo55CJlGXe9kuNTbJbUE4SLfluab9dWXYZ0PeGQrKoeTrL8 3icEFxD1aQ+thNeN7i1uGgFfJqFkL0FCCSx4Q= X-Google-DKIM-Signature: v=1; a=rsa-sha256; c=relaxed/relaxed; d=1e100.net; s=20230601; t=1738953609; x=1739558409; h=cc:to:from:subject:message-id:date:x-gm-message-state:from:to:cc :subject:date:message-id:reply-to; bh=vDKwnP19OhErjqVryQC9Etaatru5QbXM4drH+eAIsYE=; b=X6vvcOi8qzE7Vt8rNEPX1KEsZ4+w+7hXN4i6+1fg01axXEJYpnJ415zyjRiVx+nKnW KOKOwox5LDXS6Bd9i89Sf234z8J3v9R21SFc4nn5OyitI3HN5K0sjkVUziiyFiNIUpqA VXVqyGA4bVUjofDRuGN+nNFyiTfut3gGSl9NbC0woD6JlcY8PGQeyR6TEgwc0C7N+lZ1 QrF/dKRQgZUwJ8nTZ0xziYBVB1PvnIqmy8f7YPt1YommRqk6XvaSx0fwFZNAJblOTW3n EdV7li5yLv/bvyrhn6AD2TXgfjquRT0SGPDAtCWUg5LxpR1y4nxrgwc22FEDYYQrqf6G ipxQ== X-Gm-Message-State: AOJu0Yy3JMqA4GwcAp5dk7cExgp1hfz3DGV4OG/AMI1iT6dxpLnNASL+ NRqbzRtfRnjjZ8si4UHTLXLsx3X/nvV+KDHSF2blvAq3YZ+Hi0YyOnQryXtB/PpBBy/0fyT+unY Gf3MecJY20LQRgfugN9C6XjDMv4XKxX8jav5u0Daq X-Gm-Gg: ASbGncu7qxYDg7ysq8/0BAtT5oEuoZnMlOBOLBGmjUfd8CE9MkwSa9hner/WcKhhvW4 1tIySfLuo8UnD3jzX3a0Z05DyvsO0EnF60yNrBy2eFgRYwezJpmNqCb27jPIB2hNogVU36cmVNK Ns94I4n/CI8J4o3OtPsFwdOMy142Xs5XkZnbiElGEGvaOm7RbvydbfCsz0JBb/8HZ/fqe0ZIJmV wLJz/6FId4gZHJmKEJveFa74sojO1NwAQ12RLa6ZbaX4N3KW1eDxc9ZUNqPCaYEZ1ao7GjmCPRm 9Jse0Tw0b6cQUB+rNvMeIqGc0mxpog== X-Google-Smtp-Source: AGHT+IHNOlD9HLoN+Dpt/XuFO+sQZMKUbYW9Ms/rCuWntTodTjP4IqHcXLhoZV0Ags2HyjVxW0u84YvAST4D X-Received: by 2002:a05:6214:2682:b0:6e4:4012:b6f1 with SMTP id 6a1803df08f44-6e4458f1d3fmr57565576d6.3.1738953609291; Fri, 07 Feb 2025 10:40:09 -0800 (PST) Received: from postal.iol.unh.edu (postal.iol.unh.edu. [132.177.123.84]) by smtp-relay.gmail.com with ESMTPS id 6a1803df08f44-6e43ba409c2sm2447406d6.23.2025.02.07.10.40.09 (version=TLS1_2 cipher=ECDHE-ECDSA-AES128-GCM-SHA256 bits=128/128); Fri, 07 Feb 2025 10:40:09 -0800 (PST) X-Relaying-Domain: iol.unh.edu Date: Fri, 07 Feb 2025 10:40:09 -0800 (PST) Message-ID: <67a65389.050a0220.44cd0.ce57SMTPIN_ADDED_MISSING@mx.google.com> Received: from [172.21.0.12] (unknown [172.18.0.240]) by postal.iol.unh.edu (Postfix) with ESMTP id BE722605247D; Fri, 7 Feb 2025 13:40:08 -0500 (EST) Subject: |SUCCESS| [GIT MASTER] 4843aacb0d1201fef37e8a579fcd8baec4acdf98 From: dpdklab@iol.unh.edu To: Test Report Cc: dpdk-test-reports@iol.unh.edu, Akhil Goyal Content-Type: text/plain X-BeenThere: test-report@dpdk.org X-Mailman-Version: 2.1.29 Precedence: list List-Id: automatic DPDK test reports List-Unsubscribe: , List-Archive: List-Post: List-Help: List-Subscribe: , Errors-To: test-report-bounces@dpdk.org _Testing PASS_ Branch: dpdk-next-crypto 4843aacb0d1201fef37e8a579fcd8baec4acdf98 --> testing pass Test environment and result as below: +---------------------+--------------------+------------------+-------------------+-------------------+-------------------------+----------------------+ | Environment | dpdk_meson_compile | dpdk_compile_ovs | dpdk_compile_spdk | dpdk_msvc_compile | dpdk_llvm_clang_compile | dpdk_mingw64_compile | +=====================+====================+==================+===================+===================+=========================+======================+ | CentOS Stream 9 | PASS | PASS | PASS | SKIPPED | SKIPPED | SKIPPED | +---------------------+--------------------+------------------+-------------------+-------------------+-------------------------+----------------------+ | Debian 12 | PASS | PASS | PASS | SKIPPED | SKIPPED | SKIPPED | +---------------------+--------------------+------------------+-------------------+-------------------+-------------------------+----------------------+ | Fedora 39 (Clang) | PASS | PASS | PASS | SKIPPED | SKIPPED | SKIPPED | +---------------------+--------------------+------------------+-------------------+-------------------+-------------------------+----------------------+ | openSUSE Leap 15 | PASS | PASS | SKIPPED | SKIPPED | SKIPPED | SKIPPED | +---------------------+--------------------+------------------+-------------------+-------------------+-------------------------+----------------------+ | Fedora 40 | PASS | PASS | PASS | SKIPPED | SKIPPED | SKIPPED | +---------------------+--------------------+------------------+-------------------+-------------------+-------------------------+----------------------+ | Fedora 39 | PASS | PASS | PASS | SKIPPED | SKIPPED | SKIPPED | +---------------------+--------------------+------------------+-------------------+-------------------+-------------------------+----------------------+ | Fedora 40 (Clang) | PASS | PASS | PASS | SKIPPED | SKIPPED | SKIPPED | +---------------------+--------------------+------------------+-------------------+-------------------+-------------------------+----------------------+ | Ubuntu 20.04 | PASS | SKIPPED | SKIPPED | SKIPPED | SKIPPED | SKIPPED | +---------------------+--------------------+------------------+-------------------+-------------------+-------------------------+----------------------+ | RHEL9 | PASS | PASS | SKIPPED | SKIPPED | SKIPPED | SKIPPED | +---------------------+--------------------+------------------+-------------------+-------------------+-------------------------+----------------------+ | Ubuntu 22.04 | PASS | PASS | PASS | SKIPPED | SKIPPED | SKIPPED | +---------------------+--------------------+------------------+-------------------+-------------------+-------------------------+----------------------+ | Ubuntu 24.04 | PASS | PASS | PASS | SKIPPED | SKIPPED | SKIPPED | +---------------------+--------------------+------------------+-------------------+-------------------+-------------------------+----------------------+ | Alpine | PASS | PASS | SKIPPED | SKIPPED | SKIPPED | SKIPPED | +---------------------+--------------------+------------------+-------------------+-------------------+-------------------------+----------------------+ | FreeBSD 13.4 | PASS | SKIPPED | SKIPPED | SKIPPED | SKIPPED | SKIPPED | +---------------------+--------------------+------------------+-------------------+-------------------+-------------------------+----------------------+ | FreeBSD 14.2 | PASS | SKIPPED | SKIPPED | SKIPPED | SKIPPED | SKIPPED | +---------------------+--------------------+------------------+-------------------+-------------------+-------------------------+----------------------+ | RHEL8 | PASS | PASS | SKIPPED | SKIPPED | SKIPPED | SKIPPED | +---------------------+--------------------+------------------+-------------------+-------------------+-------------------------+----------------------+ | Windows Server 2022 | SKIPPED | SKIPPED | SKIPPED | PASS | PASS | PASS | +---------------------+--------------------+------------------+-------------------+-------------------+-------------------------+----------------------+ CentOS Stream 9 Kernel: Depends on container host Compiler: gcc 11.5.0 20240719 (Red Hat 11.5.0-2) Debian 12 Kernel: Depends on container host Compiler: gcc (Debian 12.2.0-14) 12.2.0 Fedora 39 (Clang) Kernel: Depends on container host Compiler: clang 17.0.6 (Fedora 17.0.6-2.fc39) openSUSE Leap 15 Kernel: Depends on container host Compiler: gcc (SUSE Linux) 7.5.0 Fedora 40 Kernel: Depends on container host Compiler: gcc 14.2.1 20240912 (Red Hat 14.2.1-3) Fedora 39 Kernel: Depends on container host Compiler: gcc 13.3.1 20240522 (Red Hat 13.3.1-1) Fedora 40 (Clang) Kernel: Depends on container host Compiler: clang 18.1.8 (Fedora 18.1.8-1.fc40) Ubuntu 20.04 Kernel: Depends on container host Compiler: gcc (Ubuntu 9.4.0-1ubuntu1~20.04.2) 9.4.0 RHEL9 Kernel: Depends on container host Compiler: gcc 11.5.0 20240719 (Red Hat 11.5.0-2) Ubuntu 22.04 Kernel: Depends on container host Compiler: gcc (Ubuntu 11.4.0-1ubuntu1~22.04) 11.4.0 Ubuntu 24.04 Kernel: Depends on container host Compiler: gcc (Ubuntu 13.3.0-6ubuntu2~24.04) 13.3.0 Alpine Kernel: Depends on container host Compiler: gcc (Alpine 14.2.0) 14.2.0 FreeBSD 13.4 Kernel: 13.4-RELEASE-p1 Compiler: clang 18.1.6 FreeBSD 14.2 Kernel: 14.2-RELEASE Compiler: clang 18.1.6 RHEL8 Kernel: Depends on container host Compiler: gcc 8.5.0 20210514 (Red Hat 8.5.0-22) Windows Server 2022 Kernel: 10.0.20348.2031 Compiler: clang 15.0.7, gcc 14.1.0 (MinGW), and MSVC VS 19.39.33521 To view detailed results, visit: https://lab.dpdk.org/results/dashboard/tarballs/31823/ UNH-IOL DPDK Community Lab To manage your email subscriptions, visit: https://lab.dpdk.org/results/dashboard/preferences/subscriptions/