From mboxrd@z Thu Jan 1 00:00:00 1970 Return-Path: Received: from mails.dpdk.org (mails.dpdk.org [217.70.189.124]) by inbox.dpdk.org (Postfix) with ESMTP id C21AA461BE for ; Fri, 7 Feb 2025 19:40:15 +0100 (CET) Received: from mails.dpdk.org (localhost [127.0.0.1]) by mails.dpdk.org (Postfix) with ESMTP id BF7BD42ED5; Fri, 7 Feb 2025 19:40:15 +0100 (CET) Received: from mail-pl1-f226.google.com (mail-pl1-f226.google.com [209.85.214.226]) by mails.dpdk.org (Postfix) with ESMTP id 6BBE942E90 for ; Fri, 7 Feb 2025 19:40:14 +0100 (CET) Received: by mail-pl1-f226.google.com with SMTP id d9443c01a7336-21f61b01630so9228335ad.1 for ; Fri, 07 Feb 2025 10:40:14 -0800 (PST) DKIM-Signature: v=1; a=rsa-sha256; c=relaxed/relaxed; d=iol.unh.edu; s=unh-iol; t=1738953613; x=1739558413; darn=dpdk.org; h=references:in-reply-to:cc:to:from:subject:message-id:date:from:to :cc:subject:date:message-id:reply-to; bh=brbuXMbST83WugHlQSanKb3gTOYzJUISV0+pOFILiGw=; b=Y/6SAQywiL1b4GlRrI5n2yDXtUSgJHgQ+hZTdLBf0HtuAsJVUII09ETCr/PrEXyt59 q7kZ6437V+b6VkVEf1OSdvqMWkR1dKGOllgmbOK34fodMrSXah5HqBwIhRlG+LyIbMri hdSRlQ0D9kFafDoS4XQZ+YoCILXxVHPFWENaU= X-Google-DKIM-Signature: v=1; a=rsa-sha256; c=relaxed/relaxed; d=1e100.net; s=20230601; t=1738953613; x=1739558413; h=references:in-reply-to:cc:to:from:subject:message-id:date :x-gm-message-state:from:to:cc:subject:date:message-id:reply-to; bh=brbuXMbST83WugHlQSanKb3gTOYzJUISV0+pOFILiGw=; b=BAjZGu0cgodmVkHNsNB4n4b0lGjplZMODPQD8tDhSbpRuroPvsARhvd4Ea0gZsdCDm f9U2irwTZXGHtXlsmhxdaAVQwKBXKYmG37cp7tu93BmoqNYvndXQNO0nklV4wI860lEq 3/fI6pC2Tsnz+Fp8OllOc4nXcPYsAGRwmh5QyjQ/2PA3D1ttGNJLgy6tJmNH1xPjmpoc yIx5sP3+FApL42hgqnQrxEV3tiHPKtNM1fPk+3dIPxwpfcgJdUpAU0GgycUNYGFTfYfv LbwwR7xO87QRB2UYhzYuVTaNGRHxqEpjIa0Ih4XhisP1tdRJ9T/H0YGClLj6Jg3/CEhE S6Dw== X-Gm-Message-State: AOJu0Yx7f7v7lWApjrC2tTax0NtqrI7BSvvtdFD2AHhlTerMDB1ZjJ+Z tV/QMAbelaN22KTTkQZxX36EBzbFe3vHX5l9ppyJ7iuraRnsWGVhTbsdSIDE344nIekd1e2A0GY lwxA+vMjNo3YsdctMzOvwvZjD3FKMMN1zt5tePRCV X-Gm-Gg: ASbGnctPJjjKT1C1BIudhfaeTeC4we3o91eAhRmlPuy4qfUVBEA7ZiLbC/rP0otKBOy 67Xy8xLM1wBF6e/x91vEP8AJ5PCFPzPZftRZ9klISav4XJvjDDV8/b9QgWerwXgo8TJLv5XbGkF MZs+AkAKHVt2yLBs7zFdtsUnloirPRyaeYiKp9r2YQG5cjLA8Dui1LYgMy2KBDgSTWesTs1FRX8 04ZCZ4gYT0kNGNubnfaPAT+G+LCLMxo2vS2iqAC4orNmD1y1YIa9YRpPTZmfkEl2PblAw+g76dT 4s+kyHk8FWZdyClJLC76DcenbXDw+g== X-Google-Smtp-Source: AGHT+IFC7iGV3m1UklxtVAmlQet3JAy5KE7Umb4SZhx8inABVlWrvQHKAZaIJkuHWfeYf1dJGV6y96SqkOTC X-Received: by 2002:a05:6a21:2d0b:b0:1db:822f:36d8 with SMTP id adf61e73a8af0-1ee052321b2mr7779216637.3.1738953613396; Fri, 07 Feb 2025 10:40:13 -0800 (PST) Received: from postal.iol.unh.edu (postal.iol.unh.edu. [132.177.123.84]) by smtp-relay.gmail.com with ESMTPS id 41be03b00d2f7-ad51af55620sm234913a12.26.2025.02.07.10.40.13 (version=TLS1_2 cipher=ECDHE-ECDSA-AES128-GCM-SHA256 bits=128/128); Fri, 07 Feb 2025 10:40:13 -0800 (PST) X-Relaying-Domain: iol.unh.edu Date: Fri, 07 Feb 2025 10:40:13 -0800 (PST) Message-ID: <67a6538d.630a0220.27ec5.c894SMTPIN_ADDED_MISSING@mx.google.com> Received: from [172.21.0.6] (unknown [172.18.0.240]) by postal.iol.unh.edu (Postfix) with ESMTP id 504106052471; Fri, 7 Feb 2025 13:39:42 -0500 (EST) Subject: |SUCCESS| pw148985-149006 [PATCH] [v2,22/22] net/ixgbe: use common T From: dpdklab@iol.unh.edu To: Test Report Cc: dpdk-test-reports@iol.unh.edu In-Reply-To: <20241203164132.2686558-23-bruce.richardson@intel.com> References: <20241203164132.2686558-23-bruce.richardson@intel.com> Content-Type: text/plain X-BeenThere: test-report@dpdk.org X-Mailman-Version: 2.1.29 Precedence: list List-Id: automatic DPDK test reports List-Unsubscribe: , List-Archive: List-Post: List-Help: List-Subscribe: , Errors-To: test-report-bounces@dpdk.org Test-Label: iol-compile-amd64-testing Test-Status: SUCCESS http://dpdk.org/patch/149006 _Testing PASS_ Submitter: Bruce Richardson Date: Tuesday, December 03 2024 16:41:28 DPDK git baseline: Repo:dpdk Branch: master CommitID:1b3bf1128d9bda5595861814792f74b8f57160c8 148985-149006 --> testing pass Test environment and result as below: +---------------------+--------------------+------------------+-------------------+-------------------+-------------------------+----------------------+ | Environment | dpdk_meson_compile | dpdk_compile_ovs | dpdk_compile_spdk | dpdk_msvc_compile | dpdk_llvm_clang_compile | dpdk_mingw64_compile | +=====================+====================+==================+===================+===================+=========================+======================+ | CentOS Stream 9 | PASS | PASS | PASS | SKIPPED | SKIPPED | SKIPPED | +---------------------+--------------------+------------------+-------------------+-------------------+-------------------------+----------------------+ | Fedora 39 (Clang) | PASS | PASS | PASS | SKIPPED | SKIPPED | SKIPPED | +---------------------+--------------------+------------------+-------------------+-------------------+-------------------------+----------------------+ | Debian 12 | PASS | PASS | PASS | SKIPPED | SKIPPED | SKIPPED | +---------------------+--------------------+------------------+-------------------+-------------------+-------------------------+----------------------+ | Fedora 39 | PASS | PASS | PASS | SKIPPED | SKIPPED | SKIPPED | +---------------------+--------------------+------------------+-------------------+-------------------+-------------------------+----------------------+ | Fedora 40 | PASS | PASS | PASS | SKIPPED | SKIPPED | SKIPPED | +---------------------+--------------------+------------------+-------------------+-------------------+-------------------------+----------------------+ | Fedora 40 (Clang) | PASS | PASS | PASS | SKIPPED | SKIPPED | SKIPPED | +---------------------+--------------------+------------------+-------------------+-------------------+-------------------------+----------------------+ | openSUSE Leap 15 | PASS | PASS | SKIPPED | SKIPPED | SKIPPED | SKIPPED | +---------------------+--------------------+------------------+-------------------+-------------------+-------------------------+----------------------+ | RHEL9 | PASS | PASS | SKIPPED | SKIPPED | SKIPPED | SKIPPED | +---------------------+--------------------+------------------+-------------------+-------------------+-------------------------+----------------------+ | RHEL8 | PASS | PASS | SKIPPED | SKIPPED | SKIPPED | SKIPPED | +---------------------+--------------------+------------------+-------------------+-------------------+-------------------------+----------------------+ | Ubuntu 22.04 | PASS | PASS | PASS | SKIPPED | SKIPPED | SKIPPED | +---------------------+--------------------+------------------+-------------------+-------------------+-------------------------+----------------------+ | Ubuntu 24.04 | PASS | PASS | PASS | SKIPPED | SKIPPED | SKIPPED | +---------------------+--------------------+------------------+-------------------+-------------------+-------------------------+----------------------+ | Ubuntu 20.04 | PASS | SKIPPED | SKIPPED | SKIPPED | SKIPPED | SKIPPED | +---------------------+--------------------+------------------+-------------------+-------------------+-------------------------+----------------------+ | Alpine | PASS | PASS | SKIPPED | SKIPPED | SKIPPED | SKIPPED | +---------------------+--------------------+------------------+-------------------+-------------------+-------------------------+----------------------+ | FreeBSD 13.4 | PASS | SKIPPED | SKIPPED | SKIPPED | SKIPPED | SKIPPED | +---------------------+--------------------+------------------+-------------------+-------------------+-------------------------+----------------------+ | FreeBSD 14.2 | PASS | SKIPPED | SKIPPED | SKIPPED | SKIPPED | SKIPPED | +---------------------+--------------------+------------------+-------------------+-------------------+-------------------------+----------------------+ | Windows Server 2022 | SKIPPED | SKIPPED | SKIPPED | PASS | PASS | PASS | +---------------------+--------------------+------------------+-------------------+-------------------+-------------------------+----------------------+ CentOS Stream 9 Kernel: Depends on container host Compiler: gcc 11.5.0 20240719 (Red Hat 11.5.0-2) Fedora 39 (Clang) Kernel: Depends on container host Compiler: clang 17.0.6 (Fedora 17.0.6-2.fc39) Debian 12 Kernel: Depends on container host Compiler: gcc (Debian 12.2.0-14) 12.2.0 Fedora 39 Kernel: Depends on container host Compiler: gcc 13.3.1 20240522 (Red Hat 13.3.1-1) Fedora 40 Kernel: Depends on container host Compiler: gcc 14.2.1 20240912 (Red Hat 14.2.1-3) Fedora 40 (Clang) Kernel: Depends on container host Compiler: clang 18.1.8 (Fedora 18.1.8-1.fc40) openSUSE Leap 15 Kernel: Depends on container host Compiler: gcc (SUSE Linux) 7.5.0 RHEL9 Kernel: Depends on container host Compiler: gcc 11.5.0 20240719 (Red Hat 11.5.0-2) RHEL8 Kernel: Depends on container host Compiler: gcc 8.5.0 20210514 (Red Hat 8.5.0-22) Ubuntu 22.04 Kernel: Depends on container host Compiler: gcc (Ubuntu 11.4.0-1ubuntu1~22.04) 11.4.0 Ubuntu 24.04 Kernel: Depends on container host Compiler: gcc (Ubuntu 13.3.0-6ubuntu2~24.04) 13.3.0 Ubuntu 20.04 Kernel: Depends on container host Compiler: gcc (Ubuntu 9.4.0-1ubuntu1~20.04.2) 9.4.0 Alpine Kernel: Depends on container host Compiler: gcc (Alpine 14.2.0) 14.2.0 FreeBSD 13.4 Kernel: 13.4-RELEASE-p1 Compiler: clang 18.1.6 FreeBSD 14.2 Kernel: 14.2-RELEASE Compiler: clang 18.1.6 Windows Server 2022 Kernel: 10.0.20348.2031 Compiler: clang 15.0.7, gcc 14.1.0 (MinGW), and MSVC VS 19.39.33521 To view detailed results, visit: https://lab.dpdk.org/results/dashboard/patchsets/32076/ UNH-IOL DPDK Community Lab To manage your email subscriptions, visit: https://lab.dpdk.org/results/dashboard/preferences/subscriptions/