From mboxrd@z Thu Jan 1 00:00:00 1970 Return-Path: Received: from mails.dpdk.org (mails.dpdk.org [217.70.189.124]) by inbox.dpdk.org (Postfix) with ESMTP id D272A461BE for ; Fri, 7 Feb 2025 19:40:30 +0100 (CET) Received: from mails.dpdk.org (localhost [127.0.0.1]) by mails.dpdk.org (Postfix) with ESMTP id CD35242ED5; Fri, 7 Feb 2025 19:40:30 +0100 (CET) Received: from mail-pl1-f227.google.com (mail-pl1-f227.google.com [209.85.214.227]) by mails.dpdk.org (Postfix) with ESMTP id 9221642E90 for ; Fri, 7 Feb 2025 19:40:29 +0100 (CET) Received: by mail-pl1-f227.google.com with SMTP id d9443c01a7336-21f464b9a27so35464745ad.1 for ; Fri, 07 Feb 2025 10:40:29 -0800 (PST) DKIM-Signature: v=1; a=rsa-sha256; c=relaxed/relaxed; d=iol.unh.edu; s=unh-iol; t=1738953629; x=1739558429; darn=dpdk.org; h=cc:to:from:subject:message-id:date:from:to:cc:subject:date :message-id:reply-to; bh=K6HCoagxKdu7K+NrNL4ntznA9EsyUJSEyQ/9cRzOnBk=; b=S+HrXI1DiTHJ4DKwCkaKCzoExMRtFJN54ZzMm4pziIaLOa+Uw2VAHYlYOOSk5n/qF7 iaXYJAS2K0vqkQ0hxQgePeTIYZ5hPji2H3epBDkuAHMYYYbeAYvWW78XUIebGO+NfhqJ a8as2YlcqSUxAW8st1Y/fvlVQYG5Z6C5OXU9E= X-Google-DKIM-Signature: v=1; a=rsa-sha256; c=relaxed/relaxed; d=1e100.net; s=20230601; t=1738953629; x=1739558429; h=cc:to:from:subject:message-id:date:x-gm-message-state:from:to:cc :subject:date:message-id:reply-to; bh=K6HCoagxKdu7K+NrNL4ntznA9EsyUJSEyQ/9cRzOnBk=; b=NbMmYWaW2ROGiOAY2fL9BGLxFWnoUvTCaiHXwzp7DhbXlg9p+Veql5Jj3oWgePAoLb 3GqR+se4IvJMuXnRg+Jcz/pvGlTRBza+1n86NjiN19F5pSwE+Twg6XLfPJdPngI8wasr 2l3/EWS1gfJoJLiILBk8LFUIInRUeenK+MfAD5SJdhhuYv7tC3aDdULLQ0BkvF03fQNp W3iA/m8itaKizjCw3AGwzCl1Imcr3gxOOuVNLB5EFn3zQJT54QbmNkpy5iWOTjC1qXwJ oFJPPsTfuKae0N023IlIb6YmP8aE7iZ66gGtBxFRQvJ9jx7CvhtIO6nK9b99GHXmlIaP 1L5w== X-Gm-Message-State: AOJu0Yw7wXxYCJ2IbREYxMz3h7cF4lQt2ePMPuMp2jmPsBG4MuG5XLqO lh/V4yf2ZBKH2xZ9qkHGBeyYfL9kTMjXFUI2GlE/3P3Zic8UoCbbK2SPuTNWVoZxdiUBTumgHIi AyNQVKaOaxIVFwNYrJFZahto4LsKnKD+lp/CVXIzR X-Gm-Gg: ASbGnctto3vzrRJzHQr0YlAddC5F5OzCUAAvhzjw4lU8Q9QjqY3o8L+Zc9tcYQkRdU1 +licwkJKsIkAN4TIP5+d8um64HniypRDCA2VjbIzL17YgmSr//FhkyQL/Nq6Gd6dNVFUET4Qk7E wBs173rX3GF4uqJ7sEaqWtwUJjvMoR1HQGISRIqYiWwpknSo2NHfN0KmwesrQX4mQPD8Wc5Wh2G ARlV+gSmxztk+EMDRvVeHYFr4CzMhtzm180f2CPyMJxzIg3VNF9x5MIWKWae6tX+/DSzckmtW87 x1gTev0HYuKQR+NdLaRGZtyrhRprfg== X-Google-Smtp-Source: AGHT+IGOybIru89BPQWZeCqRBW5ElJR/f7hTxQLuKxlQ5wbcwfxluzgnk7RZi4z7D06G0vOX96eicWEoI/tx X-Received: by 2002:a17:903:240c:b0:21f:14aa:5afe with SMTP id d9443c01a7336-21f4e7261e2mr60537345ad.36.1738953628787; Fri, 07 Feb 2025 10:40:28 -0800 (PST) Received: from postal.iol.unh.edu (postal.iol.unh.edu. [132.177.123.84]) by smtp-relay.gmail.com with ESMTPS id d9443c01a7336-21f368397dcsm2211105ad.91.2025.02.07.10.40.28 (version=TLS1_2 cipher=ECDHE-ECDSA-AES128-GCM-SHA256 bits=128/128); Fri, 07 Feb 2025 10:40:28 -0800 (PST) X-Relaying-Domain: iol.unh.edu Date: Fri, 07 Feb 2025 10:40:28 -0800 (PST) Message-ID: <67a6539c.170a0220.20db06.b591SMTPIN_ADDED_MISSING@mx.google.com> Received: from [172.21.0.8] (unknown [172.18.0.240]) by postal.iol.unh.edu (Postfix) with ESMTP id 07F1A6052472; Fri, 7 Feb 2025 13:39:58 -0500 (EST) Subject: |SUCCESS| [GIT MASTER] 1b3bf1128d9bda5595861814792f74b8f57160c8 From: dpdklab@iol.unh.edu To: Test Report Cc: dpdk-test-reports@iol.unh.edu Content-Type: text/plain X-BeenThere: test-report@dpdk.org X-Mailman-Version: 2.1.29 Precedence: list List-Id: automatic DPDK test reports List-Unsubscribe: , List-Archive: List-Post: List-Help: List-Subscribe: , Errors-To: test-report-bounces@dpdk.org _Testing PASS_ Branch: dpdk 1b3bf1128d9bda5595861814792f74b8f57160c8 --> testing pass Test environment and result as below: +---------------------+--------------------+------------------+-------------------+-------------------+-------------------------+----------------------+ | Environment | dpdk_meson_compile | dpdk_compile_ovs | dpdk_compile_spdk | dpdk_msvc_compile | dpdk_llvm_clang_compile | dpdk_mingw64_compile | +=====================+====================+==================+===================+===================+=========================+======================+ | CentOS Stream 9 | PASS | PASS | PASS | SKIPPED | SKIPPED | SKIPPED | +---------------------+--------------------+------------------+-------------------+-------------------+-------------------------+----------------------+ | Debian 12 | PASS | PASS | PASS | SKIPPED | SKIPPED | SKIPPED | +---------------------+--------------------+------------------+-------------------+-------------------+-------------------------+----------------------+ | Fedora 39 (Clang) | PASS | PASS | PASS | SKIPPED | SKIPPED | SKIPPED | +---------------------+--------------------+------------------+-------------------+-------------------+-------------------------+----------------------+ | Fedora 40 (Clang) | PASS | PASS | PASS | SKIPPED | SKIPPED | SKIPPED | +---------------------+--------------------+------------------+-------------------+-------------------+-------------------------+----------------------+ | Fedora 39 | PASS | PASS | PASS | SKIPPED | SKIPPED | SKIPPED | +---------------------+--------------------+------------------+-------------------+-------------------+-------------------------+----------------------+ | Fedora 40 | PASS | PASS | PASS | SKIPPED | SKIPPED | SKIPPED | +---------------------+--------------------+------------------+-------------------+-------------------+-------------------------+----------------------+ | openSUSE Leap 15 | PASS | PASS | SKIPPED | SKIPPED | SKIPPED | SKIPPED | +---------------------+--------------------+------------------+-------------------+-------------------+-------------------------+----------------------+ | RHEL8 | PASS | PASS | SKIPPED | SKIPPED | SKIPPED | SKIPPED | +---------------------+--------------------+------------------+-------------------+-------------------+-------------------------+----------------------+ | RHEL9 | PASS | PASS | SKIPPED | SKIPPED | SKIPPED | SKIPPED | +---------------------+--------------------+------------------+-------------------+-------------------+-------------------------+----------------------+ | Ubuntu 22.04 | PASS | PASS | PASS | SKIPPED | SKIPPED | SKIPPED | +---------------------+--------------------+------------------+-------------------+-------------------+-------------------------+----------------------+ | Ubuntu 20.04 | PASS | SKIPPED | SKIPPED | SKIPPED | SKIPPED | SKIPPED | +---------------------+--------------------+------------------+-------------------+-------------------+-------------------------+----------------------+ | Ubuntu 24.04 | PASS | PASS | PASS | SKIPPED | SKIPPED | SKIPPED | +---------------------+--------------------+------------------+-------------------+-------------------+-------------------------+----------------------+ | Alpine | PASS | PASS | SKIPPED | SKIPPED | SKIPPED | SKIPPED | +---------------------+--------------------+------------------+-------------------+-------------------+-------------------------+----------------------+ | Arch Linux | PASS | PASS | SKIPPED | SKIPPED | SKIPPED | SKIPPED | +---------------------+--------------------+------------------+-------------------+-------------------+-------------------------+----------------------+ | FreeBSD 13.4 | PASS | SKIPPED | SKIPPED | SKIPPED | SKIPPED | SKIPPED | +---------------------+--------------------+------------------+-------------------+-------------------+-------------------------+----------------------+ | FreeBSD 14.2 | PASS | SKIPPED | SKIPPED | SKIPPED | SKIPPED | SKIPPED | +---------------------+--------------------+------------------+-------------------+-------------------+-------------------------+----------------------+ | Windows Server 2022 | SKIPPED | SKIPPED | SKIPPED | PASS | PASS | PASS | +---------------------+--------------------+------------------+-------------------+-------------------+-------------------------+----------------------+ CentOS Stream 9 Kernel: Depends on container host Compiler: gcc 11.5.0 20240719 (Red Hat 11.5.0-2) Debian 12 Kernel: Depends on container host Compiler: gcc (Debian 12.2.0-14) 12.2.0 Fedora 39 (Clang) Kernel: Depends on container host Compiler: clang 17.0.6 (Fedora 17.0.6-2.fc39) Fedora 40 (Clang) Kernel: Depends on container host Compiler: clang 18.1.8 (Fedora 18.1.8-1.fc40) Fedora 39 Kernel: Depends on container host Compiler: gcc 13.3.1 20240522 (Red Hat 13.3.1-1) Fedora 40 Kernel: Depends on container host Compiler: gcc 14.2.1 20240912 (Red Hat 14.2.1-3) openSUSE Leap 15 Kernel: Depends on container host Compiler: gcc (SUSE Linux) 7.5.0 RHEL8 Kernel: Depends on container host Compiler: gcc 8.5.0 20210514 (Red Hat 8.5.0-22) RHEL9 Kernel: Depends on container host Compiler: gcc 11.5.0 20240719 (Red Hat 11.5.0-2) Ubuntu 22.04 Kernel: Depends on container host Compiler: gcc (Ubuntu 11.4.0-1ubuntu1~22.04) 11.4.0 Ubuntu 20.04 Kernel: Depends on container host Compiler: gcc (Ubuntu 9.4.0-1ubuntu1~20.04.2) 9.4.0 Ubuntu 24.04 Kernel: Depends on container host Compiler: gcc (Ubuntu 13.3.0-6ubuntu2~24.04) 13.3.0 Alpine Kernel: Depends on container host Compiler: gcc (Alpine 14.2.0) 14.2.0 Arch Linux Kernel: Depends on container host Compiler: gcc 14.2.1 20240910 FreeBSD 13.4 Kernel: 13.4-RELEASE-p1 Compiler: clang 18.1.6 FreeBSD 14.2 Kernel: 14.2-RELEASE Compiler: clang 18.1.6 Windows Server 2022 Kernel: 10.0.20348.2031 Compiler: clang 15.0.7, gcc 14.1.0 (MinGW), and MSVC VS 19.39.33521 To view detailed results, visit: https://lab.dpdk.org/results/dashboard/tarballs/31826/ UNH-IOL DPDK Community Lab To manage your email subscriptions, visit: https://lab.dpdk.org/results/dashboard/preferences/subscriptions/