From mboxrd@z Thu Jan 1 00:00:00 1970 Return-Path: Received: from mails.dpdk.org (mails.dpdk.org [217.70.189.124]) by inbox.dpdk.org (Postfix) with ESMTP id EBAEA461BE for ; Fri, 7 Feb 2025 19:40:36 +0100 (CET) Received: from mails.dpdk.org (localhost [127.0.0.1]) by mails.dpdk.org (Postfix) with ESMTP id E846F42EE1; Fri, 7 Feb 2025 19:40:36 +0100 (CET) Received: from mail-io1-f99.google.com (mail-io1-f99.google.com [209.85.166.99]) by mails.dpdk.org (Postfix) with ESMTP id 72C4342E90 for ; Fri, 7 Feb 2025 19:40:35 +0100 (CET) Received: by mail-io1-f99.google.com with SMTP id ca18e2360f4ac-844ee166150so66858739f.2 for ; Fri, 07 Feb 2025 10:40:35 -0800 (PST) DKIM-Signature: v=1; a=rsa-sha256; c=relaxed/relaxed; d=iol.unh.edu; s=unh-iol; t=1738953635; x=1739558435; darn=dpdk.org; h=cc:to:from:subject:message-id:date:from:to:cc:subject:date :message-id:reply-to; bh=cqXs9UnFuc3H9NSsPSeoI5d7fP6W9vJ1seB/2vUvnqM=; b=H5GoeyKXv1pnRSwG0ohZ6GnYgY1rOeCj9w6H6LGXJFZLK5uEt6BrHxlOhcO94pREo9 C51YEHBruEqyQIvWailzBs7tHFNNquyRuQhzE7mKqLVvKOgyb9+VhgcE7mNar4/rni76 QVzIJRBG005iTqLWr9DcXpfzp4EMLojomeBWY= X-Google-DKIM-Signature: v=1; a=rsa-sha256; c=relaxed/relaxed; d=1e100.net; s=20230601; t=1738953635; x=1739558435; h=cc:to:from:subject:message-id:date:x-gm-message-state:from:to:cc :subject:date:message-id:reply-to; bh=cqXs9UnFuc3H9NSsPSeoI5d7fP6W9vJ1seB/2vUvnqM=; b=QXdwWGyjWE8pTk32go3TO0ageLSJM0671+CfRl0XwXJPEIh10I8MLSRnEddl0uD6tf MtOU3c2RD/rsjKUucGeQCA4+R5OBmMEkJUM29J50+6C3kBVfKb5PNd6G8VxuX3NaV4BY lZrg/1MyfDvapwHaiGkZ45jk4fRpm3l1xOkbz0mTMWy4qO3ZONPtUJXqtHFpr3YnSZd1 jgUF6dqoGVivOPO9VSRloyGSWZntSCxDE7i0yHuASi4fnUVbR+gez69uvdiB2SDLwAJu m4k5W+EqpGid+nFrAfBtxTIfspWcG7eho74SVNkXOCpX99bNvPjyz3lYffBrZ9ZNYnGn O8gg== X-Gm-Message-State: AOJu0YygH+ejsE7vPROg9UCSMw8MlHwAzomwzEafqpsuMO7YvVrLhLY7 G/CVAmUf6bjQlw+21k6Tp9e66DtnE3kKdWYK4giCMq6KCqXVLqFEDvmUvkXzfc7zz8D2P0y0Tc3 iYQvO99Kn3wVe7Y+N0L3bgFWLTzwfFai5SMX7ePZU X-Gm-Gg: ASbGncvD5XyfVudTfNblcM54u6W8ZJjcE6l/3zk6STq5rG4DnEjKzNi006NgoqnlLus MSZMy1bmpV1aqFhdMXtiRT7CtUTqbcWkC3HB3JpkbPKZ0FzDxLcbYq1K1SvW+VXc9OacaExjOr/ txflDX5X2iAsFWG8XktE7laOQT7hkpZK6b0UwEhEDX36hNrnSvbAWMEgmrQf6Vdjv1tkc8um+iU vnWHOhJ5/wx937v7XrGj7fIP1fDUniO/Z+NArTMa6G287WSuFAFEv9oPLcH+VwB4yLV1SKCwWPO B+nI5DVsnWURwu8QjuoiFpSVizEITw== X-Google-Smtp-Source: AGHT+IEZzajivOjMU4eR5BvRgZdGGYlEjDSqeTXHxwmnEJrb0IY54EP9xz3NkU7znKoAUyPfdzkNXMv/ybjL X-Received: by 2002:a05:6602:408a:b0:843:e9c1:9317 with SMTP id ca18e2360f4ac-854fd907d83mr515867839f.14.1738953633716; Fri, 07 Feb 2025 10:40:33 -0800 (PST) Received: from postal.iol.unh.edu (postal.iol.unh.edu. [132.177.123.84]) by smtp-relay.gmail.com with ESMTPS id ca18e2360f4ac-854f675bbbbsm24097239f.26.2025.02.07.10.40.33 (version=TLS1_2 cipher=ECDHE-ECDSA-AES128-GCM-SHA256 bits=128/128); Fri, 07 Feb 2025 10:40:33 -0800 (PST) X-Relaying-Domain: iol.unh.edu Date: Fri, 07 Feb 2025 10:40:33 -0800 (PST) Message-ID: <67a653a1.050a0220.2e0bff.c314SMTPIN_ADDED_MISSING@mx.google.com> Received: from [172.21.0.6] (unknown [172.18.0.240]) by postal.iol.unh.edu (Postfix) with ESMTP id 17D8C605247D; Fri, 7 Feb 2025 13:40:26 -0500 (EST) Subject: |SUCCESS| [GIT MASTER] 1b3bf1128d9bda5595861814792f74b8f57160c8 From: dpdklab@iol.unh.edu To: Test Report Cc: dpdk-test-reports@iol.unh.edu, Jerin Jacob Content-Type: text/plain X-BeenThere: test-report@dpdk.org X-Mailman-Version: 2.1.29 Precedence: list List-Id: automatic DPDK test reports List-Unsubscribe: , List-Archive: List-Post: List-Help: List-Subscribe: , Errors-To: test-report-bounces@dpdk.org _Testing PASS_ Branch: dpdk-next-eventdev 1b3bf1128d9bda5595861814792f74b8f57160c8 --> testing pass Test environment and result as below: +---------------------+--------------------+------------------+-------------------+-------------------+-------------------------+----------------------+ | Environment | dpdk_meson_compile | dpdk_compile_ovs | dpdk_compile_spdk | dpdk_msvc_compile | dpdk_llvm_clang_compile | dpdk_mingw64_compile | +=====================+====================+==================+===================+===================+=========================+======================+ | Debian 12 | PASS | PASS | PASS | SKIPPED | SKIPPED | SKIPPED | +---------------------+--------------------+------------------+-------------------+-------------------+-------------------------+----------------------+ | Fedora 39 (Clang) | PASS | PASS | PASS | SKIPPED | SKIPPED | SKIPPED | +---------------------+--------------------+------------------+-------------------+-------------------+-------------------------+----------------------+ | Fedora 39 | PASS | PASS | PASS | SKIPPED | SKIPPED | SKIPPED | +---------------------+--------------------+------------------+-------------------+-------------------+-------------------------+----------------------+ | Fedora 40 (Clang) | PASS | PASS | PASS | SKIPPED | SKIPPED | SKIPPED | +---------------------+--------------------+------------------+-------------------+-------------------+-------------------------+----------------------+ | Fedora 40 | PASS | PASS | PASS | SKIPPED | SKIPPED | SKIPPED | +---------------------+--------------------+------------------+-------------------+-------------------+-------------------------+----------------------+ | openSUSE Leap 15 | PASS | PASS | SKIPPED | SKIPPED | SKIPPED | SKIPPED | +---------------------+--------------------+------------------+-------------------+-------------------+-------------------------+----------------------+ | RHEL9 | PASS | PASS | SKIPPED | SKIPPED | SKIPPED | SKIPPED | +---------------------+--------------------+------------------+-------------------+-------------------+-------------------------+----------------------+ | RHEL8 | PASS | PASS | SKIPPED | SKIPPED | SKIPPED | SKIPPED | +---------------------+--------------------+------------------+-------------------+-------------------+-------------------------+----------------------+ | Ubuntu 20.04 | PASS | SKIPPED | SKIPPED | SKIPPED | SKIPPED | SKIPPED | +---------------------+--------------------+------------------+-------------------+-------------------+-------------------------+----------------------+ | Ubuntu 22.04 | PASS | PASS | PASS | SKIPPED | SKIPPED | SKIPPED | +---------------------+--------------------+------------------+-------------------+-------------------+-------------------------+----------------------+ | Ubuntu 24.04 | PASS | PASS | PASS | SKIPPED | SKIPPED | SKIPPED | +---------------------+--------------------+------------------+-------------------+-------------------+-------------------------+----------------------+ | Alpine | PASS | PASS | SKIPPED | SKIPPED | SKIPPED | SKIPPED | +---------------------+--------------------+------------------+-------------------+-------------------+-------------------------+----------------------+ | FreeBSD 13.4 | PASS | SKIPPED | SKIPPED | SKIPPED | SKIPPED | SKIPPED | +---------------------+--------------------+------------------+-------------------+-------------------+-------------------------+----------------------+ | FreeBSD 14.2 | PASS | SKIPPED | SKIPPED | SKIPPED | SKIPPED | SKIPPED | +---------------------+--------------------+------------------+-------------------+-------------------+-------------------------+----------------------+ | CentOS Stream 9 | PASS | PASS | PASS | SKIPPED | SKIPPED | SKIPPED | +---------------------+--------------------+------------------+-------------------+-------------------+-------------------------+----------------------+ | Windows Server 2022 | SKIPPED | SKIPPED | SKIPPED | PASS | PASS | PASS | +---------------------+--------------------+------------------+-------------------+-------------------+-------------------------+----------------------+ Debian 12 Kernel: Depends on container host Compiler: gcc (Debian 12.2.0-14) 12.2.0 Fedora 39 (Clang) Kernel: Depends on container host Compiler: clang 17.0.6 (Fedora 17.0.6-2.fc39) Fedora 39 Kernel: Depends on container host Compiler: gcc 13.3.1 20240522 (Red Hat 13.3.1-1) Fedora 40 (Clang) Kernel: Depends on container host Compiler: clang 18.1.8 (Fedora 18.1.8-1.fc40) Fedora 40 Kernel: Depends on container host Compiler: gcc 14.2.1 20240912 (Red Hat 14.2.1-3) openSUSE Leap 15 Kernel: Depends on container host Compiler: gcc (SUSE Linux) 7.5.0 RHEL9 Kernel: Depends on container host Compiler: gcc 11.5.0 20240719 (Red Hat 11.5.0-2) RHEL8 Kernel: Depends on container host Compiler: gcc 8.5.0 20210514 (Red Hat 8.5.0-22) Ubuntu 20.04 Kernel: Depends on container host Compiler: gcc (Ubuntu 9.4.0-1ubuntu1~20.04.2) 9.4.0 Ubuntu 22.04 Kernel: Depends on container host Compiler: gcc (Ubuntu 11.4.0-1ubuntu1~22.04) 11.4.0 Ubuntu 24.04 Kernel: Depends on container host Compiler: gcc (Ubuntu 13.3.0-6ubuntu2~24.04) 13.3.0 Alpine Kernel: Depends on container host Compiler: gcc (Alpine 14.2.0) 14.2.0 FreeBSD 13.4 Kernel: 13.4-RELEASE-p1 Compiler: clang 18.1.6 FreeBSD 14.2 Kernel: 14.2-RELEASE Compiler: clang 18.1.6 CentOS Stream 9 Kernel: Depends on container host Compiler: gcc 11.5.0 20240719 (Red Hat 11.5.0-2) Windows Server 2022 Kernel: 10.0.20348.2031 Compiler: clang 15.0.7, gcc 14.1.0 (MinGW), and MSVC VS 19.39.33521 To view detailed results, visit: https://lab.dpdk.org/results/dashboard/tarballs/31822/ UNH-IOL DPDK Community Lab To manage your email subscriptions, visit: https://lab.dpdk.org/results/dashboard/preferences/subscriptions/