From mboxrd@z Thu Jan 1 00:00:00 1970 Return-Path: Received: from mails.dpdk.org (mails.dpdk.org [217.70.189.124]) by inbox.dpdk.org (Postfix) with ESMTP id 3FCB7461BE for ; Fri, 7 Feb 2025 19:40:52 +0100 (CET) Received: from mails.dpdk.org (localhost [127.0.0.1]) by mails.dpdk.org (Postfix) with ESMTP id 3D12E42ED5; Fri, 7 Feb 2025 19:40:52 +0100 (CET) Received: from mail-ot1-f98.google.com (mail-ot1-f98.google.com [209.85.210.98]) by mails.dpdk.org (Postfix) with ESMTP id 173D442E90 for ; Fri, 7 Feb 2025 19:40:49 +0100 (CET) Received: by mail-ot1-f98.google.com with SMTP id 46e09a7af769-71deb3745easo709739a34.3 for ; Fri, 07 Feb 2025 10:40:49 -0800 (PST) DKIM-Signature: v=1; a=rsa-sha256; c=relaxed/relaxed; d=iol.unh.edu; s=unh-iol; t=1738953648; x=1739558448; darn=dpdk.org; h=cc:to:from:subject:message-id:date:from:to:cc:subject:date :message-id:reply-to; bh=LZH6eKvBc4zJBIpbsNKEOl1GC13zcHkjQWl14cofu9c=; b=eCTwxRd4sLgY7y5ITQwRKOgKvJc1TyunLFA7Pdj/gzM4fAOc9+WXPQl2eoP0xAFFLk c8OsxdqRqsKTDO4f3iWSM9F81Ec+n5C2/DHOB9RTsTDpZ9ZzJ9erAGNYqHC/4Ik1WXRE agRelTYTvtXIbuyNlL6e0Q/zBvouLJ09iVncQ= X-Google-DKIM-Signature: v=1; a=rsa-sha256; c=relaxed/relaxed; d=1e100.net; s=20230601; t=1738953648; x=1739558448; h=cc:to:from:subject:message-id:date:x-gm-message-state:from:to:cc :subject:date:message-id:reply-to; bh=LZH6eKvBc4zJBIpbsNKEOl1GC13zcHkjQWl14cofu9c=; b=v5XvyEH5eFFjoIora2t5U5UGYzI5HvxaEz3qWz4qsceKMuyWcPOFpIwcqkgrtmL/0B jp4zpai+sTZhsxi+aWdT3isvLJQj2P8bV9Q4ToLKep2/zq0ryNNgo5fG2z1SLOIsHFbZ WCGug3aA2xM21dLuZsEqjrlhGknQLBrT/VXkEbaUKoW+uyC1g7JQDZJlL72LHeQcPWec HnbjXE8TfQrI5n+7V3nd8PopWC0dn3grHxKXjGo7xauWUNO4G09L1ojVK1xopv6HInAn w3QpBbtowx2GRcfQQJqlvgvXhFVChv4fVl4bleb9nRNCRG9iscLeS/GD9HcU+X9Qy6SM iIwQ== X-Gm-Message-State: AOJu0Yy4hGDyOVsjW9wFMtFX9tULiOTK+iimA+SbfoJC20178m7xUPOt bDnEbUNLftFaf9Wd6z6lDrfwpRY8i6i6CKAcA7MiSEuy74x+Zv1cpqsyvtVg5CKgFjblGXjL4gH GGZA/Slqm8aqQePMZV5ZDxRSbxYqXcjI6a4EqBQGW X-Gm-Gg: ASbGnctKMAZdE/XHo+vNArLIBF39aQxQdbmCUbxUp69arU3UEYDj+PZnkuaovBJNFbO icLebj0/MrSJxEHKZ+vgmuHE5djNTPiz1vLhTS/VJEcPlmySXHsAG8gpMCJDL9+zmHdygjZyhRY 0a1a0wha78QYg+xqRGD4C6euCGNq9S1sTpmNy9QUtmF9VCuVEO9fBOhKJV8NEBsvlBSrbH1lBFg TyUIiJRhpDQwNah4bzDC/y29paYKnDdUK6CYuNdEvLE7UnY9yey8RDGBVso4wHrbVVzrLHINCDF kuq48++/0TPbkBNOHbu83W8VrWdEHg== X-Google-Smtp-Source: AGHT+IGWgyfD5QsHNdTJXcozcJulTxlThmp7+2vCnr6sMtFgU/2+dELfmhBm34SeVpOVOVkHFg7EDZ+2nSU9 X-Received: by 2002:a05:6830:7308:b0:71e:240a:481f with SMTP id 46e09a7af769-726b88873fcmr3389411a34.21.1738953648373; Fri, 07 Feb 2025 10:40:48 -0800 (PST) Received: from postal.iol.unh.edu (postal.iol.unh.edu. [132.177.123.84]) by smtp-relay.gmail.com with ESMTPS id 006d021491bc7-5fc545a7155sm136273eaf.23.2025.02.07.10.40.48 (version=TLS1_2 cipher=ECDHE-ECDSA-AES128-GCM-SHA256 bits=128/128); Fri, 07 Feb 2025 10:40:48 -0800 (PST) X-Relaying-Domain: iol.unh.edu Date: Fri, 07 Feb 2025 10:40:48 -0800 (PST) Message-ID: <67a653b0.4a0a0220.1f940d.7018SMTPIN_ADDED_MISSING@mx.google.com> Received: from [172.21.0.5] (unknown [172.18.0.240]) by postal.iol.unh.edu (Postfix) with ESMTP id 9DDB1605247D; Fri, 7 Feb 2025 13:40:47 -0500 (EST) Subject: |SUCCESS| [GIT MASTER] 4843aacb0d1201fef37e8a579fcd8baec4acdf98 From: dpdklab@iol.unh.edu To: Test Report Cc: dpdk-test-reports@iol.unh.edu, Akhil Goyal Content-Type: text/plain X-BeenThere: test-report@dpdk.org X-Mailman-Version: 2.1.29 Precedence: list List-Id: automatic DPDK test reports List-Unsubscribe: , List-Archive: List-Post: List-Help: List-Subscribe: , Errors-To: test-report-bounces@dpdk.org _Testing PASS_ Branch: dpdk-next-crypto 4843aacb0d1201fef37e8a579fcd8baec4acdf98 --> testing pass Test environment and result as below: +---------------------+--------------------+------------------+-------------------+-------------------------+-------------------+----------------------+ | Environment | dpdk_meson_compile | dpdk_compile_ovs | dpdk_compile_spdk | dpdk_llvm_clang_compile | dpdk_msvc_compile | dpdk_mingw64_compile | +=====================+====================+==================+===================+=========================+===================+======================+ | CentOS Stream 9 | PASS | PASS | PASS | SKIPPED | SKIPPED | SKIPPED | +---------------------+--------------------+------------------+-------------------+-------------------------+-------------------+----------------------+ | Debian 12 | PASS | PASS | PASS | SKIPPED | SKIPPED | SKIPPED | +---------------------+--------------------+------------------+-------------------+-------------------------+-------------------+----------------------+ | Fedora 39 (Clang) | PASS | PASS | PASS | SKIPPED | SKIPPED | SKIPPED | +---------------------+--------------------+------------------+-------------------+-------------------------+-------------------+----------------------+ | Fedora 40 (Clang) | PASS | PASS | PASS | SKIPPED | SKIPPED | SKIPPED | +---------------------+--------------------+------------------+-------------------+-------------------------+-------------------+----------------------+ | Fedora 39 | PASS | PASS | PASS | SKIPPED | SKIPPED | SKIPPED | +---------------------+--------------------+------------------+-------------------+-------------------------+-------------------+----------------------+ | Fedora 40 | PASS | PASS | PASS | SKIPPED | SKIPPED | SKIPPED | +---------------------+--------------------+------------------+-------------------+-------------------------+-------------------+----------------------+ | RHEL8 | PASS | PASS | SKIPPED | SKIPPED | SKIPPED | SKIPPED | +---------------------+--------------------+------------------+-------------------+-------------------------+-------------------+----------------------+ | RHEL9 | PASS | PASS | SKIPPED | SKIPPED | SKIPPED | SKIPPED | +---------------------+--------------------+------------------+-------------------+-------------------------+-------------------+----------------------+ | Ubuntu 20.04 | PASS | SKIPPED | SKIPPED | SKIPPED | SKIPPED | SKIPPED | +---------------------+--------------------+------------------+-------------------+-------------------------+-------------------+----------------------+ | openSUSE Leap 15 | PASS | PASS | SKIPPED | SKIPPED | SKIPPED | SKIPPED | +---------------------+--------------------+------------------+-------------------+-------------------------+-------------------+----------------------+ | Alpine | PASS | PASS | SKIPPED | SKIPPED | SKIPPED | SKIPPED | +---------------------+--------------------+------------------+-------------------+-------------------------+-------------------+----------------------+ | Ubuntu 24.04 | PASS | PASS | PASS | SKIPPED | SKIPPED | SKIPPED | +---------------------+--------------------+------------------+-------------------+-------------------------+-------------------+----------------------+ | FreeBSD 13.4 | PASS | SKIPPED | SKIPPED | SKIPPED | SKIPPED | SKIPPED | +---------------------+--------------------+------------------+-------------------+-------------------------+-------------------+----------------------+ | FreeBSD 14.2 | PASS | SKIPPED | SKIPPED | SKIPPED | SKIPPED | SKIPPED | +---------------------+--------------------+------------------+-------------------+-------------------------+-------------------+----------------------+ | Ubuntu 22.04 | PASS | PASS | PASS | SKIPPED | SKIPPED | SKIPPED | +---------------------+--------------------+------------------+-------------------+-------------------------+-------------------+----------------------+ | Windows Server 2022 | SKIPPED | SKIPPED | SKIPPED | PASS | PASS | PASS | +---------------------+--------------------+------------------+-------------------+-------------------------+-------------------+----------------------+ CentOS Stream 9 Kernel: Depends on container host Compiler: gcc 11.5.0 20240719 (Red Hat 11.5.0-2) Debian 12 Kernel: Depends on container host Compiler: gcc (Debian 12.2.0-14) 12.2.0 Fedora 39 (Clang) Kernel: Depends on container host Compiler: clang 17.0.6 (Fedora 17.0.6-2.fc39) Fedora 40 (Clang) Kernel: Depends on container host Compiler: clang 18.1.8 (Fedora 18.1.8-1.fc40) Fedora 39 Kernel: Depends on container host Compiler: gcc 13.3.1 20240522 (Red Hat 13.3.1-1) Fedora 40 Kernel: Depends on container host Compiler: gcc 14.2.1 20240912 (Red Hat 14.2.1-3) RHEL8 Kernel: Depends on container host Compiler: gcc 8.5.0 20210514 (Red Hat 8.5.0-22) RHEL9 Kernel: Depends on container host Compiler: gcc 11.5.0 20240719 (Red Hat 11.5.0-2) Ubuntu 20.04 Kernel: Depends on container host Compiler: gcc (Ubuntu 9.4.0-1ubuntu1~20.04.2) 9.4.0 openSUSE Leap 15 Kernel: Depends on container host Compiler: gcc (SUSE Linux) 7.5.0 Alpine Kernel: Depends on container host Compiler: gcc (Alpine 14.2.0) 14.2.0 Ubuntu 24.04 Kernel: Depends on container host Compiler: gcc (Ubuntu 13.3.0-6ubuntu2~24.04) 13.3.0 FreeBSD 13.4 Kernel: 13.4-RELEASE-p1 Compiler: clang 18.1.6 FreeBSD 14.2 Kernel: 14.2-RELEASE Compiler: clang 18.1.6 Ubuntu 22.04 Kernel: Depends on container host Compiler: gcc (Ubuntu 11.4.0-1ubuntu1~22.04) 11.4.0 Windows Server 2022 Kernel: 10.0.20348.2031 Compiler: clang 15.0.7, gcc 14.1.0 (MinGW), and MSVC VS 19.39.33521 To view detailed results, visit: https://lab.dpdk.org/results/dashboard/tarballs/31816/ UNH-IOL DPDK Community Lab To manage your email subscriptions, visit: https://lab.dpdk.org/results/dashboard/preferences/subscriptions/