From mboxrd@z Thu Jan 1 00:00:00 1970 Return-Path: Received: from mails.dpdk.org (mails.dpdk.org [217.70.189.124]) by inbox.dpdk.org (Postfix) with ESMTP id 4C865461BE for ; Fri, 7 Feb 2025 19:40:56 +0100 (CET) Received: from mails.dpdk.org (localhost [127.0.0.1]) by mails.dpdk.org (Postfix) with ESMTP id 486D042ED5; Fri, 7 Feb 2025 19:40:56 +0100 (CET) Received: from mail-io1-f97.google.com (mail-io1-f97.google.com [209.85.166.97]) by mails.dpdk.org (Postfix) with ESMTP id D4DE642E90 for ; Fri, 7 Feb 2025 19:40:54 +0100 (CET) Received: by mail-io1-f97.google.com with SMTP id ca18e2360f4ac-844ce6d0716so187189839f.1 for ; Fri, 07 Feb 2025 10:40:54 -0800 (PST) DKIM-Signature: v=1; a=rsa-sha256; c=relaxed/relaxed; d=iol.unh.edu; s=unh-iol; t=1738953654; x=1739558454; darn=dpdk.org; h=cc:to:from:subject:message-id:date:from:to:cc:subject:date :message-id:reply-to; bh=nmoqDylv7F7dbem3zl5bbORUx2wEBHkb22/eUfJE9bE=; b=CI/UXyYGaLRw6EwDCTbEPbZdkjPc6uKDK2d3PZYcNmP1UUMhkn/t/1FdY8yKHa3+iZ QU5dakg9VLVbg8bkKzFy6dLMV0NwbauMJ3rd2YICJR3SCpdmtAYdFNDGkvYvQgXhf4f0 tSTEjwDrSYWql3n263PVSQMo1Rtb3CU1Uq+gE= X-Google-DKIM-Signature: v=1; a=rsa-sha256; c=relaxed/relaxed; d=1e100.net; s=20230601; t=1738953654; x=1739558454; h=cc:to:from:subject:message-id:date:x-gm-message-state:from:to:cc :subject:date:message-id:reply-to; bh=nmoqDylv7F7dbem3zl5bbORUx2wEBHkb22/eUfJE9bE=; b=lgUvurrUb9B44DU52iDmqTGhu6pN5VgT/cF7cD9rkwgdU8HP4WaXpqReEeqwTqJ3IX 6WSUhN7ytbT2Dn/UO/PWaV+VPZHHtLO7kNE3N6HfBCdj2d6CYsd0dZzQfOl0QmCaBzZU srfEZdNh5c6IKPdLlIHalSo6DnkMf+P8GX5wwiYeLesXk5g6rGceGEZquPnJgbGvRCd0 l82UDuDMa2xhh6uHrEw5CzFayaCK6CMzTxIgktmNe27VPrx6/f3/MOvpyeJPvRO8lDDE 1Ia271rkYMbiWfWndpBwFpKXtLoZJQDFNuJBhRLy7+A+ZMVzqNPWjLJ/V5bwdC4C2sOt MpEg== X-Gm-Message-State: AOJu0YzfvKZeBBCu+3ZJWCt9HEv18xmFsDshN/uPFtwMzH3zDFAv+Ubm Hg9awP8LimG8IRLFyVUmsiH/67z4ZP6yMydqGSvza1y8h2rSZhQTre8y2WP8ICsJvyVwgNhE0i3 hnSznQD2oJ+k1fI9hDMqdWczd8T75w97o X-Gm-Gg: ASbGncvWK0WCz2jN1m+A/7519pUbO1jheH2LJNhLwyVeREm5ChuoiAfMadNWSLVWvWV gHOqd8MNB8rjF4vHK2YXQhvbl0pAgepoKEp+eqgW3uzVyRdTCCnpmSCM2ea5RecX6rQLjAmQTo+ gt7qzQs/F6kd5n4/Fe44rB95RdPAZfi3IgzqwdqSeWwRhFNiDdzUnE4ropjnZbrWDeB3akfdTmM +21smLOxt35JFFbMbv8PRkM5UnbJkeZFx1IAXD54aNxmBAvnuFS6VeKgbekHw+Hok14fCWnJ49x IhmL/KSq8UaIPWEA4Qgm14rwmKhJwQ== X-Google-Smtp-Source: AGHT+IGhdmMivHHAVMgLk/37AjLeEm/xCu35F81nEvDlCUJ1wJWgz23dxhqYlnckFVXfztkcETWy8ibp6saV X-Received: by 2002:a05:6602:3944:b0:83a:db84:41a8 with SMTP id ca18e2360f4ac-854fd8ea498mr438325439f.10.1738953654201; Fri, 07 Feb 2025 10:40:54 -0800 (PST) Received: from postal.iol.unh.edu (postal.iol.unh.edu. [132.177.123.84]) by smtp-relay.gmail.com with ESMTPS id 8926c6da1cb9f-4eccfad4e89sm250466173.66.2025.02.07.10.40.54 (version=TLS1_2 cipher=ECDHE-ECDSA-AES128-GCM-SHA256 bits=128/128); Fri, 07 Feb 2025 10:40:54 -0800 (PST) X-Relaying-Domain: iol.unh.edu Date: Fri, 07 Feb 2025 10:40:54 -0800 (PST) Message-ID: <67a653b6.050a0220.208b44.c986SMTPIN_ADDED_MISSING@mx.google.com> Received: from [172.21.0.5] (unknown [172.18.0.240]) by postal.iol.unh.edu (Postfix) with ESMTP id 771626052471; Fri, 7 Feb 2025 13:40:23 -0500 (EST) Subject: |SUCCESS| [GIT MASTER] e8eb14e00d56027bef8569d68cf00e39670edca2 From: dpdklab@iol.unh.edu To: Test Report Cc: dpdk-test-reports@iol.unh.edu, Xueming Li , Christian Ehrhardt , Kevin Traynor , Luca Boccassi Content-Type: text/plain X-BeenThere: test-report@dpdk.org X-Mailman-Version: 2.1.29 Precedence: list List-Id: automatic DPDK test reports List-Unsubscribe: , List-Archive: List-Post: List-Help: List-Subscribe: , Errors-To: test-report-bounces@dpdk.org _Testing PASS_ Branch: tags/v23.11 e8eb14e00d56027bef8569d68cf00e39670edca2 --> testing pass Test environment and result as below: +---------------------+--------------------+------------------+-------------------+-------------------+-------------------------+----------------------+ | Environment | dpdk_meson_compile | dpdk_compile_ovs | dpdk_compile_spdk | dpdk_msvc_compile | dpdk_llvm_clang_compile | dpdk_mingw64_compile | +=====================+====================+==================+===================+===================+=========================+======================+ | CentOS Stream 9 | PASS | PASS | PASS | SKIPPED | SKIPPED | SKIPPED | +---------------------+--------------------+------------------+-------------------+-------------------+-------------------------+----------------------+ | Debian 12 | PASS | PASS | PASS | SKIPPED | SKIPPED | SKIPPED | +---------------------+--------------------+------------------+-------------------+-------------------+-------------------------+----------------------+ | Fedora 39 (Clang) | PASS | PASS | PASS | SKIPPED | SKIPPED | SKIPPED | +---------------------+--------------------+------------------+-------------------+-------------------+-------------------------+----------------------+ | openSUSE Leap 15 | PASS | PASS | SKIPPED | SKIPPED | SKIPPED | SKIPPED | +---------------------+--------------------+------------------+-------------------+-------------------+-------------------------+----------------------+ | Fedora 40 | PASS | PASS | PASS | SKIPPED | SKIPPED | SKIPPED | +---------------------+--------------------+------------------+-------------------+-------------------+-------------------------+----------------------+ | Fedora 39 | PASS | PASS | PASS | SKIPPED | SKIPPED | SKIPPED | +---------------------+--------------------+------------------+-------------------+-------------------+-------------------------+----------------------+ | Fedora 40 (Clang) | PASS | PASS | PASS | SKIPPED | SKIPPED | SKIPPED | +---------------------+--------------------+------------------+-------------------+-------------------+-------------------------+----------------------+ | RHEL8 | PASS | PASS | SKIPPED | SKIPPED | SKIPPED | SKIPPED | +---------------------+--------------------+------------------+-------------------+-------------------+-------------------------+----------------------+ | RHEL9 | PASS | PASS | SKIPPED | SKIPPED | SKIPPED | SKIPPED | +---------------------+--------------------+------------------+-------------------+-------------------+-------------------------+----------------------+ | Ubuntu 20.04 | PASS | SKIPPED | SKIPPED | SKIPPED | SKIPPED | SKIPPED | +---------------------+--------------------+------------------+-------------------+-------------------+-------------------------+----------------------+ | Ubuntu 24.04 | PASS | PASS | PASS | SKIPPED | SKIPPED | SKIPPED | +---------------------+--------------------+------------------+-------------------+-------------------+-------------------------+----------------------+ | Ubuntu 22.04 | PASS | PASS | PASS | SKIPPED | SKIPPED | SKIPPED | +---------------------+--------------------+------------------+-------------------+-------------------+-------------------------+----------------------+ | Alpine | PASS | PASS | SKIPPED | SKIPPED | SKIPPED | SKIPPED | +---------------------+--------------------+------------------+-------------------+-------------------+-------------------------+----------------------+ | FreeBSD 13.4 | PASS | SKIPPED | SKIPPED | SKIPPED | SKIPPED | SKIPPED | +---------------------+--------------------+------------------+-------------------+-------------------+-------------------------+----------------------+ | FreeBSD 14.2 | PASS | SKIPPED | SKIPPED | SKIPPED | SKIPPED | SKIPPED | +---------------------+--------------------+------------------+-------------------+-------------------+-------------------------+----------------------+ | Windows Server 2022 | SKIPPED | SKIPPED | SKIPPED | PASS | PASS | PASS | +---------------------+--------------------+------------------+-------------------+-------------------+-------------------------+----------------------+ CentOS Stream 9 Kernel: Depends on container host Compiler: gcc 11.5.0 20240719 (Red Hat 11.5.0-2) Debian 12 Kernel: Depends on container host Compiler: gcc (Debian 12.2.0-14) 12.2.0 Fedora 39 (Clang) Kernel: Depends on container host Compiler: clang 17.0.6 (Fedora 17.0.6-2.fc39) openSUSE Leap 15 Kernel: Depends on container host Compiler: gcc (SUSE Linux) 7.5.0 Fedora 40 Kernel: Depends on container host Compiler: gcc 14.2.1 20240912 (Red Hat 14.2.1-3) Fedora 39 Kernel: Depends on container host Compiler: gcc 13.3.1 20240522 (Red Hat 13.3.1-1) Fedora 40 (Clang) Kernel: Depends on container host Compiler: clang 18.1.8 (Fedora 18.1.8-1.fc40) RHEL8 Kernel: Depends on container host Compiler: gcc 8.5.0 20210514 (Red Hat 8.5.0-22) RHEL9 Kernel: Depends on container host Compiler: gcc 11.5.0 20240719 (Red Hat 11.5.0-2) Ubuntu 20.04 Kernel: Depends on container host Compiler: gcc (Ubuntu 9.4.0-1ubuntu1~20.04.2) 9.4.0 Ubuntu 24.04 Kernel: Depends on container host Compiler: gcc (Ubuntu 13.3.0-6ubuntu2~24.04) 13.3.0 Ubuntu 22.04 Kernel: Depends on container host Compiler: gcc (Ubuntu 11.4.0-1ubuntu1~22.04) 11.4.0 Alpine Kernel: Depends on container host Compiler: gcc (Alpine 14.2.0) 14.2.0 FreeBSD 13.4 Kernel: 13.4-RELEASE-p1 Compiler: clang 18.1.6 FreeBSD 14.2 Kernel: 14.2-RELEASE Compiler: clang 18.1.6 Windows Server 2022 Kernel: 10.0.20348.2031 Compiler: clang 15.0.7, gcc 14.1.0 (MinGW), and MSVC VS 19.39.33521 To view detailed results, visit: https://lab.dpdk.org/results/dashboard/tarballs/31821/ UNH-IOL DPDK Community Lab To manage your email subscriptions, visit: https://lab.dpdk.org/results/dashboard/preferences/subscriptions/