From mboxrd@z Thu Jan 1 00:00:00 1970 Return-Path: Received: from mails.dpdk.org (mails.dpdk.org [217.70.189.124]) by inbox.dpdk.org (Postfix) with ESMTP id 65644461BE for ; Fri, 7 Feb 2025 19:41:19 +0100 (CET) Received: from mails.dpdk.org (localhost [127.0.0.1]) by mails.dpdk.org (Postfix) with ESMTP id 6273642ED5; Fri, 7 Feb 2025 19:41:19 +0100 (CET) Received: from mail-pl1-f226.google.com (mail-pl1-f226.google.com [209.85.214.226]) by mails.dpdk.org (Postfix) with ESMTP id A134142E90 for ; Fri, 7 Feb 2025 19:41:18 +0100 (CET) Received: by mail-pl1-f226.google.com with SMTP id d9443c01a7336-21f4af4f9ddso23493625ad.1 for ; Fri, 07 Feb 2025 10:41:18 -0800 (PST) DKIM-Signature: v=1; a=rsa-sha256; c=relaxed/relaxed; d=iol.unh.edu; s=unh-iol; t=1738953677; x=1739558477; darn=dpdk.org; h=cc:to:from:subject:message-id:date:from:to:cc:subject:date :message-id:reply-to; bh=+MJTCb4oHyqP1NAtcugXU53lF25LHxEOBYeKs4E79yU=; b=dkFq26YoPuq+IrHZW50Ee++eKwz2nzbELWy7EKPiCcyBK3tDbNr2BvvRlh2ZrTIhzp ASxVrh/eX4XXje0+rYR/f90bsgdJYGDlk7UkOm4clV/udwmGj3PaJUViV4nlR25IKli+ C57PG+8bgzwmy0Ugzr7DbvDhqclOzaEGQmWsI= X-Google-DKIM-Signature: v=1; a=rsa-sha256; c=relaxed/relaxed; d=1e100.net; s=20230601; t=1738953677; x=1739558477; h=cc:to:from:subject:message-id:date:x-gm-message-state:from:to:cc :subject:date:message-id:reply-to; bh=+MJTCb4oHyqP1NAtcugXU53lF25LHxEOBYeKs4E79yU=; b=CTnLW+MAgQd3P1t+vy8uaEdadktuwO9ZVyoC2xc4NXn5wimYlkwHbjLP2mHZzjs/Cm S2HnsLzPO3LqSD0un3bKru6L/C5Dgywn2XuDXVHmWvZoWCseyRM5Z7VlaIkHv4wHXT8T OIqbmxbfN9GtZf2zIS8V1vQ1BMw76qCEO0jxQora/koz+NA+HPLngqAbvQbQcbcvHQbt 37tVsCXik4/PMKrbQBz49Ol0VtlyXHlS95SA1Y/Ekxtsxzgd+Jk/FBG9NIibwlueegSD N9jVm1Mea3pcjjQVBYF9ld8N2E0Y41zxi1rusTeAV120N7VJ7k4gmUpPnsRAMn6nE3z1 MHhQ== X-Gm-Message-State: AOJu0YxrxLJyKRRU6dFehSUbjD0ElblFnzbKQF5J8A12N0YeBC9iB9fi 8EW7GRysHF8fCox+6qrw7zbHhCbMZQj8Ibjk+tEBHV/OLDPo/oN5zzfEOhkDqLg9fg7ioLmCPIu olqPPCQfeXSFnLawbnBqMJKjCesvdF25oO91fi92x X-Gm-Gg: ASbGnctHsyjlzBUuQTwSDHuKBYqm3Hv8TpvQomvVAIK6gejNDQ/iFYOP6zJlDkThnCv c2ZXhbSo4Cn0o37gOAyptvM6rM09KqDgncuDvyd8ZhrAkQ6emhb29baeci9H/MlJl1rU5TCBoN/ EpEnb2psRGfc/HLEeImTGUKjTv7stVxFO3Sx9VxD3m3vWVeOrs+Mzo8mVgAdnx5exfQ9+gFYWWZ GdQ6uy8jeRDdc1i+wc0qfp5AqUVFYh54GkxkLcHpBXZ3giQZdB2i20z6k2EdDoh9ZWLx3J6zZDy 6xwkXbT9pZmbD5vYhb6CyKpa46Ryng== X-Google-Smtp-Source: AGHT+IFqEs7t9vJUiqFFAKO5/u03sU5DfD9L7gk1RKCfPYhwZnbA2QE10HzdpyjFL1JS9sHxpbDaOQxNzPJ7 X-Received: by 2002:a05:6a20:ce4c:b0:1ed:a016:ba82 with SMTP id adf61e73a8af0-1ee03a8f4f8mr8410895637.21.1738953677645; Fri, 07 Feb 2025 10:41:17 -0800 (PST) Received: from postal.iol.unh.edu (postal.iol.unh.edu. [132.177.123.84]) by smtp-relay.gmail.com with ESMTPS id 41be03b00d2f7-ad51aecf463sm237370a12.7.2025.02.07.10.41.17 (version=TLS1_2 cipher=ECDHE-ECDSA-AES128-GCM-SHA256 bits=128/128); Fri, 07 Feb 2025 10:41:17 -0800 (PST) X-Relaying-Domain: iol.unh.edu Date: Fri, 07 Feb 2025 10:41:17 -0800 (PST) Message-ID: <67a653cd.630a0220.54b15.d4c3SMTPIN_ADDED_MISSING@mx.google.com> Received: from [172.21.0.11] (unknown [172.18.0.240]) by postal.iol.unh.edu (Postfix) with ESMTP id B0BAC6052477; Fri, 7 Feb 2025 13:40:46 -0500 (EST) Subject: |SUCCESS| [GIT MASTER] 4843aacb0d1201fef37e8a579fcd8baec4acdf98 From: dpdklab@iol.unh.edu To: Test Report Cc: dpdk-test-reports@iol.unh.edu, Akhil Goyal Content-Type: text/plain X-BeenThere: test-report@dpdk.org X-Mailman-Version: 2.1.29 Precedence: list List-Id: automatic DPDK test reports List-Unsubscribe: , List-Archive: List-Post: List-Help: List-Subscribe: , Errors-To: test-report-bounces@dpdk.org _Testing PASS_ Branch: dpdk-next-crypto 4843aacb0d1201fef37e8a579fcd8baec4acdf98 --> testing pass Test environment and result as below: +---------------------+--------------------+------------------+-------------------+-------------------+-------------------------+----------------------+ | Environment | dpdk_meson_compile | dpdk_compile_ovs | dpdk_compile_spdk | dpdk_msvc_compile | dpdk_llvm_clang_compile | dpdk_mingw64_compile | +=====================+====================+==================+===================+===================+=========================+======================+ | Debian 12 | PASS | PASS | PASS | SKIPPED | SKIPPED | SKIPPED | +---------------------+--------------------+------------------+-------------------+-------------------+-------------------------+----------------------+ | CentOS Stream 9 | PASS | PASS | PASS | SKIPPED | SKIPPED | SKIPPED | +---------------------+--------------------+------------------+-------------------+-------------------+-------------------------+----------------------+ | Fedora 39 | PASS | PASS | PASS | SKIPPED | SKIPPED | SKIPPED | +---------------------+--------------------+------------------+-------------------+-------------------+-------------------------+----------------------+ | Fedora 40 (Clang) | PASS | PASS | PASS | SKIPPED | SKIPPED | SKIPPED | +---------------------+--------------------+------------------+-------------------+-------------------+-------------------------+----------------------+ | Fedora 39 (Clang) | PASS | PASS | PASS | SKIPPED | SKIPPED | SKIPPED | +---------------------+--------------------+------------------+-------------------+-------------------+-------------------------+----------------------+ | Fedora 40 | PASS | PASS | PASS | SKIPPED | SKIPPED | SKIPPED | +---------------------+--------------------+------------------+-------------------+-------------------+-------------------------+----------------------+ | openSUSE Leap 15 | PASS | PASS | SKIPPED | SKIPPED | SKIPPED | SKIPPED | +---------------------+--------------------+------------------+-------------------+-------------------+-------------------------+----------------------+ | Ubuntu 22.04 | PASS | PASS | PASS | SKIPPED | SKIPPED | SKIPPED | +---------------------+--------------------+------------------+-------------------+-------------------+-------------------------+----------------------+ | RHEL9 | PASS | PASS | SKIPPED | SKIPPED | SKIPPED | SKIPPED | +---------------------+--------------------+------------------+-------------------+-------------------+-------------------------+----------------------+ | RHEL8 | PASS | PASS | SKIPPED | SKIPPED | SKIPPED | SKIPPED | +---------------------+--------------------+------------------+-------------------+-------------------+-------------------------+----------------------+ | Ubuntu 20.04 | PASS | SKIPPED | SKIPPED | SKIPPED | SKIPPED | SKIPPED | +---------------------+--------------------+------------------+-------------------+-------------------+-------------------------+----------------------+ | Ubuntu 24.04 | PASS | PASS | PASS | SKIPPED | SKIPPED | SKIPPED | +---------------------+--------------------+------------------+-------------------+-------------------+-------------------------+----------------------+ | Alpine | PASS | PASS | SKIPPED | SKIPPED | SKIPPED | SKIPPED | +---------------------+--------------------+------------------+-------------------+-------------------+-------------------------+----------------------+ | FreeBSD 13.4 | PASS | SKIPPED | SKIPPED | SKIPPED | SKIPPED | SKIPPED | +---------------------+--------------------+------------------+-------------------+-------------------+-------------------------+----------------------+ | FreeBSD 14.2 | PASS | SKIPPED | SKIPPED | SKIPPED | SKIPPED | SKIPPED | +---------------------+--------------------+------------------+-------------------+-------------------+-------------------------+----------------------+ | Windows Server 2022 | SKIPPED | SKIPPED | SKIPPED | PASS | PASS | PASS | +---------------------+--------------------+------------------+-------------------+-------------------+-------------------------+----------------------+ Debian 12 Kernel: Depends on container host Compiler: gcc (Debian 12.2.0-14) 12.2.0 CentOS Stream 9 Kernel: Depends on container host Compiler: gcc 11.5.0 20240719 (Red Hat 11.5.0-2) Fedora 39 Kernel: Depends on container host Compiler: gcc 13.3.1 20240522 (Red Hat 13.3.1-1) Fedora 40 (Clang) Kernel: Depends on container host Compiler: clang 18.1.8 (Fedora 18.1.8-1.fc40) Fedora 39 (Clang) Kernel: Depends on container host Compiler: clang 17.0.6 (Fedora 17.0.6-2.fc39) Fedora 40 Kernel: Depends on container host Compiler: gcc 14.2.1 20240912 (Red Hat 14.2.1-3) openSUSE Leap 15 Kernel: Depends on container host Compiler: gcc (SUSE Linux) 7.5.0 Ubuntu 22.04 Kernel: Depends on container host Compiler: gcc (Ubuntu 11.4.0-1ubuntu1~22.04) 11.4.0 RHEL9 Kernel: Depends on container host Compiler: gcc 11.5.0 20240719 (Red Hat 11.5.0-2) RHEL8 Kernel: Depends on container host Compiler: gcc 8.5.0 20210514 (Red Hat 8.5.0-22) Ubuntu 20.04 Kernel: Depends on container host Compiler: gcc (Ubuntu 9.4.0-1ubuntu1~20.04.2) 9.4.0 Ubuntu 24.04 Kernel: Depends on container host Compiler: gcc (Ubuntu 13.3.0-6ubuntu2~24.04) 13.3.0 Alpine Kernel: Depends on container host Compiler: gcc (Alpine 14.2.0) 14.2.0 FreeBSD 13.4 Kernel: 13.4-RELEASE-p1 Compiler: clang 18.1.6 FreeBSD 14.2 Kernel: 14.2-RELEASE Compiler: clang 18.1.6 Windows Server 2022 Kernel: 10.0.20348.2031 Compiler: clang 15.0.7, gcc 14.1.0 (MinGW), and MSVC VS 19.39.33521 To view detailed results, visit: https://lab.dpdk.org/results/dashboard/tarballs/31818/ UNH-IOL DPDK Community Lab To manage your email subscriptions, visit: https://lab.dpdk.org/results/dashboard/preferences/subscriptions/