From mboxrd@z Thu Jan 1 00:00:00 1970 Return-Path: Received: from mails.dpdk.org (mails.dpdk.org [217.70.189.124]) by inbox.dpdk.org (Postfix) with ESMTP id AB4CC461BE for ; Fri, 7 Feb 2025 19:51:41 +0100 (CET) Received: from mails.dpdk.org (localhost [127.0.0.1]) by mails.dpdk.org (Postfix) with ESMTP id A84B142ED5; Fri, 7 Feb 2025 19:51:41 +0100 (CET) Received: from mail-pl1-f226.google.com (mail-pl1-f226.google.com [209.85.214.226]) by mails.dpdk.org (Postfix) with ESMTP id B2CA442E90 for ; Fri, 7 Feb 2025 19:51:40 +0100 (CET) Received: by mail-pl1-f226.google.com with SMTP id d9443c01a7336-21f53ad05a0so16858935ad.3 for ; Fri, 07 Feb 2025 10:51:40 -0800 (PST) DKIM-Signature: v=1; a=rsa-sha256; c=relaxed/relaxed; d=iol.unh.edu; s=unh-iol; t=1738954300; x=1739559100; darn=dpdk.org; h=references:in-reply-to:cc:to:from:subject:message-id:date:from:to :cc:subject:date:message-id:reply-to; bh=3TOk7X3TKuj12boF5XlFeKMqX+qrICaZ0Me7BrCjk/U=; b=Xd5+Y20AHxoQmqZpk2Y7Kof/eBufBMiTqbNrCsYVocyTww5wwzFEfH+r+opvb+CZ1b DXFxUQSUNERajW9iwvH/tTC4i3kikv+J4N5lsDvHjxnKu7j98Dw4XIApDweLEd54SK6b zMQKHH8TZmIxz/5+v7n67FDqu/drQfaI8BOwc= X-Google-DKIM-Signature: v=1; a=rsa-sha256; c=relaxed/relaxed; d=1e100.net; s=20230601; t=1738954300; x=1739559100; h=references:in-reply-to:cc:to:from:subject:message-id:date :x-gm-message-state:from:to:cc:subject:date:message-id:reply-to; bh=3TOk7X3TKuj12boF5XlFeKMqX+qrICaZ0Me7BrCjk/U=; b=GMD+n8g09r9YSrurBIsbZEQnI8ViW3nHSxp2gT01BhfJ1uE2rsLQ+g4WydNY/kkMhh 1r3ualsaDHKrkZGnRSdFkCNe0ljjBUtImivaFLYA0cvtxkaWGRb6H4OVfjPLbuw5w9La oUDR/Ftr2Ql2w5dX5jneaaBbhDN8XjMeUHO2woTcnPhmSBTkzjtqZsiM7rrCRR0WXSBg vF0hN7xZb7sH8LJG+R3VSu+JTcCT93JvMXXxXCsLabt8JMBS/F+uYIOyXRWUZ490kvUy JKC9kGeEfKumZ8q6sgGto+WDVXpto3a3pQlqebvf9zBzpVLoPmtVdFpHRLkbYXvveFu2 MKDA== X-Gm-Message-State: AOJu0YxgNGulYDaQNraj228f9cQhTwgdgKzUp1ThBPAQQMON5cOoW/rr xiqRjZFPmnTeD9GQxJJ+8lGGL+pTj2NfjVRaQ31GskziGnb94NSIfF09TkmksrC2AFHwxvJbNGJ i3p/vxeA8qTEqf0frtVpaE9e6p4jeiDLSsvAEIVoa X-Gm-Gg: ASbGncuuuXUXRF9wWspwwIAc3FprarkDDy5CnGM7wt0hEgdCG1xIgfS2m+7RqEZQbrQ iBUPh5S2ROrHPb3yx03qtTQ9+7Am5NxfWBVWA/dj/Hm2fmkbB1puAQ93hPr/2A/A6E1fwLIzgUF wnZNHDeS04ZieXTJscrwmiY7Jy7DfWZiW25ShTr4M0Fc2+CqbimX7nDDKOyPtt1WO+BMyPv0FhF KdhMe3bTJfPvqrOeBEO9RhDVwmnSZL4zK06B3b/44fmoyBL0qg1064YupQY1VnSmlcdyMZkKboc 0bVUceOAaclZpLR8KNNDyxWYdM24Hw== X-Google-Smtp-Source: AGHT+IF0i02p7hvP9G+wfXxTf2GtZQGVBveiZTS9y0uBy81Ozk7p3dKn39fuhskq3qBvUF/x48/ZkRIoRVrT X-Received: by 2002:a05:6a21:50d:b0:1ed:5247:f385 with SMTP id adf61e73a8af0-1ee03b6d909mr8491429637.38.1738954299918; Fri, 07 Feb 2025 10:51:39 -0800 (PST) Received: from postal.iol.unh.edu (postal.iol.unh.edu. [132.177.123.84]) by smtp-relay.gmail.com with ESMTPS id 41be03b00d2f7-ad51aee7effsm112832a12.16.2025.02.07.10.51.39 (version=TLS1_2 cipher=ECDHE-ECDSA-AES128-GCM-SHA256 bits=128/128); Fri, 07 Feb 2025 10:51:39 -0800 (PST) X-Relaying-Domain: iol.unh.edu Date: Fri, 07 Feb 2025 10:51:39 -0800 (PST) Message-ID: <67a6563b.650a0220.fee65.5b7cSMTPIN_ADDED_MISSING@mx.google.com> Received: from [172.21.0.14] (unknown [172.18.0.240]) by postal.iol.unh.edu (Postfix) with ESMTP id 0F2BC6052472; Fri, 7 Feb 2025 13:51:09 -0500 (EST) Subject: |SUCCESS| pw148979 [PATCH] net/ixgbe: fix missing E610 support in fl From: dpdklab@iol.unh.edu To: Test Report Cc: dpdk-test-reports@iol.unh.edu In-Reply-To: <20241202182144.1880251-1-vladimir.medvedkin@intel.com> References: <20241202182144.1880251-1-vladimir.medvedkin@intel.com> Content-Type: text/plain X-BeenThere: test-report@dpdk.org X-Mailman-Version: 2.1.29 Precedence: list List-Id: automatic DPDK test reports List-Unsubscribe: , List-Archive: List-Post: List-Help: List-Subscribe: , Errors-To: test-report-bounces@dpdk.org Test-Label: iol-compile-amd64-testing Test-Status: SUCCESS http://dpdk.org/patch/148979 _Testing PASS_ Submitter: Medvedkin, Vladimir Date: Monday, December 02 2024 18:21:44 DPDK git baseline: Repo:dpdk Branch: master CommitID:ce85dd8562ad9673eb4fe46b4a8bd3a508e8b32f 148979 --> testing pass Test environment and result as below: +---------------------+--------------------+------------------+-------------------+-------------------+-------------------------+----------------------+ | Environment | dpdk_meson_compile | dpdk_compile_ovs | dpdk_compile_spdk | dpdk_msvc_compile | dpdk_llvm_clang_compile | dpdk_mingw64_compile | +=====================+====================+==================+===================+===================+=========================+======================+ | CentOS Stream 9 | PASS | PASS | PASS | SKIPPED | SKIPPED | SKIPPED | +---------------------+--------------------+------------------+-------------------+-------------------+-------------------------+----------------------+ | Fedora 39 (Clang) | PASS | PASS | PASS | SKIPPED | SKIPPED | SKIPPED | +---------------------+--------------------+------------------+-------------------+-------------------+-------------------------+----------------------+ | Fedora 40 | PASS | PASS | PASS | SKIPPED | SKIPPED | SKIPPED | +---------------------+--------------------+------------------+-------------------+-------------------+-------------------------+----------------------+ | Fedora 39 | PASS | PASS | PASS | SKIPPED | SKIPPED | SKIPPED | +---------------------+--------------------+------------------+-------------------+-------------------+-------------------------+----------------------+ | openSUSE Leap 15 | PASS | PASS | SKIPPED | SKIPPED | SKIPPED | SKIPPED | +---------------------+--------------------+------------------+-------------------+-------------------+-------------------------+----------------------+ | Fedora 40 (Clang) | PASS | PASS | PASS | SKIPPED | SKIPPED | SKIPPED | +---------------------+--------------------+------------------+-------------------+-------------------+-------------------------+----------------------+ | RHEL8 | PASS | PASS | SKIPPED | SKIPPED | SKIPPED | SKIPPED | +---------------------+--------------------+------------------+-------------------+-------------------+-------------------------+----------------------+ | Ubuntu 20.04 | PASS | SKIPPED | SKIPPED | SKIPPED | SKIPPED | SKIPPED | +---------------------+--------------------+------------------+-------------------+-------------------+-------------------------+----------------------+ | Debian 12 | PASS | PASS | PASS | SKIPPED | SKIPPED | SKIPPED | +---------------------+--------------------+------------------+-------------------+-------------------+-------------------------+----------------------+ | RHEL9 | PASS | PASS | SKIPPED | SKIPPED | SKIPPED | SKIPPED | +---------------------+--------------------+------------------+-------------------+-------------------+-------------------------+----------------------+ | Ubuntu 22.04 | PASS | PASS | PASS | SKIPPED | SKIPPED | SKIPPED | +---------------------+--------------------+------------------+-------------------+-------------------+-------------------------+----------------------+ | FreeBSD 13.4 | PASS | SKIPPED | SKIPPED | SKIPPED | SKIPPED | SKIPPED | +---------------------+--------------------+------------------+-------------------+-------------------+-------------------------+----------------------+ | Alpine | PASS | PASS | SKIPPED | SKIPPED | SKIPPED | SKIPPED | +---------------------+--------------------+------------------+-------------------+-------------------+-------------------------+----------------------+ | Ubuntu 24.04 | PASS | PASS | PASS | SKIPPED | SKIPPED | SKIPPED | +---------------------+--------------------+------------------+-------------------+-------------------+-------------------------+----------------------+ | FreeBSD 14.2 | PASS | SKIPPED | SKIPPED | SKIPPED | SKIPPED | SKIPPED | +---------------------+--------------------+------------------+-------------------+-------------------+-------------------------+----------------------+ | Windows Server 2022 | SKIPPED | SKIPPED | SKIPPED | PASS | PASS | PASS | +---------------------+--------------------+------------------+-------------------+-------------------+-------------------------+----------------------+ CentOS Stream 9 Kernel: Depends on container host Compiler: gcc 11.5.0 20240719 (Red Hat 11.5.0-2) Fedora 39 (Clang) Kernel: Depends on container host Compiler: clang 17.0.6 (Fedora 17.0.6-2.fc39) Fedora 40 Kernel: Depends on container host Compiler: gcc 14.2.1 20240912 (Red Hat 14.2.1-3) Fedora 39 Kernel: Depends on container host Compiler: gcc 13.3.1 20240522 (Red Hat 13.3.1-1) openSUSE Leap 15 Kernel: Depends on container host Compiler: gcc (SUSE Linux) 7.5.0 Fedora 40 (Clang) Kernel: Depends on container host Compiler: clang 18.1.8 (Fedora 18.1.8-1.fc40) RHEL8 Kernel: Depends on container host Compiler: gcc 8.5.0 20210514 (Red Hat 8.5.0-22) Ubuntu 20.04 Kernel: Depends on container host Compiler: gcc (Ubuntu 9.4.0-1ubuntu1~20.04.2) 9.4.0 Debian 12 Kernel: Depends on container host Compiler: gcc (Debian 12.2.0-14) 12.2.0 RHEL9 Kernel: Depends on container host Compiler: gcc 11.5.0 20240719 (Red Hat 11.5.0-2) Ubuntu 22.04 Kernel: Depends on container host Compiler: gcc (Ubuntu 11.4.0-1ubuntu1~22.04) 11.4.0 FreeBSD 13.4 Kernel: 13.4-RELEASE-p1 Compiler: clang 18.1.6 Alpine Kernel: Depends on container host Compiler: gcc (Alpine 14.2.0) 14.2.0 Ubuntu 24.04 Kernel: Depends on container host Compiler: gcc (Ubuntu 13.3.0-6ubuntu2~24.04) 13.3.0 FreeBSD 14.2 Kernel: 14.2-RELEASE Compiler: clang 18.1.6 Windows Server 2022 Kernel: 10.0.20348.2031 Compiler: clang 15.0.7, gcc 14.1.0 (MinGW), and MSVC VS 19.39.33521 To view detailed results, visit: https://lab.dpdk.org/results/dashboard/patchsets/32071/ UNH-IOL DPDK Community Lab To manage your email subscriptions, visit: https://lab.dpdk.org/results/dashboard/preferences/subscriptions/