From mboxrd@z Thu Jan 1 00:00:00 1970 Return-Path: Received: from mails.dpdk.org (mails.dpdk.org [217.70.189.124]) by inbox.dpdk.org (Postfix) with ESMTP id C0905461BE for ; Fri, 7 Feb 2025 19:51:46 +0100 (CET) Received: from mails.dpdk.org (localhost [127.0.0.1]) by mails.dpdk.org (Postfix) with ESMTP id B774242ED5; Fri, 7 Feb 2025 19:51:46 +0100 (CET) Received: from mail-pl1-f228.google.com (mail-pl1-f228.google.com [209.85.214.228]) by mails.dpdk.org (Postfix) with ESMTP id 308A042E90 for ; Fri, 7 Feb 2025 19:51:45 +0100 (CET) Received: by mail-pl1-f228.google.com with SMTP id d9443c01a7336-21f44e7eae4so33439945ad.2 for ; Fri, 07 Feb 2025 10:51:45 -0800 (PST) DKIM-Signature: v=1; a=rsa-sha256; c=relaxed/relaxed; d=iol.unh.edu; s=unh-iol; t=1738954304; x=1739559104; darn=dpdk.org; h=references:in-reply-to:cc:to:from:subject:message-id:date:from:to :cc:subject:date:message-id:reply-to; bh=y/Ks2hxX657cdCt7+b9GORtjWTqY9X1Lj98VdWZz7K8=; b=RXa6g5IQ8s53pAm4nQoekX/F+3ENfhIKhDcbZVsQeJ20RzH8Cns8meGB7hKkdQBZdT ymFdri3AKz3CoZe5yf7XMZEcJB/ipGD7Ozs+a4nJJHwpi9RtsJio7wyd/l8miEIkHIHu rlGiejeIkzXQV2/Ny8tVWLOjHzyCrbmAWL4YM= X-Google-DKIM-Signature: v=1; a=rsa-sha256; c=relaxed/relaxed; d=1e100.net; s=20230601; t=1738954304; x=1739559104; h=references:in-reply-to:cc:to:from:subject:message-id:date :x-gm-message-state:from:to:cc:subject:date:message-id:reply-to; bh=y/Ks2hxX657cdCt7+b9GORtjWTqY9X1Lj98VdWZz7K8=; b=VYT7Oqcw5PzPR9Jay2SSwiHYWE+Vzspkp/w1TK9aauyuzevouvy/wU/jcHBDvXy+rx V7P6r6Ep/6VqE33jcK4eVxx92PEJeqBUpNbfW1DDMKUtxEZknppP/1dvD/SFaEYh7+Y+ 0IYwjG+5aMx8julIPcEl4DB6QaxJ0fKW+URfMdvc6xwXYv6It9OrXKuMfVPmanH1eAAw cEdDruOpJ7C6v56xAFC7bugeydZcFhcqRq4WYb9KnLPtm5QJIyXEn/SbX+hfhXA21R/2 aGswXrEsljx8TT6adIP8aQLcUdoy4c8UiqniaZWDsl2oKD3V2/fWtYSg2dRFOn13FN0C 0ccg== X-Gm-Message-State: AOJu0YxDALo8fvhq/4e9tysV+u3TnO0Fs/zRSflSM7MjqjHiA0mPzH// jbc/6llqDnNeL04WO5fSZHV7avgs892EzwGzIQw1xnbgMC+E28mzwfY2uwTHiMgYtCHfk80qFhj EAjEZqjURqB3OfZxBoysjUxHeD7H/lYwCHOQfiGKO X-Gm-Gg: ASbGncssj3kOi154mm5JHGR0efLa6hbxnDD52R9htOp8HAdN1oe3V/BcrYW8DI7z+6q z6doO8bNLxYgeIiDhV/CThbf5Sq8NWwVmn9B2Td8VhonD+TsLgGO2ZeOUJ8GDP5nB5G/Vr6HLh1 Mqw97LV04Qe+EWswXhud5WZCz2M7TizaBx4lJMrBPR22Irhm8ntgld7RfOHffNe20euBqmwfOCK Ab2ZIn67Dft8Nc9cyaClmMtOkk/tTC996zfyvQmJPRAJF61X6wvT4rioGYRLa+nVtbewycX6xDY XGjilP8FpaGpZqIT0Uum/wxznLs+Qw== X-Google-Smtp-Source: AGHT+IFOkMDgrn+hY2qb3eFSO8RdFP6B2Ahb4LSS4LonLCknOIRDy+cY2MNBxx5DEd9THFHukcZ7qclnTSSo X-Received: by 2002:a17:90b:19d0:b0:2ee:8031:cdbc with SMTP id 98e67ed59e1d1-2fa242e5d62mr5225339a91.23.1738954304394; Fri, 07 Feb 2025 10:51:44 -0800 (PST) Received: from postal.iol.unh.edu (postal.iol.unh.edu. [132.177.123.84]) by smtp-relay.gmail.com with ESMTPS id d9443c01a7336-21f368901edsm2078425ad.118.2025.02.07.10.51.44 (version=TLS1_2 cipher=ECDHE-ECDSA-AES128-GCM-SHA256 bits=128/128); Fri, 07 Feb 2025 10:51:44 -0800 (PST) X-Relaying-Domain: iol.unh.edu Date: Fri, 07 Feb 2025 10:51:44 -0800 (PST) Message-ID: <67a65640.170a0220.35ab50.a563SMTPIN_ADDED_MISSING@mx.google.com> Received: from [172.21.0.7] (unknown [172.18.0.240]) by postal.iol.unh.edu (Postfix) with ESMTP id C9FF16052477; Fri, 7 Feb 2025 13:51:13 -0500 (EST) Subject: |SUCCESS| pw148980 [PATCH] version: 25.03-rc0 From: dpdklab@iol.unh.edu To: Test Report Cc: dpdk-test-reports@iol.unh.edu In-Reply-To: <20241203075445.3829886-1-david.marchand@redhat.com> References: <20241203075445.3829886-1-david.marchand@redhat.com> Content-Type: text/plain X-BeenThere: test-report@dpdk.org X-Mailman-Version: 2.1.29 Precedence: list List-Id: automatic DPDK test reports List-Unsubscribe: , List-Archive: List-Post: List-Help: List-Subscribe: , Errors-To: test-report-bounces@dpdk.org Test-Label: iol-compile-amd64-testing Test-Status: SUCCESS http://dpdk.org/patch/148980 _Testing PASS_ Submitter: David Marchand Date: Tuesday, December 03 2024 07:54:45 DPDK git baseline: Repo:dpdk Branch: master CommitID:1b3bf1128d9bda5595861814792f74b8f57160c8 148980 --> testing pass Test environment and result as below: +---------------------+--------------------+------------------+-------------------+-------------------+-------------------------+----------------------+ | Environment | dpdk_meson_compile | dpdk_compile_ovs | dpdk_compile_spdk | dpdk_msvc_compile | dpdk_llvm_clang_compile | dpdk_mingw64_compile | +=====================+====================+==================+===================+===================+=========================+======================+ | CentOS Stream 9 | PASS | PASS | PASS | SKIPPED | SKIPPED | SKIPPED | +---------------------+--------------------+------------------+-------------------+-------------------+-------------------------+----------------------+ | Debian 12 | PASS | PASS | PASS | SKIPPED | SKIPPED | SKIPPED | +---------------------+--------------------+------------------+-------------------+-------------------+-------------------------+----------------------+ | Fedora 39 (Clang) | PASS | PASS | PASS | SKIPPED | SKIPPED | SKIPPED | +---------------------+--------------------+------------------+-------------------+-------------------+-------------------------+----------------------+ | Fedora 39 | PASS | PASS | PASS | SKIPPED | SKIPPED | SKIPPED | +---------------------+--------------------+------------------+-------------------+-------------------+-------------------------+----------------------+ | Fedora 40 | PASS | PASS | PASS | SKIPPED | SKIPPED | SKIPPED | +---------------------+--------------------+------------------+-------------------+-------------------+-------------------------+----------------------+ | Fedora 40 (Clang) | PASS | PASS | PASS | SKIPPED | SKIPPED | SKIPPED | +---------------------+--------------------+------------------+-------------------+-------------------+-------------------------+----------------------+ | openSUSE Leap 15 | PASS | PASS | SKIPPED | SKIPPED | SKIPPED | SKIPPED | +---------------------+--------------------+------------------+-------------------+-------------------+-------------------------+----------------------+ | RHEL9 | PASS | PASS | SKIPPED | SKIPPED | SKIPPED | SKIPPED | +---------------------+--------------------+------------------+-------------------+-------------------+-------------------------+----------------------+ | Ubuntu 20.04 | PASS | SKIPPED | SKIPPED | SKIPPED | SKIPPED | SKIPPED | +---------------------+--------------------+------------------+-------------------+-------------------+-------------------------+----------------------+ | RHEL8 | PASS | PASS | SKIPPED | SKIPPED | SKIPPED | SKIPPED | +---------------------+--------------------+------------------+-------------------+-------------------+-------------------------+----------------------+ | Ubuntu 22.04 | PASS | PASS | PASS | SKIPPED | SKIPPED | SKIPPED | +---------------------+--------------------+------------------+-------------------+-------------------+-------------------------+----------------------+ | Alpine | PASS | PASS | SKIPPED | SKIPPED | SKIPPED | SKIPPED | +---------------------+--------------------+------------------+-------------------+-------------------+-------------------------+----------------------+ | Ubuntu 24.04 | PASS | PASS | PASS | SKIPPED | SKIPPED | SKIPPED | +---------------------+--------------------+------------------+-------------------+-------------------+-------------------------+----------------------+ | FreeBSD 13.4 | PASS | SKIPPED | SKIPPED | SKIPPED | SKIPPED | SKIPPED | +---------------------+--------------------+------------------+-------------------+-------------------+-------------------------+----------------------+ | FreeBSD 14.2 | PASS | SKIPPED | SKIPPED | SKIPPED | SKIPPED | SKIPPED | +---------------------+--------------------+------------------+-------------------+-------------------+-------------------------+----------------------+ | Windows Server 2022 | SKIPPED | SKIPPED | SKIPPED | PASS | PASS | PASS | +---------------------+--------------------+------------------+-------------------+-------------------+-------------------------+----------------------+ CentOS Stream 9 Kernel: Depends on container host Compiler: gcc 11.5.0 20240719 (Red Hat 11.5.0-2) Debian 12 Kernel: Depends on container host Compiler: gcc (Debian 12.2.0-14) 12.2.0 Fedora 39 (Clang) Kernel: Depends on container host Compiler: clang 17.0.6 (Fedora 17.0.6-2.fc39) Fedora 39 Kernel: Depends on container host Compiler: gcc 13.3.1 20240522 (Red Hat 13.3.1-1) Fedora 40 Kernel: Depends on container host Compiler: gcc 14.2.1 20240912 (Red Hat 14.2.1-3) Fedora 40 (Clang) Kernel: Depends on container host Compiler: clang 18.1.8 (Fedora 18.1.8-1.fc40) openSUSE Leap 15 Kernel: Depends on container host Compiler: gcc (SUSE Linux) 7.5.0 RHEL9 Kernel: Depends on container host Compiler: gcc 11.5.0 20240719 (Red Hat 11.5.0-2) Ubuntu 20.04 Kernel: Depends on container host Compiler: gcc (Ubuntu 9.4.0-1ubuntu1~20.04.2) 9.4.0 RHEL8 Kernel: Depends on container host Compiler: gcc 8.5.0 20210514 (Red Hat 8.5.0-22) Ubuntu 22.04 Kernel: Depends on container host Compiler: gcc (Ubuntu 11.4.0-1ubuntu1~22.04) 11.4.0 Alpine Kernel: Depends on container host Compiler: gcc (Alpine 14.2.0) 14.2.0 Ubuntu 24.04 Kernel: Depends on container host Compiler: gcc (Ubuntu 13.3.0-6ubuntu2~24.04) 13.3.0 FreeBSD 13.4 Kernel: 13.4-RELEASE-p1 Compiler: clang 18.1.6 FreeBSD 14.2 Kernel: 14.2-RELEASE Compiler: clang 18.1.6 Windows Server 2022 Kernel: 10.0.20348.2031 Compiler: clang 15.0.7, gcc 14.1.0 (MinGW), and MSVC VS 19.39.33521 To view detailed results, visit: https://lab.dpdk.org/results/dashboard/patchsets/32072/ UNH-IOL DPDK Community Lab To manage your email subscriptions, visit: https://lab.dpdk.org/results/dashboard/preferences/subscriptions/