From mboxrd@z Thu Jan 1 00:00:00 1970 Return-Path: Received: from mails.dpdk.org (mails.dpdk.org [217.70.189.124]) by inbox.dpdk.org (Postfix) with ESMTP id A3A23461C0 for ; Fri, 7 Feb 2025 20:05:47 +0100 (CET) Received: from mails.dpdk.org (localhost [127.0.0.1]) by mails.dpdk.org (Postfix) with ESMTP id A1D1B42EF8; Fri, 7 Feb 2025 20:05:47 +0100 (CET) Received: from mail-oi1-f227.google.com (mail-oi1-f227.google.com [209.85.167.227]) by mails.dpdk.org (Postfix) with ESMTP id 7C3F942E90 for ; Fri, 7 Feb 2025 20:05:44 +0100 (CET) Received: by mail-oi1-f227.google.com with SMTP id 5614622812f47-3eba50d6da7so705942b6e.2 for ; Fri, 07 Feb 2025 11:05:44 -0800 (PST) DKIM-Signature: v=1; a=rsa-sha256; c=relaxed/relaxed; d=iol.unh.edu; s=unh-iol; t=1738955143; x=1739559943; darn=dpdk.org; h=cc:to:from:subject:message-id:date:from:to:cc:subject:date :message-id:reply-to; bh=JmwEec5S2bdbhX/VbgDfEguD1wE6tMIFBJXBzZKhDgk=; b=icw9cY5zRb2IcTcsbchEbOV2BMwy27thLtEOvznu4jY060HHNLHwmJA4csn98yY87s T8J1PElSFF+ye00k5ewREyoGIAWx7kz75fNy2JV6rJw/xr17Wm2JylmI77CZBOEAFo/8 eio9UAHVjOclppkSsekiyGvbpL57MVsLTFCGw= X-Google-DKIM-Signature: v=1; a=rsa-sha256; c=relaxed/relaxed; d=1e100.net; s=20230601; t=1738955143; x=1739559943; h=cc:to:from:subject:message-id:date:x-gm-message-state:from:to:cc :subject:date:message-id:reply-to; bh=JmwEec5S2bdbhX/VbgDfEguD1wE6tMIFBJXBzZKhDgk=; b=atCVzIzp4oHas3zOxH+Hpm8J64lvADIff23CqkP70j8qw5ihfjUiB+LXv5rz9hpxG+ /HO+yt3zXwXJ+Z7s8RlmjyERVvW13Kt+gwxJdx9XWUGbswZ1E70g1cBn31WY2v2FTNfQ AejgZuYJiwdQ+g6ZFwQf9fUt3tn5RqS6Axibg/8q6YJFoYQUl/eUqMrWAvHJWn8za0BR GdX1V4//12U77kYOSFAb2SrRetLKTDJfSOsUZWJvoGX73dwxgYvfmHr9+QnwAvsEzAc3 SJ5lYmTJzlmR7ifIaqY6sTCKYBol9HCE3co9zowrSTNWJRMpWVJApBwzOb5QzMtGT8Nb nU0g== X-Gm-Message-State: AOJu0YxKEbRpTTwAqjeyDeGL40KzLUUpmWDU1aQGK0KRdWVA9xd4PK2o H/O002Hk6E/KkvolEgyKSpq1i7vMYxJkxPkXra1jC4ykCDTniUKqARQaT+L1P4eL2j4r7WkffX/ a/CHi4fwjfw4EggcArvekJyzFLMZHZ9IN X-Gm-Gg: ASbGncvrnlPSLsgMinsGc1ORM6R+80fARl7Pui/PO+ZSYMugDI4d8Vau8G04F/IEaqv YokruJHt7FVUazW+UiG3lnBFcwIwWm1CwLHEU5ZZ2IP31rzzV8By7doEZDiuV5lMgVKHs9MucWS ot9guSwojcWFWOuJCODFbN19NuACvEZdvnxcjwkjURjRFfotPNCEUg7DxYDcXwBOPQZXdAMRPQm SpHSJZkDPucFwp+Lk7Rrqc7lC+dROs9XODu7EcWFM97WHmzydA/R1x0BEQcQ0pAFFC+pMDj5XEY yFPfyBZiBzwIsrMlMzZBwcxGu8h3TA== X-Google-Smtp-Source: AGHT+IH/h5Hp1QTXtZDH8lyA6OCJAquUpqNvYY7Uw6n6VQ5uz5Q7sDoFgxwPUDt9Q00mTBLacyi6TUWk9yNH X-Received: by 2002:a05:6808:3c90:b0:3f1:9127:8bb4 with SMTP id 5614622812f47-3f3923b4191mr3086058b6e.38.1738955143433; Fri, 07 Feb 2025 11:05:43 -0800 (PST) Received: from postal.iol.unh.edu (postal.iol.unh.edu. [132.177.123.84]) by smtp-relay.gmail.com with ESMTPS id 46e09a7af769-726afa20818sm200123a34.10.2025.02.07.11.05.43 (version=TLS1_2 cipher=ECDHE-ECDSA-AES128-GCM-SHA256 bits=128/128); Fri, 07 Feb 2025 11:05:43 -0800 (PST) X-Relaying-Domain: iol.unh.edu Date: Fri, 07 Feb 2025 11:05:43 -0800 (PST) Message-ID: <67a65987.050a0220.1dd239.ab56SMTPIN_ADDED_MISSING@mx.google.com> Received: from [172.21.0.5] (unknown [172.18.0.240]) by postal.iol.unh.edu (Postfix) with ESMTP id E3B226052472; Fri, 7 Feb 2025 14:05:42 -0500 (EST) Subject: |WARNING| [GIT MASTER] f2eea2f37a82bb73fb01d56350708f7d70e21379 From: dpdklab@iol.unh.edu To: Test Report Cc: dpdk-test-reports@iol.unh.edu, Xueming Li , Christian Ehrhardt , Kevin Traynor , Luca Boccassi Content-Type: text/plain X-BeenThere: test-report@dpdk.org X-Mailman-Version: 2.1.29 Precedence: list List-Id: automatic DPDK test reports List-Unsubscribe: , List-Archive: List-Post: List-Help: List-Subscribe: , Errors-To: test-report-bounces@dpdk.org _Testing issues_ Branch: tags/v24.11 f2eea2f37a82bb73fb01d56350708f7d70e21379 --> testing issues Test environment and result as below: +---------------------+--------------------+------------------+-------------------+-------------------+-------------------------+----------------------+ | Environment | dpdk_meson_compile | dpdk_compile_ovs | dpdk_compile_spdk | dpdk_msvc_compile | dpdk_llvm_clang_compile | dpdk_mingw64_compile | +=====================+====================+==================+===================+===================+=========================+======================+ | Fedora 41 (Clang) | PASS | PASS | PASS | SKIPPED | SKIPPED | SKIPPED | +---------------------+--------------------+------------------+-------------------+-------------------+-------------------------+----------------------+ | RHEL8 | PASS | PASS | SKIPPED | SKIPPED | SKIPPED | SKIPPED | +---------------------+--------------------+------------------+-------------------+-------------------+-------------------------+----------------------+ | CentOS Stream 9 | PASS | PASS | PASS | SKIPPED | SKIPPED | SKIPPED | +---------------------+--------------------+------------------+-------------------+-------------------+-------------------------+----------------------+ | Debian Bullseye | PASS | PASS | PASS | SKIPPED | SKIPPED | SKIPPED | +---------------------+--------------------+------------------+-------------------+-------------------+-------------------------+----------------------+ | Debian 12 | PASS | PASS | PASS | SKIPPED | SKIPPED | SKIPPED | +---------------------+--------------------+------------------+-------------------+-------------------+-------------------------+----------------------+ | Fedora 41 | PASS | PASS | PASS | SKIPPED | SKIPPED | SKIPPED | +---------------------+--------------------+------------------+-------------------+-------------------+-------------------------+----------------------+ | Fedora 40 (Clang) | PASS | PASS | PASS | SKIPPED | SKIPPED | SKIPPED | +---------------------+--------------------+------------------+-------------------+-------------------+-------------------------+----------------------+ | Fedora 40 | PASS | PASS | PASS | SKIPPED | SKIPPED | SKIPPED | +---------------------+--------------------+------------------+-------------------+-------------------+-------------------------+----------------------+ | openSUSE Leap 15 | PASS | WARN | SKIPPED | SKIPPED | SKIPPED | SKIPPED | +---------------------+--------------------+------------------+-------------------+-------------------+-------------------------+----------------------+ | RHEL9 | PASS | PASS | SKIPPED | SKIPPED | SKIPPED | SKIPPED | +---------------------+--------------------+------------------+-------------------+-------------------+-------------------------+----------------------+ | Ubuntu 22.04 | PASS | PASS | PASS | SKIPPED | SKIPPED | SKIPPED | +---------------------+--------------------+------------------+-------------------+-------------------+-------------------------+----------------------+ | Ubuntu 24.04 | PASS | PASS | PASS | SKIPPED | SKIPPED | SKIPPED | +---------------------+--------------------+------------------+-------------------+-------------------+-------------------------+----------------------+ | Ubuntu 20.04 | PASS | SKIPPED | SKIPPED | SKIPPED | SKIPPED | SKIPPED | +---------------------+--------------------+------------------+-------------------+-------------------+-------------------------+----------------------+ | FreeBSD 13.4 | PASS | SKIPPED | SKIPPED | SKIPPED | SKIPPED | SKIPPED | +---------------------+--------------------+------------------+-------------------+-------------------+-------------------------+----------------------+ | Alpine | PASS | PASS | SKIPPED | SKIPPED | SKIPPED | SKIPPED | +---------------------+--------------------+------------------+-------------------+-------------------+-------------------------+----------------------+ | FreeBSD 14.2 | PASS | SKIPPED | SKIPPED | SKIPPED | SKIPPED | SKIPPED | +---------------------+--------------------+------------------+-------------------+-------------------+-------------------------+----------------------+ | Windows Server 2022 | SKIPPED | SKIPPED | SKIPPED | PASS | PASS | PASS | +---------------------+--------------------+------------------+-------------------+-------------------+-------------------------+----------------------+ ==== 20 line log output for openSUSE Leap 15 (dpdk_compile_ovs): ==== --- Failed to get log output --- ==== End log output ==== Fedora 41 (Clang) Kernel: Depends on container host Compiler: clang 19.1.5 (Fedora 19.1.5-1.fc41) RHEL8 Kernel: Depends on container host Compiler: gcc 8.5.0 20210514 (Red Hat 8.5.0-22) CentOS Stream 9 Kernel: Depends on container host Compiler: gcc 11.5.0 20240719 (Red Hat 11.5.0-2) Debian Bullseye Kernel: Depends on container host Compiler: gcc (Debian 10.2.1-6) 10.2.1 20210110 Debian 12 Kernel: Depends on container host Compiler: gcc (Debian 12.2.0-14) 12.2.0 Fedora 41 Kernel: Depends on container host Compiler: gcc 14.2.1 20240912 (Red Hat 14.2.1-3) Fedora 40 (Clang) Kernel: Depends on container host Compiler: clang 18.1.8 (Fedora 18.1.8-1.fc40) Fedora 40 Kernel: Depends on container host Compiler: gcc 14.2.1 20240912 (Red Hat 14.2.1-3) openSUSE Leap 15 Kernel: Depends on container host Compiler: gcc (SUSE Linux) 7.5.0 RHEL9 Kernel: Depends on container host Compiler: gcc 11.5.0 20240719 (Red Hat 11.5.0-2) Ubuntu 22.04 Kernel: Depends on container host Compiler: gcc (Ubuntu 11.4.0-1ubuntu1~22.04) 11.4.0 Ubuntu 24.04 Kernel: Depends on container host Compiler: gcc (Ubuntu 13.3.0-6ubuntu2~24.04) 13.3.0 Ubuntu 20.04 Kernel: Depends on container host Compiler: gcc (Ubuntu 9.4.0-1ubuntu1~20.04.2) 9.4.0 FreeBSD 13.4 Kernel: 13.4-RELEASE-p1 Compiler: clang 18.1.6 Alpine Kernel: Depends on container host Compiler: gcc (Alpine 14.2.0) 14.2.0 FreeBSD 14.2 Kernel: 14.2-RELEASE Compiler: clang 18.1.6 Windows Server 2022 Kernel: 10.0.20348.2031 Compiler: clang 15.0.7, gcc 14.1.0 (MinGW), and MSVC VS 19.39.33521 To view detailed results, visit: https://lab.dpdk.org/results/dashboard/tarballs/32111/ UNH-IOL DPDK Community Lab To manage your email subscriptions, visit: https://lab.dpdk.org/results/dashboard/preferences/subscriptions/