From mboxrd@z Thu Jan 1 00:00:00 1970 Return-Path: Received: from mails.dpdk.org (mails.dpdk.org [217.70.189.124]) by inbox.dpdk.org (Postfix) with ESMTP id E5090461BF for ; Fri, 7 Feb 2025 20:06:06 +0100 (CET) Received: from mails.dpdk.org (localhost [127.0.0.1]) by mails.dpdk.org (Postfix) with ESMTP id E2D8A42EF2; Fri, 7 Feb 2025 20:06:06 +0100 (CET) Received: from mail-pl1-f225.google.com (mail-pl1-f225.google.com [209.85.214.225]) by mails.dpdk.org (Postfix) with ESMTP id 534A442ED5 for ; Fri, 7 Feb 2025 20:06:06 +0100 (CET) Received: by mail-pl1-f225.google.com with SMTP id d9443c01a7336-21f6022c2c3so9160875ad.0 for ; Fri, 07 Feb 2025 11:06:06 -0800 (PST) DKIM-Signature: v=1; a=rsa-sha256; c=relaxed/relaxed; d=iol.unh.edu; s=unh-iol; t=1738955165; x=1739559965; darn=dpdk.org; h=references:in-reply-to:cc:to:from:subject:message-id:date:from:to :cc:subject:date:message-id:reply-to; bh=RKZNh4a3APondJt3Vi4/idqYH+2F+VVqIe6wf3HBgRY=; b=jESlB+1vsyRIzhWHEPOC5IZnpoKYOjrJRfX1j6GpJCWkYnZJQIK/C5C33XNSucW7Gi 9ylCoR+hZBQ4zzYPF7TmYmygaUdk8elRdRV0zKeQg5Rxf0rBj0nMXJBxk22As6mDeui+ HQaIr6875A+X9QS3Xbp/yX8LZ4RURC8MOrtXQ= X-Google-DKIM-Signature: v=1; a=rsa-sha256; c=relaxed/relaxed; d=1e100.net; s=20230601; t=1738955165; x=1739559965; h=references:in-reply-to:cc:to:from:subject:message-id:date :x-gm-message-state:from:to:cc:subject:date:message-id:reply-to; bh=RKZNh4a3APondJt3Vi4/idqYH+2F+VVqIe6wf3HBgRY=; b=M7ZOvqao6MaIkKP3819EcLKVFYANs95CZ8v+mw3X1olOMdRv/7UFA4XcTBy2Odot2F rFvFulzUR36C7H4+GPBkxZVyvnucxev0R/tnmrqn5zkvAJij7zU4Un6Ch4o5lIGmeKyZ UszbkL31IXTXQBx3xpmLL5jepauEVIl6jxM/kWQI1W8/7KmEtSG+AH+JFWgmv0UobR66 LuFXYyqiyH59Hbf14UaKiMjVShhfgmZaUe/v5r4K2tX65E1povxKHsWV8AQw7pC4WnS+ CQ2wngQmiuBk32u7jUaheEMk2Q22XdN3YA9vE8BwjF+9tvWn9Ox+Fk4noocdYsI8AZan qn0A== X-Gm-Message-State: AOJu0YwAZzX1JZfcWcZcT0vGPgwX8AiG/twsEv/zXrrQ1XqZhKePMjq6 RooeReH7KUYjZ4Kp9KyUQpK5m0+ALjamVbdJGLbeq89tnoO2hg3kMhpnZWyzMcP8DIzxCrC8404 9kPCxMhvf3AaxWEBE4/lX+PgIEMlkJ+w731SJCfl3 X-Gm-Gg: ASbGnctF4hz3Wlgid9mn5m5KM16rm6udZaHZQUjNSOhywLFcIgPhsyPJF7We5wE/wLq vQYnbyNycYfSvLIwHN5aMT0ZmzPZNgYUH6JOYhhl0l1XTWUDFf/boP84HQsKcC7PfeEswHg5tJ7 a8ozZXW953mpOqPjYmdB12jymDPsmP3/MRsYvh6MFQWiugNjJjDRPqDQFEvAgtDoeZEmsMJlMsl sukHSw411WcT+YaxQ44GF8XsWonfhzYQ+TrNPsCp3cQdc4ToXVoflOkSlsxX977HZjckURRPrpm wR+lV7j2UO4T9l7EOsd4qf5pV1HKUQ== X-Google-Smtp-Source: AGHT+IEj2TVYH72xuTMXWzo+Q+hO13L39euHlScC5kdzuEmv/vMyRLCd7no/+SMmMFkfQbI3n4N2YVHvbutj X-Received: by 2002:a05:6a20:6f06:b0:1ed:d780:feaf with SMTP id adf61e73a8af0-1ee05290924mr7385081637.6.1738955165601; Fri, 07 Feb 2025 11:06:05 -0800 (PST) Received: from postal.iol.unh.edu (postal.iol.unh.edu. [132.177.123.84]) by smtp-relay.gmail.com with ESMTPS id 41be03b00d2f7-ad51aebcd68sm240975a12.5.2025.02.07.11.06.05 (version=TLS1_2 cipher=ECDHE-ECDSA-AES128-GCM-SHA256 bits=128/128); Fri, 07 Feb 2025 11:06:05 -0800 (PST) X-Relaying-Domain: iol.unh.edu Date: Fri, 07 Feb 2025 11:06:05 -0800 (PST) Message-ID: <67a6599d.630a0220.1c8736.d0bdSMTPIN_ADDED_MISSING@mx.google.com> Received: from [172.21.0.11] (unknown [172.18.0.240]) by postal.iol.unh.edu (Postfix) with ESMTP id CE8796052485; Fri, 7 Feb 2025 14:05:34 -0500 (EST) Subject: |WARNING| pw149638 [PATCH] [v2] net/af_packet: allow changing fanout From: dpdklab@iol.unh.edu To: Test Report Cc: dpdk-test-reports@iol.unh.edu In-Reply-To: <20250106153508.11262-1-tudor.cornea@gmail.com> References: <20250106153508.11262-1-tudor.cornea@gmail.com> Content-Type: text/plain X-BeenThere: test-report@dpdk.org X-Mailman-Version: 2.1.29 Precedence: list List-Id: automatic DPDK test reports List-Unsubscribe: , List-Archive: List-Post: List-Help: List-Subscribe: , Errors-To: test-report-bounces@dpdk.org Test-Label: iol-compile-amd64-testing Test-Status: WARNING http://dpdk.org/patch/149638 _Testing issues_ Submitter: Tudor Cornea Date: Monday, January 06 2025 15:35:08 DPDK git baseline: Repo:dpdk Branch: master CommitID:94ad302b4ebba4a5b6706a1c43ea0505e5098169 149638 --> testing issues Test environment and result as below: +---------------------+--------------------+------------------+-------------------+-------------------------+-------------------+----------------------+ | Environment | dpdk_meson_compile | dpdk_compile_ovs | dpdk_compile_spdk | dpdk_llvm_clang_compile | dpdk_msvc_compile | dpdk_mingw64_compile | +=====================+====================+==================+===================+=========================+===================+======================+ | Debian Bullseye | PASS | PASS | PASS | SKIPPED | SKIPPED | SKIPPED | +---------------------+--------------------+------------------+-------------------+-------------------------+-------------------+----------------------+ | Debian 12 | PASS | PASS | PASS | SKIPPED | SKIPPED | SKIPPED | +---------------------+--------------------+------------------+-------------------+-------------------------+-------------------+----------------------+ | Fedora 40 (Clang) | PASS | PASS | PASS | SKIPPED | SKIPPED | SKIPPED | +---------------------+--------------------+------------------+-------------------+-------------------------+-------------------+----------------------+ | Fedora 40 | PASS | PASS | PASS | SKIPPED | SKIPPED | SKIPPED | +---------------------+--------------------+------------------+-------------------+-------------------------+-------------------+----------------------+ | Fedora 41 | PASS | PASS | PASS | SKIPPED | SKIPPED | SKIPPED | +---------------------+--------------------+------------------+-------------------+-------------------------+-------------------+----------------------+ | Fedora 41 (Clang) | PASS | PASS | PASS | SKIPPED | SKIPPED | SKIPPED | +---------------------+--------------------+------------------+-------------------+-------------------------+-------------------+----------------------+ | openSUSE Leap 15 | PASS | WARN | SKIPPED | SKIPPED | SKIPPED | SKIPPED | +---------------------+--------------------+------------------+-------------------+-------------------------+-------------------+----------------------+ | RHEL8 | PASS | PASS | SKIPPED | SKIPPED | SKIPPED | SKIPPED | +---------------------+--------------------+------------------+-------------------+-------------------------+-------------------+----------------------+ | RHEL9 | PASS | PASS | SKIPPED | SKIPPED | SKIPPED | SKIPPED | +---------------------+--------------------+------------------+-------------------+-------------------------+-------------------+----------------------+ | Ubuntu 20.04 | PASS | SKIPPED | SKIPPED | SKIPPED | SKIPPED | SKIPPED | +---------------------+--------------------+------------------+-------------------+-------------------------+-------------------+----------------------+ | Ubuntu 22.04 | PASS | PASS | PASS | SKIPPED | SKIPPED | SKIPPED | +---------------------+--------------------+------------------+-------------------+-------------------------+-------------------+----------------------+ | Ubuntu 24.04 | PASS | PASS | PASS | SKIPPED | SKIPPED | SKIPPED | +---------------------+--------------------+------------------+-------------------+-------------------------+-------------------+----------------------+ | Alpine | PASS | PASS | SKIPPED | SKIPPED | SKIPPED | SKIPPED | +---------------------+--------------------+------------------+-------------------+-------------------------+-------------------+----------------------+ | FreeBSD 13.4 | PASS | SKIPPED | SKIPPED | SKIPPED | SKIPPED | SKIPPED | +---------------------+--------------------+------------------+-------------------+-------------------------+-------------------+----------------------+ | FreeBSD 14.2 | PASS | SKIPPED | SKIPPED | SKIPPED | SKIPPED | SKIPPED | +---------------------+--------------------+------------------+-------------------+-------------------------+-------------------+----------------------+ | CentOS Stream 9 | PASS | PASS | PASS | SKIPPED | SKIPPED | SKIPPED | +---------------------+--------------------+------------------+-------------------+-------------------------+-------------------+----------------------+ | Windows Server 2022 | SKIPPED | SKIPPED | SKIPPED | PASS | PASS | PASS | +---------------------+--------------------+------------------+-------------------+-------------------------+-------------------+----------------------+ ==== 20 line log output for openSUSE Leap 15 (dpdk_compile_ovs): ==== --- Failed to get log output --- ==== End log output ==== Debian Bullseye Kernel: Depends on container host Compiler: gcc (Debian 10.2.1-6) 10.2.1 20210110 Debian 12 Kernel: Depends on container host Compiler: gcc (Debian 12.2.0-14) 12.2.0 Fedora 40 (Clang) Kernel: Depends on container host Compiler: clang 18.1.8 (Fedora 18.1.8-1.fc40) Fedora 40 Kernel: Depends on container host Compiler: gcc 14.2.1 20240912 (Red Hat 14.2.1-3) Fedora 41 Kernel: Depends on container host Compiler: gcc 14.2.1 20240912 (Red Hat 14.2.1-3) Fedora 41 (Clang) Kernel: Depends on container host Compiler: clang 19.1.5 (Fedora 19.1.5-1.fc41) openSUSE Leap 15 Kernel: Depends on container host Compiler: gcc (SUSE Linux) 7.5.0 RHEL8 Kernel: Depends on container host Compiler: gcc 8.5.0 20210514 (Red Hat 8.5.0-22) RHEL9 Kernel: Depends on container host Compiler: gcc 11.5.0 20240719 (Red Hat 11.5.0-2) Ubuntu 20.04 Kernel: Depends on container host Compiler: gcc (Ubuntu 9.4.0-1ubuntu1~20.04.2) 9.4.0 Ubuntu 22.04 Kernel: Depends on container host Compiler: gcc (Ubuntu 11.4.0-1ubuntu1~22.04) 11.4.0 Ubuntu 24.04 Kernel: Depends on container host Compiler: gcc (Ubuntu 13.3.0-6ubuntu2~24.04) 13.3.0 Alpine Kernel: Depends on container host Compiler: gcc (Alpine 14.2.0) 14.2.0 FreeBSD 13.4 Kernel: 13.4-RELEASE-p1 Compiler: clang 18.1.6 FreeBSD 14.2 Kernel: 14.2-RELEASE Compiler: clang 18.1.6 CentOS Stream 9 Kernel: Depends on container host Compiler: gcc 11.5.0 20240719 (Red Hat 11.5.0-2) Windows Server 2022 Kernel: 10.0.20348.2031 Compiler: clang 15.0.7, gcc 14.1.0 (MinGW), and MSVC VS 19.39.33521 To view detailed results, visit: https://lab.dpdk.org/results/dashboard/patchsets/32257/ UNH-IOL DPDK Community Lab To manage your email subscriptions, visit: https://lab.dpdk.org/results/dashboard/preferences/subscriptions/