From mboxrd@z Thu Jan 1 00:00:00 1970 Return-Path: Received: from mails.dpdk.org (mails.dpdk.org [217.70.189.124]) by inbox.dpdk.org (Postfix) with ESMTP id F2B7C461BF for ; Fri, 7 Feb 2025 20:06:12 +0100 (CET) Received: from mails.dpdk.org (localhost [127.0.0.1]) by mails.dpdk.org (Postfix) with ESMTP id EDB2E42ED5; Fri, 7 Feb 2025 20:06:12 +0100 (CET) Received: from mail-io1-f99.google.com (mail-io1-f99.google.com [209.85.166.99]) by mails.dpdk.org (Postfix) with ESMTP id 0B13E42E90 for ; Fri, 7 Feb 2025 20:06:09 +0100 (CET) Received: by mail-io1-f99.google.com with SMTP id ca18e2360f4ac-844e7409f8aso69189539f.1 for ; Fri, 07 Feb 2025 11:06:08 -0800 (PST) DKIM-Signature: v=1; a=rsa-sha256; c=relaxed/relaxed; d=iol.unh.edu; s=unh-iol; t=1738955168; x=1739559968; darn=dpdk.org; h=references:in-reply-to:cc:to:from:subject:message-id:date:from:to :cc:subject:date:message-id:reply-to; bh=VJyv5wRa6i2GICV5hKxaK57+IszOaT2TWTAphxyQyME=; b=L15LEzSIe1Gpn1LSMbDTulpZC1ZSXePxkJFg+603TVaEmQhlHJiWDRgVFId0jwaywT dWHHD70ZWNahqEUcrONzvcs4XL1fJ+cSDIMHYpz2mqGtpB1ltAEsejf87plWeeM2jVEL vnHDt8oiIs8M651oewS1J/rdxerzTbsTEcvvA= X-Google-DKIM-Signature: v=1; a=rsa-sha256; c=relaxed/relaxed; d=1e100.net; s=20230601; t=1738955168; x=1739559968; h=references:in-reply-to:cc:to:from:subject:message-id:date :x-gm-message-state:from:to:cc:subject:date:message-id:reply-to; bh=VJyv5wRa6i2GICV5hKxaK57+IszOaT2TWTAphxyQyME=; b=ov9yiJiiYFZ1kc1aLB2ni2ztQWIA1Q1AFlpIH9akR2gQHOHi02oqEF4HthzjNKZYQv Xz6FRGZggHsVPEFPvr4cJYtH5i/ulcOkkUSlxI/APdYR+Rdt8YBIJdzl4R6rPrvHCv2K VGlsCazep+E+pwvm5HEcYS3bIE8+cSo9nop+t3DI3yisJE174EWfJliNwsCvWXUsWvlb 4urPlwk2iYUhJQDTUQHvOQu7jfeaulY+/nnfpN5mfomhdcaEijevd4qc/7daHVti2G73 PFY60ckQOr2L5jjcc6tUashMECkhkDRf776qPUvW/dSs7rEZ1gf0XRPtF7KsyaR4XiJ1 JsbQ== X-Gm-Message-State: AOJu0YwY2Xf8KvSK3i6giX5Am0VKdbu4g1Ny6ktgo1NIPvrGS2KXdfs7 jVkO9U6/qnANmzY1uNoAQsUCtOW+8kcNmTScGhJjsfgWQRGDtKuC7KtM3vbN8Nl9DUG6VAH2ILA BPSolKUAQKi7iqfz+3A9LA4lihMwPuraVS4VUdi0C X-Gm-Gg: ASbGncvV52Sop9P6ltNjggdIgSZCbOda15lqMBOfxZ+FLxcdsMGRx3SMnagvL2vq65g r6pJ9/54nmY07ckcHeDSzJ1NZb4kw5aQSTRwOSnon0xjn1+gSSpbcletO2AfS8PQLI9E8KHoovU zYIoidB5DFmgH9YeDHwnLkbMBSEdqvvCo5l/K9w8lX5pn27WElfvkzOHDoTcsI7IO74DwugXtVa MerVwyVusCG7CdTDyX5rPBvDuq2pU9aiYm6QfWxZsw6fgQkCgnQbZo90mkA4NnRQoQO4vdfukFT eL5gU7CQeybjmhW1s4UCR4m0FR7xMg== X-Google-Smtp-Source: AGHT+IH0uqKf5WA732dmxfutmSuNTKleNRVnD+ILpQOZ5xleM/yqKa/4TtQM/QXiXIT0nCNSemIBOEMV1Y74 X-Received: by 2002:a05:6602:6a47:b0:84a:51e2:6599 with SMTP id ca18e2360f4ac-854fd887242mr488198339f.1.1738955167566; Fri, 07 Feb 2025 11:06:07 -0800 (PST) Received: from postal.iol.unh.edu (postal.iol.unh.edu. [132.177.123.84]) by smtp-relay.gmail.com with ESMTPS id ca18e2360f4ac-854f674035asm24041639f.21.2025.02.07.11.06.07 (version=TLS1_2 cipher=ECDHE-ECDSA-AES128-GCM-SHA256 bits=128/128); Fri, 07 Feb 2025 11:06:07 -0800 (PST) X-Relaying-Domain: iol.unh.edu Date: Fri, 07 Feb 2025 11:06:07 -0800 (PST) Message-ID: <67a6599f.050a0220.1e15f7.c774SMTPIN_ADDED_MISSING@mx.google.com> Received: from [172.21.0.10] (unknown [172.18.0.240]) by postal.iol.unh.edu (Postfix) with ESMTP id 113446052471; Fri, 7 Feb 2025 14:05:37 -0500 (EST) Subject: |WARNING| pw149640-149639 [PATCH] [2/2] app/test: enable ipsec-relat From: dpdklab@iol.unh.edu To: Test Report Cc: dpdk-test-reports@iol.unh.edu In-Reply-To: <1736181948-8907-3-git-send-email-andremue@linux.microsoft.com> References: <1736181948-8907-3-git-send-email-andremue@linux.microsoft.com> Content-Type: text/plain X-BeenThere: test-report@dpdk.org X-Mailman-Version: 2.1.29 Precedence: list List-Id: automatic DPDK test reports List-Unsubscribe: , List-Archive: List-Post: List-Help: List-Subscribe: , Errors-To: test-report-bounces@dpdk.org Test-Label: iol-compile-amd64-testing Test-Status: WARNING http://dpdk.org/patch/149639 _Testing issues_ Submitter: Andre Muezerie Date: Monday, January 06 2025 16:45:48 DPDK git baseline: Repo:dpdk Branch: master CommitID:7df61db6c387703a36306c1aea92225921e2eeb2 149640-149639 --> testing issues Test environment and result as below: +---------------------+--------------------+------------------+-------------------+-------------------------+-------------------+----------------------+ | Environment | dpdk_meson_compile | dpdk_compile_ovs | dpdk_compile_spdk | dpdk_llvm_clang_compile | dpdk_msvc_compile | dpdk_mingw64_compile | +=====================+====================+==================+===================+=========================+===================+======================+ | CentOS Stream 9 | PASS | PASS | PASS | SKIPPED | SKIPPED | SKIPPED | +---------------------+--------------------+------------------+-------------------+-------------------------+-------------------+----------------------+ | Debian 12 | PASS | PASS | PASS | SKIPPED | SKIPPED | SKIPPED | +---------------------+--------------------+------------------+-------------------+-------------------------+-------------------+----------------------+ | Debian Bullseye | PASS | PASS | PASS | SKIPPED | SKIPPED | SKIPPED | +---------------------+--------------------+------------------+-------------------+-------------------------+-------------------+----------------------+ | Fedora 40 | PASS | PASS | PASS | SKIPPED | SKIPPED | SKIPPED | +---------------------+--------------------+------------------+-------------------+-------------------------+-------------------+----------------------+ | Fedora 40 (Clang) | PASS | PASS | PASS | SKIPPED | SKIPPED | SKIPPED | +---------------------+--------------------+------------------+-------------------+-------------------------+-------------------+----------------------+ | Fedora 41 (Clang) | PASS | PASS | PASS | SKIPPED | SKIPPED | SKIPPED | +---------------------+--------------------+------------------+-------------------+-------------------------+-------------------+----------------------+ | RHEL9 | PASS | PASS | SKIPPED | SKIPPED | SKIPPED | SKIPPED | +---------------------+--------------------+------------------+-------------------+-------------------------+-------------------+----------------------+ | Fedora 41 | PASS | PASS | PASS | SKIPPED | SKIPPED | SKIPPED | +---------------------+--------------------+------------------+-------------------+-------------------------+-------------------+----------------------+ | openSUSE Leap 15 | PASS | WARN | SKIPPED | SKIPPED | SKIPPED | SKIPPED | +---------------------+--------------------+------------------+-------------------+-------------------------+-------------------+----------------------+ | RHEL8 | PASS | PASS | SKIPPED | SKIPPED | SKIPPED | SKIPPED | +---------------------+--------------------+------------------+-------------------+-------------------------+-------------------+----------------------+ | Ubuntu 20.04 | PASS | SKIPPED | SKIPPED | SKIPPED | SKIPPED | SKIPPED | +---------------------+--------------------+------------------+-------------------+-------------------------+-------------------+----------------------+ | Ubuntu 22.04 | PASS | PASS | PASS | SKIPPED | SKIPPED | SKIPPED | +---------------------+--------------------+------------------+-------------------+-------------------------+-------------------+----------------------+ | Ubuntu 24.04 | PASS | PASS | PASS | SKIPPED | SKIPPED | SKIPPED | +---------------------+--------------------+------------------+-------------------+-------------------------+-------------------+----------------------+ | Alpine | PASS | PASS | SKIPPED | SKIPPED | SKIPPED | SKIPPED | +---------------------+--------------------+------------------+-------------------+-------------------------+-------------------+----------------------+ | FreeBSD 13.4 | PASS | SKIPPED | SKIPPED | SKIPPED | SKIPPED | SKIPPED | +---------------------+--------------------+------------------+-------------------+-------------------------+-------------------+----------------------+ | FreeBSD 14.2 | PASS | SKIPPED | SKIPPED | SKIPPED | SKIPPED | SKIPPED | +---------------------+--------------------+------------------+-------------------+-------------------------+-------------------+----------------------+ | Windows Server 2022 | SKIPPED | SKIPPED | SKIPPED | PASS | PASS | PASS | +---------------------+--------------------+------------------+-------------------+-------------------------+-------------------+----------------------+ ==== 20 line log output for openSUSE Leap 15 (dpdk_compile_ovs): ==== --- Failed to get log output --- ==== End log output ==== CentOS Stream 9 Kernel: Depends on container host Compiler: gcc 11.5.0 20240719 (Red Hat 11.5.0-2) Debian 12 Kernel: Depends on container host Compiler: gcc (Debian 12.2.0-14) 12.2.0 Debian Bullseye Kernel: Depends on container host Compiler: gcc (Debian 10.2.1-6) 10.2.1 20210110 Fedora 40 Kernel: Depends on container host Compiler: gcc 14.2.1 20240912 (Red Hat 14.2.1-3) Fedora 40 (Clang) Kernel: Depends on container host Compiler: clang 18.1.8 (Fedora 18.1.8-1.fc40) Fedora 41 (Clang) Kernel: Depends on container host Compiler: clang 19.1.5 (Fedora 19.1.5-1.fc41) RHEL9 Kernel: Depends on container host Compiler: gcc 11.5.0 20240719 (Red Hat 11.5.0-2) Fedora 41 Kernel: Depends on container host Compiler: gcc 14.2.1 20240912 (Red Hat 14.2.1-3) openSUSE Leap 15 Kernel: Depends on container host Compiler: gcc (SUSE Linux) 7.5.0 RHEL8 Kernel: Depends on container host Compiler: gcc 8.5.0 20210514 (Red Hat 8.5.0-22) Ubuntu 20.04 Kernel: Depends on container host Compiler: gcc (Ubuntu 9.4.0-1ubuntu1~20.04.2) 9.4.0 Ubuntu 22.04 Kernel: Depends on container host Compiler: gcc (Ubuntu 11.4.0-1ubuntu1~22.04) 11.4.0 Ubuntu 24.04 Kernel: Depends on container host Compiler: gcc (Ubuntu 13.3.0-6ubuntu2~24.04) 13.3.0 Alpine Kernel: Depends on container host Compiler: gcc (Alpine 14.2.0) 14.2.0 FreeBSD 13.4 Kernel: 13.4-RELEASE-p1 Compiler: clang 18.1.6 FreeBSD 14.2 Kernel: 14.2-RELEASE Compiler: clang 18.1.6 Windows Server 2022 Kernel: 10.0.20348.2031 Compiler: clang 15.0.7, gcc 14.1.0 (MinGW), and MSVC VS 19.39.33521 To view detailed results, visit: https://lab.dpdk.org/results/dashboard/patchsets/32258/ UNH-IOL DPDK Community Lab To manage your email subscriptions, visit: https://lab.dpdk.org/results/dashboard/preferences/subscriptions/