From mboxrd@z Thu Jan 1 00:00:00 1970 Return-Path: Received: from mails.dpdk.org (mails.dpdk.org [217.70.189.124]) by inbox.dpdk.org (Postfix) with ESMTP id 0C20A461BF for ; Fri, 7 Feb 2025 20:06:20 +0100 (CET) Received: from mails.dpdk.org (localhost [127.0.0.1]) by mails.dpdk.org (Postfix) with ESMTP id 0954842ED5; Fri, 7 Feb 2025 20:06:20 +0100 (CET) Received: from mail-qv1-f98.google.com (mail-qv1-f98.google.com [209.85.219.98]) by mails.dpdk.org (Postfix) with ESMTP id 0E87B42E90 for ; Fri, 7 Feb 2025 20:06:19 +0100 (CET) Received: by mail-qv1-f98.google.com with SMTP id 6a1803df08f44-6e429a885f6so37962586d6.0 for ; Fri, 07 Feb 2025 11:06:19 -0800 (PST) DKIM-Signature: v=1; a=rsa-sha256; c=relaxed/relaxed; d=iol.unh.edu; s=unh-iol; t=1738955178; x=1739559978; darn=dpdk.org; h=references:in-reply-to:cc:to:from:subject:message-id:date:from:to :cc:subject:date:message-id:reply-to; bh=ffFdu4UOYzP0DuLIuC2ZVxKoEUBnsJkTzh8msL6l9h8=; b=FIdAP71BPamxjMOwoScy1ainObAFiwKVOGUKmCtJgmWxXQfktXgxdP2DlAucNSHo7S JX7bpp0XjI+UoiTcwQ+d2jAd4pqLVzwftzF4tc2C55VeoZgOmT8jjHtmgBjbbahkM4j0 ldwKlEYjSYFHchjUmZPStnyibalSh5sGJZPA4= X-Google-DKIM-Signature: v=1; a=rsa-sha256; c=relaxed/relaxed; d=1e100.net; s=20230601; t=1738955178; x=1739559978; h=references:in-reply-to:cc:to:from:subject:message-id:date :x-gm-message-state:from:to:cc:subject:date:message-id:reply-to; bh=ffFdu4UOYzP0DuLIuC2ZVxKoEUBnsJkTzh8msL6l9h8=; b=m1GFoGfc0BjPcBMx6aQrz/L2DoTCBn3NDGK/nvapoiu3P17TrQTDoiQXFbDsxq6JAa YBAqdjP5gZD/t+Y70jB5qpKSY8Rcqv7GPIVv/79e/ouxY3YYPBv+Zv6gs1M+hsmGkBng 3B2ZwpU2A+3skc2LMZ5ubhWgZFWsue746us7hK9yIR/lnltP/H6StFiEx0eaKCUsfXOx D2kwcVFZnBnWSREU/p1hzJXu37b/3MS8XVz2ABLIzgLybTKSv3IkVZLBqwCAmDgg+sWL jTlKcf41IMmg0IpL6mzCtuht0lM54C6qfep1/Dx4es5c4sTWGmqIAsAai39dFxeWSWtZ 8fSw== X-Gm-Message-State: AOJu0YzFsyN98AFSXYeIZpL6Sh1b5kUQt9uR6T2XMj/CrGOlIj0Cz9eG u3O8AGJvZ/M1gP9JIDtlSFGuxtaeiGFASfPazgEc4lYFw7nNrId+CaNExNGUWUTCMXDFRAhh7Gq 3Dhq28R2WaIOhNQDlbTq5FK3o85vOzvyCETt7sZMy X-Gm-Gg: ASbGncvKj/KAZ8ro3A8EbQ0cxR+V2nKZI+0dDsLWk5yT1PJdwxlOMBzWQC3Fu/sNk5s QIvxU/f0PfvrTkXE+MPWfEeZClKoupQvBb1mqkJXcxQt5xX/dJZZss0vr81kPnNvk2iHaqtlCVn c6J8F7y4Mpq2INH1HBozxldj8e6OHTRoTyYAMD3RCMcI/99PTkNCOOqEirgfdqBGF3rbY08zspg 87VQyEEHToAwym2CGRmC9/OL2BbmqlpnUE0ynBwMII/KF3UQ4ygtdeTQ2hAaAhMy30r/QCOVW+Y YnBqFXDqK9zkz8KX+nh7JHkFWOrHng== X-Google-Smtp-Source: AGHT+IGWHEuWC716pgt290/KhhN8v5keryQL6TyRDkykW11J+NliDliPRXyMfuu84VmWHc9x3AbuHbazjIsf X-Received: by 2002:a05:6214:194b:b0:6e4:2e88:c0e3 with SMTP id 6a1803df08f44-6e4455f6688mr73020346d6.13.1738955177046; Fri, 07 Feb 2025 11:06:17 -0800 (PST) Received: from postal.iol.unh.edu (postal.iol.unh.edu. [132.177.123.84]) by smtp-relay.gmail.com with ESMTPS id 6a1803df08f44-6e43ba61815sm2447216d6.40.2025.02.07.11.06.16 (version=TLS1_2 cipher=ECDHE-ECDSA-AES128-GCM-SHA256 bits=128/128); Fri, 07 Feb 2025 11:06:17 -0800 (PST) X-Relaying-Domain: iol.unh.edu Date: Fri, 07 Feb 2025 11:06:17 -0800 (PST) Message-ID: <67a659a9.d40a0220.efdee.cfd1SMTPIN_ADDED_MISSING@mx.google.com> Received: from [172.21.0.16] (unknown [172.18.0.240]) by postal.iol.unh.edu (Postfix) with ESMTP id B578E6052472; Fri, 7 Feb 2025 14:05:46 -0500 (EST) Subject: |WARNING| pw149613-149630 [PATCH] [v13,21/21] hash: remove use of VL From: dpdklab@iol.unh.edu To: Test Report Cc: dpdk-test-reports@iol.unh.edu In-Reply-To: <1736045218-15957-22-git-send-email-andremue@linux.microsoft.com> References: <1736045218-15957-22-git-send-email-andremue@linux.microsoft.com> Content-Type: text/plain X-BeenThere: test-report@dpdk.org X-Mailman-Version: 2.1.29 Precedence: list List-Id: automatic DPDK test reports List-Unsubscribe: , List-Archive: List-Post: List-Help: List-Subscribe: , Errors-To: test-report-bounces@dpdk.org Test-Label: iol-compile-amd64-testing Test-Status: WARNING http://dpdk.org/patch/149630 _Testing issues_ Submitter: Andre Muezerie Date: Sunday, January 05 2025 02:46:58 DPDK git baseline: Repo:dpdk Branch: master CommitID:fd51012de5369679e807be1d6a81d63ef15015ce 149613-149630 --> testing issues Test environment and result as below: +---------------------+--------------------+------------------+-------------------+-------------------------+-------------------+----------------------+ | Environment | dpdk_meson_compile | dpdk_compile_ovs | dpdk_compile_spdk | dpdk_llvm_clang_compile | dpdk_msvc_compile | dpdk_mingw64_compile | +=====================+====================+==================+===================+=========================+===================+======================+ | Debian Bullseye | PASS | PASS | PASS | SKIPPED | SKIPPED | SKIPPED | +---------------------+--------------------+------------------+-------------------+-------------------------+-------------------+----------------------+ | CentOS Stream 9 | PASS | PASS | PASS | SKIPPED | SKIPPED | SKIPPED | +---------------------+--------------------+------------------+-------------------+-------------------------+-------------------+----------------------+ | Debian 12 | PASS | PASS | PASS | SKIPPED | SKIPPED | SKIPPED | +---------------------+--------------------+------------------+-------------------+-------------------------+-------------------+----------------------+ | Fedora 40 | PASS | PASS | PASS | SKIPPED | SKIPPED | SKIPPED | +---------------------+--------------------+------------------+-------------------+-------------------------+-------------------+----------------------+ | openSUSE Leap 15 | PASS | WARN | SKIPPED | SKIPPED | SKIPPED | SKIPPED | +---------------------+--------------------+------------------+-------------------+-------------------------+-------------------+----------------------+ | Fedora 41 | PASS | PASS | PASS | SKIPPED | SKIPPED | SKIPPED | +---------------------+--------------------+------------------+-------------------+-------------------------+-------------------+----------------------+ | Fedora 41 (Clang) | PASS | PASS | PASS | SKIPPED | SKIPPED | SKIPPED | +---------------------+--------------------+------------------+-------------------+-------------------------+-------------------+----------------------+ | RHEL9 | PASS | PASS | SKIPPED | SKIPPED | SKIPPED | SKIPPED | +---------------------+--------------------+------------------+-------------------+-------------------------+-------------------+----------------------+ | Ubuntu 20.04 | PASS | SKIPPED | SKIPPED | SKIPPED | SKIPPED | SKIPPED | +---------------------+--------------------+------------------+-------------------+-------------------------+-------------------+----------------------+ | Ubuntu 22.04 | PASS | PASS | PASS | SKIPPED | SKIPPED | SKIPPED | +---------------------+--------------------+------------------+-------------------+-------------------------+-------------------+----------------------+ | Ubuntu 24.04 | PASS | PASS | PASS | SKIPPED | SKIPPED | SKIPPED | +---------------------+--------------------+------------------+-------------------+-------------------------+-------------------+----------------------+ | Alpine | PASS | PASS | SKIPPED | SKIPPED | SKIPPED | SKIPPED | +---------------------+--------------------+------------------+-------------------+-------------------------+-------------------+----------------------+ | FreeBSD 13.4 | PASS | SKIPPED | SKIPPED | SKIPPED | SKIPPED | SKIPPED | +---------------------+--------------------+------------------+-------------------+-------------------------+-------------------+----------------------+ | FreeBSD 14.2 | PASS | SKIPPED | SKIPPED | SKIPPED | SKIPPED | SKIPPED | +---------------------+--------------------+------------------+-------------------+-------------------------+-------------------+----------------------+ | RHEL8 | PASS | PASS | SKIPPED | SKIPPED | SKIPPED | SKIPPED | +---------------------+--------------------+------------------+-------------------+-------------------------+-------------------+----------------------+ | Fedora 40 (Clang) | PASS | PASS | PASS | SKIPPED | SKIPPED | SKIPPED | +---------------------+--------------------+------------------+-------------------+-------------------------+-------------------+----------------------+ | Windows Server 2022 | SKIPPED | SKIPPED | SKIPPED | PASS | PASS | PASS | +---------------------+--------------------+------------------+-------------------+-------------------------+-------------------+----------------------+ ==== 20 line log output for openSUSE Leap 15 (dpdk_compile_ovs): ==== --- Failed to get log output --- ==== End log output ==== Debian Bullseye Kernel: Depends on container host Compiler: gcc (Debian 10.2.1-6) 10.2.1 20210110 CentOS Stream 9 Kernel: Depends on container host Compiler: gcc 11.5.0 20240719 (Red Hat 11.5.0-2) Debian 12 Kernel: Depends on container host Compiler: gcc (Debian 12.2.0-14) 12.2.0 Fedora 40 Kernel: Depends on container host Compiler: gcc 14.2.1 20240912 (Red Hat 14.2.1-3) openSUSE Leap 15 Kernel: Depends on container host Compiler: gcc (SUSE Linux) 7.5.0 Fedora 41 Kernel: Depends on container host Compiler: gcc 14.2.1 20240912 (Red Hat 14.2.1-3) Fedora 41 (Clang) Kernel: Depends on container host Compiler: clang 19.1.5 (Fedora 19.1.5-1.fc41) RHEL9 Kernel: Depends on container host Compiler: gcc 11.5.0 20240719 (Red Hat 11.5.0-2) Ubuntu 20.04 Kernel: Depends on container host Compiler: gcc (Ubuntu 9.4.0-1ubuntu1~20.04.2) 9.4.0 Ubuntu 22.04 Kernel: Depends on container host Compiler: gcc (Ubuntu 11.4.0-1ubuntu1~22.04) 11.4.0 Ubuntu 24.04 Kernel: Depends on container host Compiler: gcc (Ubuntu 13.3.0-6ubuntu2~24.04) 13.3.0 Alpine Kernel: Depends on container host Compiler: gcc (Alpine 14.2.0) 14.2.0 FreeBSD 13.4 Kernel: 13.4-RELEASE-p1 Compiler: clang 18.1.6 FreeBSD 14.2 Kernel: 14.2-RELEASE Compiler: clang 18.1.6 RHEL8 Kernel: Depends on container host Compiler: gcc 8.5.0 20210514 (Red Hat 8.5.0-22) Fedora 40 (Clang) Kernel: Depends on container host Compiler: clang 18.1.8 (Fedora 18.1.8-1.fc40) Windows Server 2022 Kernel: 10.0.20348.2031 Compiler: clang 15.0.7, gcc 14.1.0 (MinGW), and MSVC VS 19.39.33521 To view detailed results, visit: https://lab.dpdk.org/results/dashboard/patchsets/32252/ UNH-IOL DPDK Community Lab To manage your email subscriptions, visit: https://lab.dpdk.org/results/dashboard/preferences/subscriptions/