From mboxrd@z Thu Jan 1 00:00:00 1970 Return-Path: Received: from mails.dpdk.org (mails.dpdk.org [217.70.189.124]) by inbox.dpdk.org (Postfix) with ESMTP id D5D0D461BF for ; Fri, 7 Feb 2025 20:06:47 +0100 (CET) Received: from mails.dpdk.org (localhost [127.0.0.1]) by mails.dpdk.org (Postfix) with ESMTP id D2D1242EF2; Fri, 7 Feb 2025 20:06:47 +0100 (CET) Received: from mail-oo1-f97.google.com (mail-oo1-f97.google.com [209.85.161.97]) by mails.dpdk.org (Postfix) with ESMTP id 1292E42ED5 for ; Fri, 7 Feb 2025 20:06:47 +0100 (CET) Received: by mail-oo1-f97.google.com with SMTP id 006d021491bc7-5f2d7868ef0so719315eaf.3 for ; Fri, 07 Feb 2025 11:06:47 -0800 (PST) DKIM-Signature: v=1; a=rsa-sha256; c=relaxed/relaxed; d=iol.unh.edu; s=unh-iol; t=1738955206; x=1739560006; darn=dpdk.org; h=cc:to:from:subject:message-id:date:from:to:cc:subject:date :message-id:reply-to; bh=36NleLkLpNQDRBJKHS/J8OMi0GnZCOG7mwuw/Uv2Ur4=; b=OIdBCfA+8dQq6qfK4v3fazZpsQGkYRxm7dDttlxP8+QFuSlwO5Z31RgB0t9Mkza0wR No/jVCmrcbdsdyax0sLm8NrVWcJBSOR5pvNKr015MYspxmFl4U6qDY85voIucoMaGiV6 J9PCbbkSedbzIHrNtDsqhGAW4hQnmXuJjgU1A= X-Google-DKIM-Signature: v=1; a=rsa-sha256; c=relaxed/relaxed; d=1e100.net; s=20230601; t=1738955206; x=1739560006; h=cc:to:from:subject:message-id:date:x-gm-message-state:from:to:cc :subject:date:message-id:reply-to; bh=36NleLkLpNQDRBJKHS/J8OMi0GnZCOG7mwuw/Uv2Ur4=; b=k924w674SebBvTyJeLswdWwlTuony4t+6Ynkkzgb4HfCzKoPy7MbSX36lPl9QAPhH9 RfWQYBQcpI85D9gY7rgbP0m0jlXt/yH54YnE5JaQdMbcB0YSDXB2qOPTqhp/xk+Tr+ns kZ0YF5hedPQN/z/7PMTihHFJjSD21awrm8iTYRQnfYBRIuK84ShDbwgxymfDPnyguex6 TbHoBAh6UUMeLsMTCk0p/AFrjtOS3RYIfPo7SJa898/FxCLSE3EbkIl0zHBeQZcRRDLR l+jHUcXEEh3lbF3ah13dEfNENyDg/k64RcPKmrnIBZ6/hxt/GsZJS6Tfz/WtdDxcRm+C zFBw== X-Gm-Message-State: AOJu0YzbbI3CNFhjmTLTkZfa3V/rt3hVyKUtInD4MdC9bVK53nCTUsuc LxwMFZjaig3HOm4nvLLUu6ljjsJn+N+WhxtHmjNWX9iMLtkviG/CRTxlVOMBaeRC7+3xQiLsdyN 4XeAmuZyfllnQnHFwEM2eoH9vGupxbCdQTM+tZKwz X-Gm-Gg: ASbGncvTscV0c1rwTTFcQA6zaX5LzAA7CPq0iQlyu/5K/djw/iyLaOhwpCh1tk4RO9G EEQ9J849TKiYKbSUqoNvpjTHT1b7fwsdRid4OIGb5VdSKE+fgaKU8i1stKoXIliapcuYHFpgvp4 gkhT2MlDbr//6U3r2NdChIOWidat+PI84Cpz6nq2nOdZMIiA8qAhe2fW1U7Usps8eKKeSnErLDG sfFv4gFUqKuzucFr9wLH569kybx9zVzifDhSS/wIZ+/yA3VDUlQhq3ScJlbJF+K/3P/r2QoPp/R yaOZiK8Gff+iK5YRCXz/tCkW32zLpg== X-Google-Smtp-Source: AGHT+IGT5is1bbr6+i5Isv9zdck4WUd/xDRncnoWD1Sc+lHy9fjARVe8yncIAEm+fJOY90xYjR+YBvlUoAzG X-Received: by 2002:a05:6820:1390:b0:5fa:671e:afb3 with SMTP id 006d021491bc7-5fc5e679a08mr2913141eaf.1.1738955206344; Fri, 07 Feb 2025 11:06:46 -0800 (PST) Received: from postal.iol.unh.edu (postal.iol.unh.edu. [132.177.123.84]) by smtp-relay.gmail.com with ESMTPS id 006d021491bc7-5fc544e98a6sm131071eaf.12.2025.02.07.11.06.46 (version=TLS1_2 cipher=ECDHE-ECDSA-AES128-GCM-SHA256 bits=128/128); Fri, 07 Feb 2025 11:06:46 -0800 (PST) X-Relaying-Domain: iol.unh.edu Date: Fri, 07 Feb 2025 11:06:46 -0800 (PST) Message-ID: <67a659c6.4a0a0220.79316.6b54SMTPIN_ADDED_MISSING@mx.google.com> Received: from [172.21.0.5] (unknown [172.18.0.240]) by postal.iol.unh.edu (Postfix) with ESMTP id C90F46052471; Fri, 7 Feb 2025 14:06:15 -0500 (EST) Subject: |WARNING| [GIT MASTER] fd51012de5369679e807be1d6a81d63ef15015ce From: dpdklab@iol.unh.edu To: Test Report Cc: dpdk-test-reports@iol.unh.edu Content-Type: text/plain X-BeenThere: test-report@dpdk.org X-Mailman-Version: 2.1.29 Precedence: list List-Id: automatic DPDK test reports List-Unsubscribe: , List-Archive: List-Post: List-Help: List-Subscribe: , Errors-To: test-report-bounces@dpdk.org _Testing issues_ Branch: dpdk fd51012de5369679e807be1d6a81d63ef15015ce --> testing issues Test environment and result as below: +---------------------+--------------------+------------------+-------------------+-------------------------+-------------------+----------------------+ | Environment | dpdk_meson_compile | dpdk_compile_ovs | dpdk_compile_spdk | dpdk_llvm_clang_compile | dpdk_msvc_compile | dpdk_mingw64_compile | +=====================+====================+==================+===================+=========================+===================+======================+ | CentOS Stream 9 | PASS | PASS | PASS | SKIPPED | SKIPPED | SKIPPED | +---------------------+--------------------+------------------+-------------------+-------------------------+-------------------+----------------------+ | Debian 12 | PASS | PASS | PASS | SKIPPED | SKIPPED | SKIPPED | +---------------------+--------------------+------------------+-------------------+-------------------------+-------------------+----------------------+ | Debian Bullseye | PASS | PASS | PASS | SKIPPED | SKIPPED | SKIPPED | +---------------------+--------------------+------------------+-------------------+-------------------------+-------------------+----------------------+ | Fedora 41 (Clang) | PASS | PASS | PASS | SKIPPED | SKIPPED | SKIPPED | +---------------------+--------------------+------------------+-------------------+-------------------------+-------------------+----------------------+ | Fedora 40 (Clang) | PASS | PASS | PASS | SKIPPED | SKIPPED | SKIPPED | +---------------------+--------------------+------------------+-------------------+-------------------------+-------------------+----------------------+ | Fedora 41 | PASS | PASS | PASS | SKIPPED | SKIPPED | SKIPPED | +---------------------+--------------------+------------------+-------------------+-------------------------+-------------------+----------------------+ | RHEL8 | PASS | PASS | SKIPPED | SKIPPED | SKIPPED | SKIPPED | +---------------------+--------------------+------------------+-------------------+-------------------------+-------------------+----------------------+ | openSUSE Leap 15 | PASS | WARN | SKIPPED | SKIPPED | SKIPPED | SKIPPED | +---------------------+--------------------+------------------+-------------------+-------------------------+-------------------+----------------------+ | RHEL9 | PASS | PASS | SKIPPED | SKIPPED | SKIPPED | SKIPPED | +---------------------+--------------------+------------------+-------------------+-------------------------+-------------------+----------------------+ | Ubuntu 20.04 | PASS | SKIPPED | SKIPPED | SKIPPED | SKIPPED | SKIPPED | +---------------------+--------------------+------------------+-------------------+-------------------------+-------------------+----------------------+ | Ubuntu 22.04 | PASS | PASS | PASS | SKIPPED | SKIPPED | SKIPPED | +---------------------+--------------------+------------------+-------------------+-------------------------+-------------------+----------------------+ | Ubuntu 24.04 | PASS | PASS | PASS | SKIPPED | SKIPPED | SKIPPED | +---------------------+--------------------+------------------+-------------------+-------------------------+-------------------+----------------------+ | Alpine | PASS | PASS | SKIPPED | SKIPPED | SKIPPED | SKIPPED | +---------------------+--------------------+------------------+-------------------+-------------------------+-------------------+----------------------+ | Arch Linux | PASS | PASS | SKIPPED | SKIPPED | SKIPPED | SKIPPED | +---------------------+--------------------+------------------+-------------------+-------------------------+-------------------+----------------------+ | FreeBSD 13.4 | PASS | SKIPPED | SKIPPED | SKIPPED | SKIPPED | SKIPPED | +---------------------+--------------------+------------------+-------------------+-------------------------+-------------------+----------------------+ | FreeBSD 14.2 | PASS | SKIPPED | SKIPPED | SKIPPED | SKIPPED | SKIPPED | +---------------------+--------------------+------------------+-------------------+-------------------------+-------------------+----------------------+ | Fedora 40 | PASS | PASS | PASS | SKIPPED | SKIPPED | SKIPPED | +---------------------+--------------------+------------------+-------------------+-------------------------+-------------------+----------------------+ | Windows Server 2022 | SKIPPED | SKIPPED | SKIPPED | PASS | PASS | PASS | +---------------------+--------------------+------------------+-------------------+-------------------------+-------------------+----------------------+ ==== 20 line log output for openSUSE Leap 15 (dpdk_compile_ovs): ==== --- Failed to get log output --- ==== End log output ==== CentOS Stream 9 Kernel: Depends on container host Compiler: gcc 11.5.0 20240719 (Red Hat 11.5.0-2) Debian 12 Kernel: Depends on container host Compiler: gcc (Debian 12.2.0-14) 12.2.0 Debian Bullseye Kernel: Depends on container host Compiler: gcc (Debian 10.2.1-6) 10.2.1 20210110 Fedora 41 (Clang) Kernel: Depends on container host Compiler: clang 19.1.5 (Fedora 19.1.5-1.fc41) Fedora 40 (Clang) Kernel: Depends on container host Compiler: clang 18.1.8 (Fedora 18.1.8-1.fc40) Fedora 41 Kernel: Depends on container host Compiler: gcc 14.2.1 20240912 (Red Hat 14.2.1-3) RHEL8 Kernel: Depends on container host Compiler: gcc 8.5.0 20210514 (Red Hat 8.5.0-22) openSUSE Leap 15 Kernel: Depends on container host Compiler: gcc (SUSE Linux) 7.5.0 RHEL9 Kernel: Depends on container host Compiler: gcc 11.5.0 20240719 (Red Hat 11.5.0-2) Ubuntu 20.04 Kernel: Depends on container host Compiler: gcc (Ubuntu 9.4.0-1ubuntu1~20.04.2) 9.4.0 Ubuntu 22.04 Kernel: Depends on container host Compiler: gcc (Ubuntu 11.4.0-1ubuntu1~22.04) 11.4.0 Ubuntu 24.04 Kernel: Depends on container host Compiler: gcc (Ubuntu 13.3.0-6ubuntu2~24.04) 13.3.0 Alpine Kernel: Depends on container host Compiler: gcc (Alpine 14.2.0) 14.2.0 Arch Linux Kernel: Depends on container host Compiler: gcc 14.2.1 20240910 FreeBSD 13.4 Kernel: 13.4-RELEASE-p1 Compiler: clang 18.1.6 FreeBSD 14.2 Kernel: 14.2-RELEASE Compiler: clang 18.1.6 Fedora 40 Kernel: Depends on container host Compiler: gcc 14.2.1 20240912 (Red Hat 14.2.1-3) Windows Server 2022 Kernel: 10.0.20348.2031 Compiler: clang 15.0.7, gcc 14.1.0 (MinGW), and MSVC VS 19.39.33521 To view detailed results, visit: https://lab.dpdk.org/results/dashboard/tarballs/32105/ UNH-IOL DPDK Community Lab To manage your email subscriptions, visit: https://lab.dpdk.org/results/dashboard/preferences/subscriptions/