From mboxrd@z Thu Jan 1 00:00:00 1970 Return-Path: Received: from mails.dpdk.org (mails.dpdk.org [217.70.189.124]) by inbox.dpdk.org (Postfix) with ESMTP id 1310C461BF for ; Fri, 7 Feb 2025 20:07:51 +0100 (CET) Received: from mails.dpdk.org (localhost [127.0.0.1]) by mails.dpdk.org (Postfix) with ESMTP id 0C9C442EF1; Fri, 7 Feb 2025 20:07:51 +0100 (CET) Received: from mail-pl1-f227.google.com (mail-pl1-f227.google.com [209.85.214.227]) by mails.dpdk.org (Postfix) with ESMTP id DDA8242E90 for ; Fri, 7 Feb 2025 20:07:49 +0100 (CET) Received: by mail-pl1-f227.google.com with SMTP id d9443c01a7336-21f53ad05a0so17092025ad.3 for ; Fri, 07 Feb 2025 11:07:49 -0800 (PST) DKIM-Signature: v=1; a=rsa-sha256; c=relaxed/relaxed; d=iol.unh.edu; s=unh-iol; t=1738955269; x=1739560069; darn=dpdk.org; h=references:in-reply-to:cc:to:from:subject:message-id:date:from:to :cc:subject:date:message-id:reply-to; bh=K3TO4D8HkCfNjY869f+tYw6Nn4UH0dCcHGvMvQC+VHE=; b=X+oSkfgksQNHcxx2gjnYSJkOPBTNvwKdOzYtJmjF5BLFUfi7fv9oJ9c6ksMujHHJKl LrogrvGoz7o1MLN9HjawlDWRY/jOK4ivL1vUZbfpitQiEcxTN8hgqPaL/+GwYLOaxz3g xhXUG3m5TWyxmLPu/cpqfWG/JZ9XcL9kWwg3w= X-Google-DKIM-Signature: v=1; a=rsa-sha256; c=relaxed/relaxed; d=1e100.net; s=20230601; t=1738955269; x=1739560069; h=references:in-reply-to:cc:to:from:subject:message-id:date :x-gm-message-state:from:to:cc:subject:date:message-id:reply-to; bh=K3TO4D8HkCfNjY869f+tYw6Nn4UH0dCcHGvMvQC+VHE=; b=AvOWmU47NwvYukbzmXigAN7p9m7/ua2Psb0D2QunInbzrhlx075Sf989UfiC1tzdk1 bN4JSyqunS790FVThGxDotH3jMxmQhmgHhtNniSseUVI+L1t6O3A4sFM8LC4MAJM/gDW mlpSX/P3swzVAickdx3TFqth5frwnb6scpRJCFoDKlmES8fRz8YsAiH3i58yGlrB8y7b E/XvQWVO0N0e1q8vQnLW/E+2zaOTH6YQHGdGl97NuVOO9WiBnzS5h2Y6vNxVRjRcPlEi Tj/krRaMoJ7suJhrss4pUq3lheFP3FGoNfRCYEY3KxfdYgYu/1yghDSo8IkJjCe0Yi9G 7Aaw== X-Gm-Message-State: AOJu0Yz4YKI4ZAR64Imu/1W2E3GFYgoe/EHRvL8DMPqdXrE7gCppPwG5 5iGV/v4I9o/0xw9mbsLHdGBuyCTcqLVlanhNHLbL7H2nBeWIYilQ7uHA4pPfzF2JhvKnba14OIs bv+Ye/Nmgrml0hoNmD3aeQtalHQ6k4nU+UP52zqI/ X-Gm-Gg: ASbGncsYFmeUAz/7jHyEDbo58q/6tFGszd/B9e/SbLiTVLPibcfRTqR8INOSefRzjvr v1fB2E4gCrnk+dt9O7h4sMaDTLZRL4LUpDc1Cf8VCBga3B4wdmOGtoUQUXAULgk4wk5kxx/msrd Ndqa0fSPWZo8lFRoHWAl3Rol3KpFwaMJM1T/6Eic0xlMqPedQ9hkogKAjgJtPccVu1nHvEHhaSL 8CaYXsE2XmaYrAebVfdAQaSt3wKpDSkTCXvwqHir+gvorvVlwsDNbZztSwCLiPsLd/OPPg+Kyq3 egm67gyI+V2C1YMpqa0E64o6AE2kug== X-Google-Smtp-Source: AGHT+IFZxBgU46ELEZm03KcFwAx1/vS6J4d2FibntRE088bpAyBpHNt2AYNh+Ub2YczCsTKi39L8SgRBh+Xt X-Received: by 2002:a17:902:ce83:b0:216:31aa:12eb with SMTP id d9443c01a7336-21f4e6fdae0mr64150905ad.31.1738955268894; Fri, 07 Feb 2025 11:07:48 -0800 (PST) Received: from postal.iol.unh.edu (postal.iol.unh.edu. [132.177.123.84]) by smtp-relay.gmail.com with ESMTPS id d9443c01a7336-21f3689e2a5sm2201345ad.124.2025.02.07.11.07.48 (version=TLS1_2 cipher=ECDHE-ECDSA-AES128-GCM-SHA256 bits=128/128); Fri, 07 Feb 2025 11:07:48 -0800 (PST) X-Relaying-Domain: iol.unh.edu Date: Fri, 07 Feb 2025 11:07:48 -0800 (PST) Message-ID: <67a65a04.170a0220.38cae8.b0bdSMTPIN_ADDED_MISSING@mx.google.com> Received: from [172.21.0.6] (unknown [172.18.0.240]) by postal.iol.unh.edu (Postfix) with ESMTP id 529526052471; Fri, 7 Feb 2025 14:07:48 -0500 (EST) Subject: |SUCCESS| pw148981 [PATCH] doc: add tested platforms with NVIDIA NIC From: dpdklab@iol.unh.edu To: Test Report Cc: dpdk-test-reports@iol.unh.edu In-Reply-To: <20241203075914.62923-1-rasland@nvidia.com> References: <20241203075914.62923-1-rasland@nvidia.com> Content-Type: text/plain X-BeenThere: test-report@dpdk.org X-Mailman-Version: 2.1.29 Precedence: list List-Id: automatic DPDK test reports List-Unsubscribe: , List-Archive: List-Post: List-Help: List-Subscribe: , Errors-To: test-report-bounces@dpdk.org Test-Label: iol-compile-amd64-testing Test-Status: SUCCESS http://dpdk.org/patch/148981 _Testing PASS_ Submitter: Raslan Darawsheh Date: Tuesday, December 03 2024 07:59:14 DPDK git baseline: Repo:dpdk Branch: master CommitID:1b3bf1128d9bda5595861814792f74b8f57160c8 148981 --> testing pass Test environment and result as below: +---------------------+--------------------+------------------+-------------------+-------------------------+-------------------+----------------------+ | Environment | dpdk_meson_compile | dpdk_compile_ovs | dpdk_compile_spdk | dpdk_llvm_clang_compile | dpdk_msvc_compile | dpdk_mingw64_compile | +=====================+====================+==================+===================+=========================+===================+======================+ | CentOS Stream 9 | PASS | PASS | PASS | SKIPPED | SKIPPED | SKIPPED | +---------------------+--------------------+------------------+-------------------+-------------------------+-------------------+----------------------+ | Debian 12 | PASS | PASS | PASS | SKIPPED | SKIPPED | SKIPPED | +---------------------+--------------------+------------------+-------------------+-------------------------+-------------------+----------------------+ | Fedora 39 (Clang) | PASS | PASS | PASS | SKIPPED | SKIPPED | SKIPPED | +---------------------+--------------------+------------------+-------------------+-------------------------+-------------------+----------------------+ | Fedora 39 | PASS | PASS | PASS | SKIPPED | SKIPPED | SKIPPED | +---------------------+--------------------+------------------+-------------------+-------------------------+-------------------+----------------------+ | Fedora 40 (Clang) | PASS | PASS | PASS | SKIPPED | SKIPPED | SKIPPED | +---------------------+--------------------+------------------+-------------------+-------------------------+-------------------+----------------------+ | Fedora 40 | PASS | PASS | PASS | SKIPPED | SKIPPED | SKIPPED | +---------------------+--------------------+------------------+-------------------+-------------------------+-------------------+----------------------+ | openSUSE Leap 15 | PASS | PASS | SKIPPED | SKIPPED | SKIPPED | SKIPPED | +---------------------+--------------------+------------------+-------------------+-------------------------+-------------------+----------------------+ | RHEL8 | PASS | PASS | SKIPPED | SKIPPED | SKIPPED | SKIPPED | +---------------------+--------------------+------------------+-------------------+-------------------------+-------------------+----------------------+ | Ubuntu 20.04 | PASS | SKIPPED | SKIPPED | SKIPPED | SKIPPED | SKIPPED | +---------------------+--------------------+------------------+-------------------+-------------------------+-------------------+----------------------+ | RHEL9 | PASS | PASS | SKIPPED | SKIPPED | SKIPPED | SKIPPED | +---------------------+--------------------+------------------+-------------------+-------------------------+-------------------+----------------------+ | Ubuntu 22.04 | PASS | PASS | PASS | SKIPPED | SKIPPED | SKIPPED | +---------------------+--------------------+------------------+-------------------+-------------------------+-------------------+----------------------+ | Ubuntu 24.04 | PASS | PASS | PASS | SKIPPED | SKIPPED | SKIPPED | +---------------------+--------------------+------------------+-------------------+-------------------------+-------------------+----------------------+ | FreeBSD 13.4 | PASS | SKIPPED | SKIPPED | SKIPPED | SKIPPED | SKIPPED | +---------------------+--------------------+------------------+-------------------+-------------------------+-------------------+----------------------+ | Alpine | PASS | PASS | SKIPPED | SKIPPED | SKIPPED | SKIPPED | +---------------------+--------------------+------------------+-------------------+-------------------------+-------------------+----------------------+ | FreeBSD 14.2 | PASS | SKIPPED | SKIPPED | SKIPPED | SKIPPED | SKIPPED | +---------------------+--------------------+------------------+-------------------+-------------------------+-------------------+----------------------+ | Windows Server 2022 | SKIPPED | SKIPPED | SKIPPED | PASS | PASS | PASS | +---------------------+--------------------+------------------+-------------------+-------------------------+-------------------+----------------------+ CentOS Stream 9 Kernel: Depends on container host Compiler: gcc 11.5.0 20240719 (Red Hat 11.5.0-2) Debian 12 Kernel: Depends on container host Compiler: gcc (Debian 12.2.0-14) 12.2.0 Fedora 39 (Clang) Kernel: Depends on container host Compiler: clang 17.0.6 (Fedora 17.0.6-2.fc39) Fedora 39 Kernel: Depends on container host Compiler: gcc 13.3.1 20240522 (Red Hat 13.3.1-1) Fedora 40 (Clang) Kernel: Depends on container host Compiler: clang 18.1.8 (Fedora 18.1.8-1.fc40) Fedora 40 Kernel: Depends on container host Compiler: gcc 14.2.1 20240912 (Red Hat 14.2.1-3) openSUSE Leap 15 Kernel: Depends on container host Compiler: gcc (SUSE Linux) 7.5.0 RHEL8 Kernel: Depends on container host Compiler: gcc 8.5.0 20210514 (Red Hat 8.5.0-22) Ubuntu 20.04 Kernel: Depends on container host Compiler: gcc (Ubuntu 9.4.0-1ubuntu1~20.04.2) 9.4.0 RHEL9 Kernel: Depends on container host Compiler: gcc 11.5.0 20240719 (Red Hat 11.5.0-2) Ubuntu 22.04 Kernel: Depends on container host Compiler: gcc (Ubuntu 11.4.0-1ubuntu1~22.04) 11.4.0 Ubuntu 24.04 Kernel: Depends on container host Compiler: gcc (Ubuntu 13.3.0-6ubuntu2~24.04) 13.3.0 FreeBSD 13.4 Kernel: 13.4-RELEASE-p1 Compiler: clang 18.1.6 Alpine Kernel: Depends on container host Compiler: gcc (Alpine 14.2.0) 14.2.0 FreeBSD 14.2 Kernel: 14.2-RELEASE Compiler: clang 18.1.6 Windows Server 2022 Kernel: 10.0.20348.2031 Compiler: clang 15.0.7, gcc 14.1.0 (MinGW), and MSVC VS 19.39.33521 To view detailed results, visit: https://lab.dpdk.org/results/dashboard/patchsets/32073/ UNH-IOL DPDK Community Lab To manage your email subscriptions, visit: https://lab.dpdk.org/results/dashboard/preferences/subscriptions/