From mboxrd@z Thu Jan 1 00:00:00 1970 Return-Path: Received: from mails.dpdk.org (mails.dpdk.org [217.70.189.124]) by inbox.dpdk.org (Postfix) with ESMTP id 23639461BF for ; Fri, 7 Feb 2025 20:08:01 +0100 (CET) Received: from mails.dpdk.org (localhost [127.0.0.1]) by mails.dpdk.org (Postfix) with ESMTP id 1EF5342EEB; Fri, 7 Feb 2025 20:08:01 +0100 (CET) Received: from mail-pl1-f227.google.com (mail-pl1-f227.google.com [209.85.214.227]) by mails.dpdk.org (Postfix) with ESMTP id 44EFA42ED5 for ; Fri, 7 Feb 2025 20:08:00 +0100 (CET) Received: by mail-pl1-f227.google.com with SMTP id d9443c01a7336-21f2339dcfdso39516375ad.1 for ; Fri, 07 Feb 2025 11:08:00 -0800 (PST) DKIM-Signature: v=1; a=rsa-sha256; c=relaxed/relaxed; d=iol.unh.edu; s=unh-iol; t=1738955279; x=1739560079; darn=dpdk.org; h=references:in-reply-to:cc:to:from:subject:message-id:date:from:to :cc:subject:date:message-id:reply-to; bh=KT30TVagKMuQhsCvygX+dF63bjQKgghgMTnzw3rew+Q=; b=HmCL8c9gUOZtGsFOxuwK+VfWuOFaPTDVwtOUpQReAtSoxc0yeHc+K/Vf3wGr6EOjHR KhpoECUf5a8BuFUbH+gXybWBYYic650H1UytA6kBfn1n20x8p+BmkVV2Qv2qtJ2nyxnp reE3Zzu3KZ0mrPb43kgbqBFIx1GSPlp/qm2qk= X-Google-DKIM-Signature: v=1; a=rsa-sha256; c=relaxed/relaxed; d=1e100.net; s=20230601; t=1738955279; x=1739560079; h=references:in-reply-to:cc:to:from:subject:message-id:date :x-gm-message-state:from:to:cc:subject:date:message-id:reply-to; bh=KT30TVagKMuQhsCvygX+dF63bjQKgghgMTnzw3rew+Q=; b=NoXH9ravS5scAK8lP2AuK6A+nulXpezlEzGLJm9sO+SOH32jcJqkkABboNYfz3uI0n d7OK9Fiae2fCtNXxgBjgwCiUe95WVoEkFU8QOyir2ylrK2YcSfq6OHlHAPayD1NZNyCB lta/qYvk6YgcOJITsRuMraOGHF5lnw+3h1u9ADWQrFU1UKnxz6llyt6gnfYbVxcWcfrE 5kySODSxL/V5sbN1WgN/5x7qPIzH1y6qn+UQ3OR2UFqrH6POm6H3soUth1/hgSPzTnu3 qr5XCLzvf4gyCJw4tpsrEYVEJz3tafMlib9qhnXzgbY7B+CgbtSDjsTejeAHR15HdF2U qI+A== X-Gm-Message-State: AOJu0YwjjoD/tYCv3kAWR5IOYq0wSOH7ghP+hrumEMsOZAbkcoTVwP6E m8+6TspkXjxuL14FKZIb5W/YdoHWf8skSl7DhNVOMLtTXOnDBK2+PmoWpcPtl/bluMYRJzxx0tz d3CRhx3yeC67e8QqNHeHcYf2kSbSvMptYz0Xi3Yqz X-Gm-Gg: ASbGncvg/kHp5gU4/ia9FXP1bIkG/GODEnlNGFaN+e9uWhioP+G2HEzCRHieenG1eyv aTt+wRR9wPel73Q0YRMQH8aKXrXs7ofQaDW1tiJ+u+r1Pv6QmiRV9vMHZt/peInwXdf/y0SR3Vg 9CD1wel/y7yCJQf48Kco4DKMtJ9MCrTyJ1MbD1pDVFQ0GaQnF+XqrRlzk8CeEV8Z3WrG22Gt1rv zQXFqPNdh1IDr2lxx8oqCkr3Q71Pq3lPwRMXOpQhIovgTPXoNw6mTq6kB4mKZAYvxMGEA8P6fkh mVOx9+mzBs6fUuk3epHgv7KUpcs1BQ== X-Google-Smtp-Source: AGHT+IHwTzFac3tQFXdcikLOx1ktrdcE1rfNPYMYqrND7omXAlpMfQm5rarukIifrs7ttfChka8o2ondwD4Z X-Received: by 2002:a17:903:285:b0:215:44fe:163d with SMTP id d9443c01a7336-21f4f7a25a1mr61877015ad.17.1738955278004; Fri, 07 Feb 2025 11:07:58 -0800 (PST) Received: from postal.iol.unh.edu (postal.iol.unh.edu. [132.177.123.84]) by smtp-relay.gmail.com with ESMTPS id d9443c01a7336-21f365517d3sm2178755ad.45.2025.02.07.11.07.57 (version=TLS1_2 cipher=ECDHE-ECDSA-AES128-GCM-SHA256 bits=128/128); Fri, 07 Feb 2025 11:07:57 -0800 (PST) X-Relaying-Domain: iol.unh.edu Date: Fri, 07 Feb 2025 11:07:57 -0800 (PST) Message-ID: <67a65a0d.170a0220.181dd4.bc32SMTPIN_ADDED_MISSING@mx.google.com> Received: from [172.21.0.8] (unknown [172.18.0.240]) by postal.iol.unh.edu (Postfix) with ESMTP id 297A16052472; Fri, 7 Feb 2025 14:07:57 -0500 (EST) Subject: |SUCCESS| pw148953-148973 [PATCH] [v1,21/21] net/ixgbe: use common T From: dpdklab@iol.unh.edu To: Test Report Cc: dpdk-test-reports@iol.unh.edu In-Reply-To: <20241202112444.1517416-22-bruce.richardson@intel.com> References: <20241202112444.1517416-22-bruce.richardson@intel.com> Content-Type: text/plain X-BeenThere: test-report@dpdk.org X-Mailman-Version: 2.1.29 Precedence: list List-Id: automatic DPDK test reports List-Unsubscribe: , List-Archive: List-Post: List-Help: List-Subscribe: , Errors-To: test-report-bounces@dpdk.org Test-Label: iol-compile-amd64-testing Test-Status: SUCCESS http://dpdk.org/patch/148973 _Testing PASS_ Submitter: Bruce Richardson Date: Monday, December 02 2024 11:24:41 DPDK git baseline: Repo:dpdk Branch: master CommitID:1b3bf1128d9bda5595861814792f74b8f57160c8 148953-148973 --> testing pass Test environment and result as below: +---------------------+--------------------+------------------+-------------------+-------------------------+-------------------+----------------------+ | Environment | dpdk_meson_compile | dpdk_compile_ovs | dpdk_compile_spdk | dpdk_llvm_clang_compile | dpdk_msvc_compile | dpdk_mingw64_compile | +=====================+====================+==================+===================+=========================+===================+======================+ | CentOS Stream 9 | PASS | PASS | PASS | SKIPPED | SKIPPED | SKIPPED | +---------------------+--------------------+------------------+-------------------+-------------------------+-------------------+----------------------+ | Debian 12 | PASS | PASS | PASS | SKIPPED | SKIPPED | SKIPPED | +---------------------+--------------------+------------------+-------------------+-------------------------+-------------------+----------------------+ | Fedora 39 (Clang) | PASS | PASS | PASS | SKIPPED | SKIPPED | SKIPPED | +---------------------+--------------------+------------------+-------------------+-------------------------+-------------------+----------------------+ | Fedora 39 | PASS | PASS | PASS | SKIPPED | SKIPPED | SKIPPED | +---------------------+--------------------+------------------+-------------------+-------------------------+-------------------+----------------------+ | Fedora 40 (Clang) | PASS | PASS | PASS | SKIPPED | SKIPPED | SKIPPED | +---------------------+--------------------+------------------+-------------------+-------------------------+-------------------+----------------------+ | openSUSE Leap 15 | PASS | PASS | SKIPPED | SKIPPED | SKIPPED | SKIPPED | +---------------------+--------------------+------------------+-------------------+-------------------------+-------------------+----------------------+ | RHEL8 | PASS | PASS | SKIPPED | SKIPPED | SKIPPED | SKIPPED | +---------------------+--------------------+------------------+-------------------+-------------------------+-------------------+----------------------+ | Fedora 40 | PASS | PASS | PASS | SKIPPED | SKIPPED | SKIPPED | +---------------------+--------------------+------------------+-------------------+-------------------------+-------------------+----------------------+ | RHEL9 | PASS | PASS | SKIPPED | SKIPPED | SKIPPED | SKIPPED | +---------------------+--------------------+------------------+-------------------+-------------------------+-------------------+----------------------+ | Ubuntu 20.04 | PASS | SKIPPED | SKIPPED | SKIPPED | SKIPPED | SKIPPED | +---------------------+--------------------+------------------+-------------------+-------------------------+-------------------+----------------------+ | Ubuntu 24.04 | PASS | PASS | PASS | SKIPPED | SKIPPED | SKIPPED | +---------------------+--------------------+------------------+-------------------+-------------------------+-------------------+----------------------+ | Ubuntu 22.04 | PASS | PASS | PASS | SKIPPED | SKIPPED | SKIPPED | +---------------------+--------------------+------------------+-------------------+-------------------------+-------------------+----------------------+ | Alpine | PASS | PASS | SKIPPED | SKIPPED | SKIPPED | SKIPPED | +---------------------+--------------------+------------------+-------------------+-------------------------+-------------------+----------------------+ | FreeBSD 13.4 | PASS | SKIPPED | SKIPPED | SKIPPED | SKIPPED | SKIPPED | +---------------------+--------------------+------------------+-------------------+-------------------------+-------------------+----------------------+ | FreeBSD 14.2 | PASS | SKIPPED | SKIPPED | SKIPPED | SKIPPED | SKIPPED | +---------------------+--------------------+------------------+-------------------+-------------------------+-------------------+----------------------+ | Windows Server 2022 | SKIPPED | SKIPPED | SKIPPED | PASS | PASS | PASS | +---------------------+--------------------+------------------+-------------------+-------------------------+-------------------+----------------------+ CentOS Stream 9 Kernel: Depends on container host Compiler: gcc 11.5.0 20240719 (Red Hat 11.5.0-2) Debian 12 Kernel: Depends on container host Compiler: gcc (Debian 12.2.0-14) 12.2.0 Fedora 39 (Clang) Kernel: Depends on container host Compiler: clang 17.0.6 (Fedora 17.0.6-2.fc39) Fedora 39 Kernel: Depends on container host Compiler: gcc 13.3.1 20240522 (Red Hat 13.3.1-1) Fedora 40 (Clang) Kernel: Depends on container host Compiler: clang 18.1.8 (Fedora 18.1.8-1.fc40) openSUSE Leap 15 Kernel: Depends on container host Compiler: gcc (SUSE Linux) 7.5.0 RHEL8 Kernel: Depends on container host Compiler: gcc 8.5.0 20210514 (Red Hat 8.5.0-22) Fedora 40 Kernel: Depends on container host Compiler: gcc 14.2.1 20240912 (Red Hat 14.2.1-3) RHEL9 Kernel: Depends on container host Compiler: gcc 11.5.0 20240719 (Red Hat 11.5.0-2) Ubuntu 20.04 Kernel: Depends on container host Compiler: gcc (Ubuntu 9.4.0-1ubuntu1~20.04.2) 9.4.0 Ubuntu 24.04 Kernel: Depends on container host Compiler: gcc (Ubuntu 13.3.0-6ubuntu2~24.04) 13.3.0 Ubuntu 22.04 Kernel: Depends on container host Compiler: gcc (Ubuntu 11.4.0-1ubuntu1~22.04) 11.4.0 Alpine Kernel: Depends on container host Compiler: gcc (Alpine 14.2.0) 14.2.0 FreeBSD 13.4 Kernel: 13.4-RELEASE-p1 Compiler: clang 18.1.6 FreeBSD 14.2 Kernel: 14.2-RELEASE Compiler: clang 18.1.6 Windows Server 2022 Kernel: 10.0.20348.2031 Compiler: clang 15.0.7, gcc 14.1.0 (MinGW), and MSVC VS 19.39.33521 To view detailed results, visit: https://lab.dpdk.org/results/dashboard/patchsets/32067/ UNH-IOL DPDK Community Lab To manage your email subscriptions, visit: https://lab.dpdk.org/results/dashboard/preferences/subscriptions/