From mboxrd@z Thu Jan 1 00:00:00 1970 Return-Path: Received: from mails.dpdk.org (mails.dpdk.org [217.70.189.124]) by inbox.dpdk.org (Postfix) with ESMTP id 568D0461BF for ; Fri, 7 Feb 2025 20:08:22 +0100 (CET) Received: from mails.dpdk.org (localhost [127.0.0.1]) by mails.dpdk.org (Postfix) with ESMTP id 5079A42EEB; Fri, 7 Feb 2025 20:08:22 +0100 (CET) Received: from mail-pl1-f225.google.com (mail-pl1-f225.google.com [209.85.214.225]) by mails.dpdk.org (Postfix) with ESMTP id E923442E90 for ; Fri, 7 Feb 2025 20:08:20 +0100 (CET) Received: by mail-pl1-f225.google.com with SMTP id d9443c01a7336-21f4500a5c3so41380635ad.3 for ; Fri, 07 Feb 2025 11:08:20 -0800 (PST) DKIM-Signature: v=1; a=rsa-sha256; c=relaxed/relaxed; d=iol.unh.edu; s=unh-iol; t=1738955300; x=1739560100; darn=dpdk.org; h=cc:to:from:subject:message-id:date:from:to:cc:subject:date :message-id:reply-to; bh=64J3gZqBDGRbLWC4/EJFS599uMis3GPfJrNQM+et2LE=; b=jjHfHgu6ZUoPoAwR9LRonhLHGbCpmiYrJMdhBqGcmwBrzf2fq+rYK3ioozSV/rMJ4w g7j7JnJRJCwDnzZ6OsXWUrOzYi4koeETjEJ2tHxTcOazhaWRTatENtFPca/HWoj0549g 6vTiE5xc+eONUunNnZJnn4bFvLLH01cjPaG18= X-Google-DKIM-Signature: v=1; a=rsa-sha256; c=relaxed/relaxed; d=1e100.net; s=20230601; t=1738955300; x=1739560100; h=cc:to:from:subject:message-id:date:x-gm-message-state:from:to:cc :subject:date:message-id:reply-to; bh=64J3gZqBDGRbLWC4/EJFS599uMis3GPfJrNQM+et2LE=; b=bz2RkDbh5bco6Qb4izODOmRb+FZJC3bJ8LhjbsM6Iwh6ucx3T/xmeKS3VnV+QMlnzW FJMrKwz6j/FUeSr3kyQk6vHIoaaqtrz5eUOV3QNFdrdql5a4PvmCxmnAnGgBcFeIjt9P v1vhJZb4PQ9ZcgAzpkXulbFUCrrak2o/39ma/AsvEB3vfQ4KlFBVbhTfZsv2SCfUSHA5 6kQuXBtsboylaJF24QX9frO17yQFpTsBlbQp4ndk6Jn/c7tEGu0oCgZsUGQrCLiDSoMI 7KyHlM3dwJZtjB5EX0bYwomqI/C4ZTucScpo2QvnLuCMRrtqsztLmVxUwU+uXdgcaBVw zR0Q== X-Gm-Message-State: AOJu0YzI5e7hbu8TBswZtQSxQvmRiihhF4F6FRR6Lx3AE7zp17PR8kRS k5eHUj29olr1vKZGqUI27A88+JC/vimAi2PfF78/8WHE1+YSfOx9ua87CFWdb+lUau6JTOmYhcO +Y9ulWIgP1PSFqe+iUq97BIQ0ztguLovs X-Gm-Gg: ASbGncv2j3511OqlL0+5/mW3MndwlWNFgiMZwKg+BG870HBfTGixpbO+S2S8cHi2b/A AL2tIwntUtY44wQYO/nqZeRKF35T/Z9yzoxpx6URu4f8P714s65GOjPTWv68FC2QzqwhiMJ8oLm UcgE3dGsseg8D++S+cSyJoT0VwHqAaTC6z0cEOjwk4mOYmraszqbOflnUyFtSAMQylpwWevE3ez Sr/22YXNSSo+JB2/niTQuv0IXp1HXp3qNAmgkoVFqbZFYBwcVwnwWApbpoEkMmbihFirelmUQ3A tKpf00DnbZna8oYHKhO2VVvCg9e8xw== X-Google-Smtp-Source: AGHT+IHxdDwLQMcH0T6jXRIvxnaZ1FuvsFr5ln4LOdLD0tw2C2PPKhshoemJQF+/4ODajdha01r2XUt46eFa X-Received: by 2002:a05:6a00:6c90:b0:725:eacf:cfdb with SMTP id d2e1a72fcca58-7305d55deeemr8150162b3a.24.1738955298603; Fri, 07 Feb 2025 11:08:18 -0800 (PST) Received: from postal.iol.unh.edu (postal.iol.unh.edu. [132.177.123.84]) by smtp-relay.gmail.com with ESMTPS id 41be03b00d2f7-ad51aecf44asm240960a12.12.2025.02.07.11.08.18 (version=TLS1_2 cipher=ECDHE-ECDSA-AES128-GCM-SHA256 bits=128/128); Fri, 07 Feb 2025 11:08:18 -0800 (PST) X-Relaying-Domain: iol.unh.edu Date: Fri, 07 Feb 2025 11:08:18 -0800 (PST) Message-ID: <67a65a22.630a0220.e230a.ccb1SMTPIN_ADDED_MISSING@mx.google.com> Received: from [172.21.0.10] (unknown [172.18.0.240]) by postal.iol.unh.edu (Postfix) with ESMTP id D89386052477; Fri, 7 Feb 2025 14:08:17 -0500 (EST) Subject: |SUCCESS| [GIT MASTER] e8eb14e00d56027bef8569d68cf00e39670edca2 From: dpdklab@iol.unh.edu To: Test Report Cc: dpdk-test-reports@iol.unh.edu, Xueming Li , Christian Ehrhardt , Kevin Traynor , Luca Boccassi Content-Type: text/plain X-BeenThere: test-report@dpdk.org X-Mailman-Version: 2.1.29 Precedence: list List-Id: automatic DPDK test reports List-Unsubscribe: , List-Archive: List-Post: List-Help: List-Subscribe: , Errors-To: test-report-bounces@dpdk.org _Testing PASS_ Branch: tags/v23.11 e8eb14e00d56027bef8569d68cf00e39670edca2 --> testing pass Test environment and result as below: +---------------------+--------------------+------------------+-------------------+-------------------------+-------------------+----------------------+ | Environment | dpdk_meson_compile | dpdk_compile_ovs | dpdk_compile_spdk | dpdk_llvm_clang_compile | dpdk_msvc_compile | dpdk_mingw64_compile | +=====================+====================+==================+===================+=========================+===================+======================+ | Fedora 39 (Clang) | PASS | PASS | PASS | SKIPPED | SKIPPED | SKIPPED | +---------------------+--------------------+------------------+-------------------+-------------------------+-------------------+----------------------+ | Debian 12 | PASS | PASS | PASS | SKIPPED | SKIPPED | SKIPPED | +---------------------+--------------------+------------------+-------------------+-------------------------+-------------------+----------------------+ | CentOS Stream 9 | PASS | PASS | PASS | SKIPPED | SKIPPED | SKIPPED | +---------------------+--------------------+------------------+-------------------+-------------------------+-------------------+----------------------+ | Fedora 39 | PASS | PASS | PASS | SKIPPED | SKIPPED | SKIPPED | +---------------------+--------------------+------------------+-------------------+-------------------------+-------------------+----------------------+ | Fedora 40 (Clang) | PASS | PASS | PASS | SKIPPED | SKIPPED | SKIPPED | +---------------------+--------------------+------------------+-------------------+-------------------------+-------------------+----------------------+ | Fedora 40 | PASS | PASS | PASS | SKIPPED | SKIPPED | SKIPPED | +---------------------+--------------------+------------------+-------------------+-------------------------+-------------------+----------------------+ | openSUSE Leap 15 | PASS | PASS | SKIPPED | SKIPPED | SKIPPED | SKIPPED | +---------------------+--------------------+------------------+-------------------+-------------------------+-------------------+----------------------+ | Ubuntu 20.04 | PASS | SKIPPED | SKIPPED | SKIPPED | SKIPPED | SKIPPED | +---------------------+--------------------+------------------+-------------------+-------------------------+-------------------+----------------------+ | RHEL9 | PASS | PASS | SKIPPED | SKIPPED | SKIPPED | SKIPPED | +---------------------+--------------------+------------------+-------------------+-------------------------+-------------------+----------------------+ | RHEL8 | PASS | PASS | SKIPPED | SKIPPED | SKIPPED | SKIPPED | +---------------------+--------------------+------------------+-------------------+-------------------------+-------------------+----------------------+ | Ubuntu 22.04 | PASS | PASS | PASS | SKIPPED | SKIPPED | SKIPPED | +---------------------+--------------------+------------------+-------------------+-------------------------+-------------------+----------------------+ | Alpine | PASS | PASS | SKIPPED | SKIPPED | SKIPPED | SKIPPED | +---------------------+--------------------+------------------+-------------------+-------------------------+-------------------+----------------------+ | Ubuntu 24.04 | PASS | PASS | PASS | SKIPPED | SKIPPED | SKIPPED | +---------------------+--------------------+------------------+-------------------+-------------------------+-------------------+----------------------+ | FreeBSD 13.4 | PASS | SKIPPED | SKIPPED | SKIPPED | SKIPPED | SKIPPED | +---------------------+--------------------+------------------+-------------------+-------------------------+-------------------+----------------------+ | FreeBSD 14.2 | PASS | SKIPPED | SKIPPED | SKIPPED | SKIPPED | SKIPPED | +---------------------+--------------------+------------------+-------------------+-------------------------+-------------------+----------------------+ | Windows Server 2022 | SKIPPED | SKIPPED | SKIPPED | PASS | PASS | PASS | +---------------------+--------------------+------------------+-------------------+-------------------------+-------------------+----------------------+ Fedora 39 (Clang) Kernel: Depends on container host Compiler: clang 17.0.6 (Fedora 17.0.6-2.fc39) Debian 12 Kernel: Depends on container host Compiler: gcc (Debian 12.2.0-14) 12.2.0 CentOS Stream 9 Kernel: Depends on container host Compiler: gcc 11.5.0 20240719 (Red Hat 11.5.0-2) Fedora 39 Kernel: Depends on container host Compiler: gcc 13.3.1 20240522 (Red Hat 13.3.1-1) Fedora 40 (Clang) Kernel: Depends on container host Compiler: clang 18.1.8 (Fedora 18.1.8-1.fc40) Fedora 40 Kernel: Depends on container host Compiler: gcc 14.2.1 20240912 (Red Hat 14.2.1-3) openSUSE Leap 15 Kernel: Depends on container host Compiler: gcc (SUSE Linux) 7.5.0 Ubuntu 20.04 Kernel: Depends on container host Compiler: gcc (Ubuntu 9.4.0-1ubuntu1~20.04.2) 9.4.0 RHEL9 Kernel: Depends on container host Compiler: gcc 11.5.0 20240719 (Red Hat 11.5.0-2) RHEL8 Kernel: Depends on container host Compiler: gcc 8.5.0 20210514 (Red Hat 8.5.0-22) Ubuntu 22.04 Kernel: Depends on container host Compiler: gcc (Ubuntu 11.4.0-1ubuntu1~22.04) 11.4.0 Alpine Kernel: Depends on container host Compiler: gcc (Alpine 14.2.0) 14.2.0 Ubuntu 24.04 Kernel: Depends on container host Compiler: gcc (Ubuntu 13.3.0-6ubuntu2~24.04) 13.3.0 FreeBSD 13.4 Kernel: 13.4-RELEASE-p1 Compiler: clang 18.1.6 FreeBSD 14.2 Kernel: 14.2-RELEASE Compiler: clang 18.1.6 Windows Server 2022 Kernel: 10.0.20348.2031 Compiler: clang 15.0.7, gcc 14.1.0 (MinGW), and MSVC VS 19.39.33521 To view detailed results, visit: https://lab.dpdk.org/results/dashboard/tarballs/31791/ UNH-IOL DPDK Community Lab To manage your email subscriptions, visit: https://lab.dpdk.org/results/dashboard/preferences/subscriptions/