From mboxrd@z Thu Jan 1 00:00:00 1970 Return-Path: Received: from mails.dpdk.org (mails.dpdk.org [217.70.189.124]) by inbox.dpdk.org (Postfix) with ESMTP id 993E9461BF for ; Fri, 7 Feb 2025 20:08:34 +0100 (CET) Received: from mails.dpdk.org (localhost [127.0.0.1]) by mails.dpdk.org (Postfix) with ESMTP id 9532642ED5; Fri, 7 Feb 2025 20:08:34 +0100 (CET) Received: from mail-pj1-f98.google.com (mail-pj1-f98.google.com [209.85.216.98]) by mails.dpdk.org (Postfix) with ESMTP id CF3DD42E90 for ; Fri, 7 Feb 2025 20:08:32 +0100 (CET) Received: by mail-pj1-f98.google.com with SMTP id 98e67ed59e1d1-2fa345713a8so1311315a91.2 for ; Fri, 07 Feb 2025 11:08:32 -0800 (PST) DKIM-Signature: v=1; a=rsa-sha256; c=relaxed/relaxed; d=iol.unh.edu; s=unh-iol; t=1738955312; x=1739560112; darn=dpdk.org; h=references:in-reply-to:cc:to:from:subject:message-id:date:from:to :cc:subject:date:message-id:reply-to; bh=M4y3/WRgtT+9uUNBXIlCWQeFOC3SzFwsBMvRKi8XXIA=; b=QlCavp7SiAEgqSXGo1hcgfh9FgBVU2fbEa2TcC3P5X+BzLrv5XJ26G7d3sK8mIXS5+ ElOtneQJJB4o1MhW4/wyiZMfXZ7sM1kSkB/4SyLXs894npSPB7Y5DZ2gnxMtSnzmTqrv XL0tHeAX4M4Ui15TBUXHHyFgVIxn83H9VYwfA= X-Google-DKIM-Signature: v=1; a=rsa-sha256; c=relaxed/relaxed; d=1e100.net; s=20230601; t=1738955312; x=1739560112; h=references:in-reply-to:cc:to:from:subject:message-id:date :x-gm-message-state:from:to:cc:subject:date:message-id:reply-to; bh=M4y3/WRgtT+9uUNBXIlCWQeFOC3SzFwsBMvRKi8XXIA=; b=CxeUIanE+wn2/VvyIH+dcIbW22S6Fp5T/+9xU3YPleVN2m1qmbCVPmjxnELm3Gtf16 RmN9atE+C0z0Y0BYVaRZ64ulwEFJGzUSY7QNnywV5sUrveSgG2HEb9iohiYliPyicdSK 5CE9/NjWSWA+WJTLvXQwnRwkqwW9jNEITt/2QPSZc0oRo3ss1Ck//t5DAfWpkfUj5eFB KizoXpS9+nOtV4EQr/PUWFHWILuEMSm495Ljh1DcO0hNkoNqNQEbnwA2FBypng42FvIy H32He3Q1hOVdkVby9gTh1EdM1nBPuZl1nFVanSy1b3MbOm6eMIBYSXko82u7NknEMYvT VGfA== X-Gm-Message-State: AOJu0YwYrXtVlMgp/2r2mc3rDuUDOaCVY4rUEOcIOZthwtsgYz9V1EVX Zp3si9D1wmnP7+BsuPMJscnYqOxedQfzjsFIFg4v9hCskAj9FVR9bdwNLBEMHg7m4ila8t1NFzH kaEsKVRVP/wdtzjJY3Bb80DF91+6VvIT3+Ftbr2lZ X-Gm-Gg: ASbGncsekc4ERrMdINqdm5wUJV6ImwYNLIw2nQSKd7TxKGPVZ44a21ddkevcILKHCDa G6xuXvS/9Vj6fKRHvEjsdozmCMvcY9MtzlvZ2dkqbdqodRxQugXSbaiu5/CQZNzgr35xbP8cD8G jkoluWQq/UaL5U6RJf/HWLW3Mrpa+kdPg9ceawQLyIwJMlFLVaMh4+QSUsHTJceFv3OOUNKI+Nh qLHJXgSQ4HOC/b3sFqjsZc/GrWvl6LuxKkiGBpFqAYMm/UlmGP3WOmJ58eSBcdDKqzne55jYRTG OYh3RUvoPpy2bZuLuIgsLajayzFPFA== X-Google-Smtp-Source: AGHT+IHsttwLpyGKQ3WAMUJfipCna/R/GcvQiQTDBY+kGEbYX930pd8bK3gfTHrcGIkDzcIt+s6hKHuO5qX1 X-Received: by 2002:a17:90b:350b:b0:2ee:aed6:9ec2 with SMTP id 98e67ed59e1d1-2fa24067e2bmr7564283a91.14.1738955312009; Fri, 07 Feb 2025 11:08:32 -0800 (PST) Received: from postal.iol.unh.edu (postal.iol.unh.edu. [132.177.123.84]) by smtp-relay.gmail.com with ESMTPS id 98e67ed59e1d1-2fa09b60fcdsm300212a91.10.2025.02.07.11.08.31 (version=TLS1_2 cipher=ECDHE-ECDSA-AES128-GCM-SHA256 bits=128/128); Fri, 07 Feb 2025 11:08:32 -0800 (PST) X-Relaying-Domain: iol.unh.edu Date: Fri, 07 Feb 2025 11:08:32 -0800 (PST) Message-ID: <67a65a30.170a0220.33a10.fb68SMTPIN_ADDED_MISSING@mx.google.com> Received: from [172.21.0.6] (unknown [172.18.0.240]) by postal.iol.unh.edu (Postfix) with ESMTP id 2A1DA6052477; Fri, 7 Feb 2025 14:08:31 -0500 (EST) Subject: |SUCCESS| pw148941 [PATCH] [v1,1/1] usertools/devbind: fix NUMA node From: dpdklab@iol.unh.edu To: Test Report Cc: dpdk-test-reports@iol.unh.edu In-Reply-To: <890de9246f00065a30398729d4c2baf047002584.1732873932.git.anatoly.burakov@intel.com> References: <890de9246f00065a30398729d4c2baf047002584.1732873932.git.anatoly.burakov@intel.com> Content-Type: text/plain X-BeenThere: test-report@dpdk.org X-Mailman-Version: 2.1.29 Precedence: list List-Id: automatic DPDK test reports List-Unsubscribe: , List-Archive: List-Post: List-Help: List-Subscribe: , Errors-To: test-report-bounces@dpdk.org Test-Label: iol-compile-amd64-testing Test-Status: SUCCESS http://dpdk.org/patch/148941 _Testing PASS_ Submitter: Burakov, Anatoly Date: Friday, November 29 2024 09:52:24 DPDK git baseline: Repo:dpdk Branch: master CommitID:c0f5a9dd74f41688660e4ef84487a175ee44a54a 148941 --> testing pass Test environment and result as below: +---------------------+--------------------+------------------+-------------------+-------------------------+-------------------+----------------------+ | Environment | dpdk_meson_compile | dpdk_compile_ovs | dpdk_compile_spdk | dpdk_llvm_clang_compile | dpdk_msvc_compile | dpdk_mingw64_compile | +=====================+====================+==================+===================+=========================+===================+======================+ | CentOS Stream 9 | PASS | PASS | PASS | SKIPPED | SKIPPED | SKIPPED | +---------------------+--------------------+------------------+-------------------+-------------------------+-------------------+----------------------+ | Debian 12 | PASS | PASS | PASS | SKIPPED | SKIPPED | SKIPPED | +---------------------+--------------------+------------------+-------------------+-------------------------+-------------------+----------------------+ | Fedora 39 (Clang) | PASS | PASS | PASS | SKIPPED | SKIPPED | SKIPPED | +---------------------+--------------------+------------------+-------------------+-------------------------+-------------------+----------------------+ | Fedora 39 | PASS | PASS | PASS | SKIPPED | SKIPPED | SKIPPED | +---------------------+--------------------+------------------+-------------------+-------------------------+-------------------+----------------------+ | Fedora 40 | PASS | PASS | PASS | SKIPPED | SKIPPED | SKIPPED | +---------------------+--------------------+------------------+-------------------+-------------------------+-------------------+----------------------+ | Fedora 40 (Clang) | PASS | PASS | PASS | SKIPPED | SKIPPED | SKIPPED | +---------------------+--------------------+------------------+-------------------+-------------------------+-------------------+----------------------+ | openSUSE Leap 15 | PASS | PASS | SKIPPED | SKIPPED | SKIPPED | SKIPPED | +---------------------+--------------------+------------------+-------------------+-------------------------+-------------------+----------------------+ | Ubuntu 22.04 | PASS | PASS | PASS | SKIPPED | SKIPPED | SKIPPED | +---------------------+--------------------+------------------+-------------------+-------------------------+-------------------+----------------------+ | RHEL9 | PASS | PASS | SKIPPED | SKIPPED | SKIPPED | SKIPPED | +---------------------+--------------------+------------------+-------------------+-------------------------+-------------------+----------------------+ | RHEL8 | PASS | PASS | SKIPPED | SKIPPED | SKIPPED | SKIPPED | +---------------------+--------------------+------------------+-------------------+-------------------------+-------------------+----------------------+ | Ubuntu 20.04 | PASS | SKIPPED | SKIPPED | SKIPPED | SKIPPED | SKIPPED | +---------------------+--------------------+------------------+-------------------+-------------------------+-------------------+----------------------+ | Ubuntu 24.04 | PASS | PASS | PASS | SKIPPED | SKIPPED | SKIPPED | +---------------------+--------------------+------------------+-------------------+-------------------------+-------------------+----------------------+ | Alpine | PASS | PASS | SKIPPED | SKIPPED | SKIPPED | SKIPPED | +---------------------+--------------------+------------------+-------------------+-------------------------+-------------------+----------------------+ | FreeBSD 13.4 | PASS | SKIPPED | SKIPPED | SKIPPED | SKIPPED | SKIPPED | +---------------------+--------------------+------------------+-------------------+-------------------------+-------------------+----------------------+ | FreeBSD 14.2 | PASS | SKIPPED | SKIPPED | SKIPPED | SKIPPED | SKIPPED | +---------------------+--------------------+------------------+-------------------+-------------------------+-------------------+----------------------+ | Windows Server 2022 | SKIPPED | SKIPPED | SKIPPED | PASS | PASS | PASS | +---------------------+--------------------+------------------+-------------------+-------------------------+-------------------+----------------------+ CentOS Stream 9 Kernel: Depends on container host Compiler: gcc 11.5.0 20240719 (Red Hat 11.5.0-2) Debian 12 Kernel: Depends on container host Compiler: gcc (Debian 12.2.0-14) 12.2.0 Fedora 39 (Clang) Kernel: Depends on container host Compiler: clang 17.0.6 (Fedora 17.0.6-2.fc39) Fedora 39 Kernel: Depends on container host Compiler: gcc 13.3.1 20240522 (Red Hat 13.3.1-1) Fedora 40 Kernel: Depends on container host Compiler: gcc 14.2.1 20240912 (Red Hat 14.2.1-3) Fedora 40 (Clang) Kernel: Depends on container host Compiler: clang 18.1.8 (Fedora 18.1.8-1.fc40) openSUSE Leap 15 Kernel: Depends on container host Compiler: gcc (SUSE Linux) 7.5.0 Ubuntu 22.04 Kernel: Depends on container host Compiler: gcc (Ubuntu 11.4.0-1ubuntu1~22.04) 11.4.0 RHEL9 Kernel: Depends on container host Compiler: gcc 11.5.0 20240719 (Red Hat 11.5.0-2) RHEL8 Kernel: Depends on container host Compiler: gcc 8.5.0 20210514 (Red Hat 8.5.0-22) Ubuntu 20.04 Kernel: Depends on container host Compiler: gcc (Ubuntu 9.4.0-1ubuntu1~20.04.2) 9.4.0 Ubuntu 24.04 Kernel: Depends on container host Compiler: gcc (Ubuntu 13.3.0-6ubuntu2~24.04) 13.3.0 Alpine Kernel: Depends on container host Compiler: gcc (Alpine 14.2.0) 14.2.0 FreeBSD 13.4 Kernel: 13.4-RELEASE-p1 Compiler: clang 18.1.6 FreeBSD 14.2 Kernel: 14.2-RELEASE Compiler: clang 18.1.6 Windows Server 2022 Kernel: 10.0.20348.2031 Compiler: clang 15.0.7, gcc 14.1.0 (MinGW), and MSVC VS 19.39.33521 To view detailed results, visit: https://lab.dpdk.org/results/dashboard/patchsets/32056/ UNH-IOL DPDK Community Lab To manage your email subscriptions, visit: https://lab.dpdk.org/results/dashboard/preferences/subscriptions/