From mboxrd@z Thu Jan 1 00:00:00 1970 Return-Path: Received: from mails.dpdk.org (mails.dpdk.org [217.70.189.124]) by inbox.dpdk.org (Postfix) with ESMTP id BCFD7461BF for ; Fri, 7 Feb 2025 20:08:46 +0100 (CET) Received: from mails.dpdk.org (localhost [127.0.0.1]) by mails.dpdk.org (Postfix) with ESMTP id BA58F42ED5; Fri, 7 Feb 2025 20:08:46 +0100 (CET) Received: from mail-pl1-f225.google.com (mail-pl1-f225.google.com [209.85.214.225]) by mails.dpdk.org (Postfix) with ESMTP id D55BF42E90 for ; Fri, 7 Feb 2025 20:08:45 +0100 (CET) Received: by mail-pl1-f225.google.com with SMTP id d9443c01a7336-2163dc5155fso51167495ad.0 for ; Fri, 07 Feb 2025 11:08:45 -0800 (PST) DKIM-Signature: v=1; a=rsa-sha256; c=relaxed/relaxed; d=iol.unh.edu; s=unh-iol; t=1738955325; x=1739560125; darn=dpdk.org; h=references:in-reply-to:cc:to:from:subject:message-id:date:from:to :cc:subject:date:message-id:reply-to; bh=Jm1kdGiaXNmideLeVef5YNaBMgnajfO8lNs12kBDIMI=; b=OvTLMTiIe6DOF4RpHT4nJdIC/3VtiZNQ1d3+wgkJxG9m854oKj7FvAm51VhdNoS7F6 8v5zx0+ro7AP0KZtWUdsCcLv1p6KsSVPivXqKKI0TDhcr3OhFXMDVybUBndODugzHX9x +TR+RW9AFV4MCPioAngNn2qeozoMafH7VcrSI= X-Google-DKIM-Signature: v=1; a=rsa-sha256; c=relaxed/relaxed; d=1e100.net; s=20230601; t=1738955325; x=1739560125; h=references:in-reply-to:cc:to:from:subject:message-id:date :x-gm-message-state:from:to:cc:subject:date:message-id:reply-to; bh=Jm1kdGiaXNmideLeVef5YNaBMgnajfO8lNs12kBDIMI=; b=HffBoQb0cdFxTfe12gYOLVzwq4Akb9CC/MTxnrKeETTOvE8h4+Kdt9ScHEUxqO3z6k BtZ5ykUW99IjZ54UrjHNhZmcbr5oILc6JhVI2lvnCvFlkf4GcCWuXvMIzSXtwMyZspVT FynMaMtPeazB9KfLgijyCUrvjRVglQPmNiz9IWPLACcpksit/j0fW20iTuXZT4W9ToQd o9GbyhKSDJ+mrYH2G8DGF3lJRwaE+Os7XU2/B82nzUVKdd6+bWJGhPjW3OkVvQrA5Xm6 UyGxBEmf3VKulQ2Bnv9JEOzsPUvhPsxRhdmO1xmu9KPnW3iTVZqXFFZth6u+nFsSQ5Ns tVcg== X-Gm-Message-State: AOJu0YxgEIkNe+9u+ISKUK7a1abBpDw8Dy+hfaHxy/cSr60qdT8waSGi WaUFbR+DZVcxadAvD1/HFqRq0/+aP0o31IymKM9OOE3ZYncG9WDnPa99wKqQCz9zjR+x/ShPEon bIjopkWWOepmAxXMh6CjK8TKkjqUT+Dzi5HdSfCoM X-Gm-Gg: ASbGncsP8Sz2PRzDtsMYi2/+gja3+49GSo+QVI0yprd+0LT494WsL/3rLFVWST4brgG DE/7GaxnIQJvanya5soBuQsc7iss6E3GQ3SC5tonlvAiBeL1tQ5oZZu0/fLwCBglivGlRU5MJhc KSxXvdVfVF0xh9wwPTuq0fUxjf45VPZVxZf8M4W8Q8VKztG8eqcNdQHtcHDRPob7oEzpIfB03de p+BxmtVFDUgX+UPeU81FJ0ck4u0R3BViHtm5qrGTng5i+fHquBPd+LMf/wJPCXcyjnjnHnhxWg+ wc3LEsMpzNYb/5lUhy2W0K0tumnbvw== X-Google-Smtp-Source: AGHT+IG4rzDG6iMK2tF1NbmZFTI+A1Q+0ExxxSSjkdEnI2Grt6lg6v2QWbJCYa28ZWTWZz9XCdteca27mEjU X-Received: by 2002:a17:902:e946:b0:215:ac55:fd72 with SMTP id d9443c01a7336-21f4e7465b0mr66935185ad.37.1738955325182; Fri, 07 Feb 2025 11:08:45 -0800 (PST) Received: from postal.iol.unh.edu (postal.iol.unh.edu. [132.177.123.84]) by smtp-relay.gmail.com with ESMTPS id d9443c01a7336-21f36876bacsm2181465ad.97.2025.02.07.11.08.45 (version=TLS1_2 cipher=ECDHE-ECDSA-AES128-GCM-SHA256 bits=128/128); Fri, 07 Feb 2025 11:08:45 -0800 (PST) X-Relaying-Domain: iol.unh.edu Date: Fri, 07 Feb 2025 11:08:45 -0800 (PST) Message-ID: <67a65a3d.170a0220.171c0.afadSMTPIN_ADDED_MISSING@mx.google.com> Received: from [172.21.0.7] (unknown [172.18.0.240]) by postal.iol.unh.edu (Postfix) with ESMTP id 998056052472; Fri, 7 Feb 2025 14:08:44 -0500 (EST) Subject: |SUCCESS| pw148941 [PATCH] [v1,1/1] usertools/devbind: fix NUMA node From: dpdklab@iol.unh.edu To: Test Report Cc: dpdk-test-reports@iol.unh.edu In-Reply-To: <890de9246f00065a30398729d4c2baf047002584.1732873932.git.anatoly.burakov@intel.com> References: <890de9246f00065a30398729d4c2baf047002584.1732873932.git.anatoly.burakov@intel.com> Content-Type: text/plain X-BeenThere: test-report@dpdk.org X-Mailman-Version: 2.1.29 Precedence: list List-Id: automatic DPDK test reports List-Unsubscribe: , List-Archive: List-Post: List-Help: List-Subscribe: , Errors-To: test-report-bounces@dpdk.org Test-Label: iol-compile-amd64-testing Test-Status: SUCCESS http://dpdk.org/patch/148941 _Testing PASS_ Submitter: Burakov, Anatoly Date: Friday, November 29 2024 09:52:24 DPDK git baseline: Repo:dpdk Branch: master CommitID:c0f5a9dd74f41688660e4ef84487a175ee44a54a 148941 --> testing pass Test environment and result as below: +---------------------+--------------------+------------------+-------------------+-------------------+-------------------------+----------------------+ | Environment | dpdk_meson_compile | dpdk_compile_ovs | dpdk_compile_spdk | dpdk_msvc_compile | dpdk_llvm_clang_compile | dpdk_mingw64_compile | +=====================+====================+==================+===================+===================+=========================+======================+ | Debian 12 | PASS | PASS | PASS | SKIPPED | SKIPPED | SKIPPED | +---------------------+--------------------+------------------+-------------------+-------------------+-------------------------+----------------------+ | CentOS Stream 9 | PASS | PASS | PASS | SKIPPED | SKIPPED | SKIPPED | +---------------------+--------------------+------------------+-------------------+-------------------+-------------------------+----------------------+ | Fedora 39 (Clang) | PASS | PASS | PASS | SKIPPED | SKIPPED | SKIPPED | +---------------------+--------------------+------------------+-------------------+-------------------+-------------------------+----------------------+ | Fedora 39 | PASS | PASS | PASS | SKIPPED | SKIPPED | SKIPPED | +---------------------+--------------------+------------------+-------------------+-------------------+-------------------------+----------------------+ | Fedora 40 (Clang) | PASS | PASS | PASS | SKIPPED | SKIPPED | SKIPPED | +---------------------+--------------------+------------------+-------------------+-------------------+-------------------------+----------------------+ | RHEL9 | PASS | PASS | SKIPPED | SKIPPED | SKIPPED | SKIPPED | +---------------------+--------------------+------------------+-------------------+-------------------+-------------------------+----------------------+ | RHEL8 | PASS | PASS | SKIPPED | SKIPPED | SKIPPED | SKIPPED | +---------------------+--------------------+------------------+-------------------+-------------------+-------------------------+----------------------+ | Ubuntu 22.04 | PASS | PASS | PASS | SKIPPED | SKIPPED | SKIPPED | +---------------------+--------------------+------------------+-------------------+-------------------+-------------------------+----------------------+ | Ubuntu 20.04 | PASS | SKIPPED | SKIPPED | SKIPPED | SKIPPED | SKIPPED | +---------------------+--------------------+------------------+-------------------+-------------------+-------------------------+----------------------+ | Fedora 40 | PASS | PASS | PASS | SKIPPED | SKIPPED | SKIPPED | +---------------------+--------------------+------------------+-------------------+-------------------+-------------------------+----------------------+ | openSUSE Leap 15 | PASS | PASS | SKIPPED | SKIPPED | SKIPPED | SKIPPED | +---------------------+--------------------+------------------+-------------------+-------------------+-------------------------+----------------------+ | Alpine | PASS | PASS | SKIPPED | SKIPPED | SKIPPED | SKIPPED | +---------------------+--------------------+------------------+-------------------+-------------------+-------------------------+----------------------+ | Ubuntu 24.04 | PASS | PASS | PASS | SKIPPED | SKIPPED | SKIPPED | +---------------------+--------------------+------------------+-------------------+-------------------+-------------------------+----------------------+ | FreeBSD 13.4 | PASS | SKIPPED | SKIPPED | SKIPPED | SKIPPED | SKIPPED | +---------------------+--------------------+------------------+-------------------+-------------------+-------------------------+----------------------+ | FreeBSD 14.2 | PASS | SKIPPED | SKIPPED | SKIPPED | SKIPPED | SKIPPED | +---------------------+--------------------+------------------+-------------------+-------------------+-------------------------+----------------------+ | Windows Server 2022 | SKIPPED | SKIPPED | SKIPPED | PASS | PASS | PASS | +---------------------+--------------------+------------------+-------------------+-------------------+-------------------------+----------------------+ Debian 12 Kernel: Depends on container host Compiler: gcc (Debian 12.2.0-14) 12.2.0 CentOS Stream 9 Kernel: Depends on container host Compiler: gcc 11.5.0 20240719 (Red Hat 11.5.0-2) Fedora 39 (Clang) Kernel: Depends on container host Compiler: clang 17.0.6 (Fedora 17.0.6-2.fc39) Fedora 39 Kernel: Depends on container host Compiler: gcc 13.3.1 20240522 (Red Hat 13.3.1-1) Fedora 40 (Clang) Kernel: Depends on container host Compiler: clang 18.1.8 (Fedora 18.1.8-1.fc40) RHEL9 Kernel: Depends on container host Compiler: gcc 11.5.0 20240719 (Red Hat 11.5.0-2) RHEL8 Kernel: Depends on container host Compiler: gcc 8.5.0 20210514 (Red Hat 8.5.0-22) Ubuntu 22.04 Kernel: Depends on container host Compiler: gcc (Ubuntu 11.4.0-1ubuntu1~22.04) 11.4.0 Ubuntu 20.04 Kernel: Depends on container host Compiler: gcc (Ubuntu 9.4.0-1ubuntu1~20.04.2) 9.4.0 Fedora 40 Kernel: Depends on container host Compiler: gcc 14.2.1 20240912 (Red Hat 14.2.1-3) openSUSE Leap 15 Kernel: Depends on container host Compiler: gcc (SUSE Linux) 7.5.0 Alpine Kernel: Depends on container host Compiler: gcc (Alpine 14.2.0) 14.2.0 Ubuntu 24.04 Kernel: Depends on container host Compiler: gcc (Ubuntu 13.3.0-6ubuntu2~24.04) 13.3.0 FreeBSD 13.4 Kernel: 13.4-RELEASE-p1 Compiler: clang 18.1.6 FreeBSD 14.2 Kernel: 14.2-RELEASE Compiler: clang 18.1.6 Windows Server 2022 Kernel: 10.0.20348.2031 Compiler: clang 15.0.7, gcc 14.1.0 (MinGW), and MSVC VS 19.39.33521 To view detailed results, visit: https://lab.dpdk.org/results/dashboard/patchsets/32056/ UNH-IOL DPDK Community Lab To manage your email subscriptions, visit: https://lab.dpdk.org/results/dashboard/preferences/subscriptions/