From mboxrd@z Thu Jan 1 00:00:00 1970 Return-Path: Received: from mails.dpdk.org (mails.dpdk.org [217.70.189.124]) by inbox.dpdk.org (Postfix) with ESMTP id E6754461BF for ; Fri, 7 Feb 2025 20:08:56 +0100 (CET) Received: from mails.dpdk.org (localhost [127.0.0.1]) by mails.dpdk.org (Postfix) with ESMTP id E3C9C42ED5; Fri, 7 Feb 2025 20:08:56 +0100 (CET) Received: from mail-io1-f98.google.com (mail-io1-f98.google.com [209.85.166.98]) by mails.dpdk.org (Postfix) with ESMTP id 6756942E90 for ; Fri, 7 Feb 2025 20:08:54 +0100 (CET) Received: by mail-io1-f98.google.com with SMTP id ca18e2360f4ac-844e10ef3cfso182710539f.2 for ; Fri, 07 Feb 2025 11:08:54 -0800 (PST) DKIM-Signature: v=1; a=rsa-sha256; c=relaxed/relaxed; d=iol.unh.edu; s=unh-iol; t=1738955334; x=1739560134; darn=dpdk.org; h=references:in-reply-to:cc:to:from:subject:message-id:date:from:to :cc:subject:date:message-id:reply-to; bh=mC6AJHfLSD3QXdhjcHN556tQflexElLxs/W+AOpCkR8=; b=NdCjpwEZTb/1qQ2tPK1yAT5GRwgSwIohG4hYObuYFK0C2uL2bRJssk7Ax8p9d5R2eI MgX1cjBpiL9bInVL8/IYD/dcHpRAb9XFAlh31ptD6piRMw4sMg9d+d0wA1Psf1/IP8A6 vPjMc+dPZho6BG6NDwz6GJ6zToe3hPJn4ss5U= X-Google-DKIM-Signature: v=1; a=rsa-sha256; c=relaxed/relaxed; d=1e100.net; s=20230601; t=1738955334; x=1739560134; h=references:in-reply-to:cc:to:from:subject:message-id:date :x-gm-message-state:from:to:cc:subject:date:message-id:reply-to; bh=mC6AJHfLSD3QXdhjcHN556tQflexElLxs/W+AOpCkR8=; b=vO8LnCQUjz9GTsFwyhE8S8Y35FoWw+Zq7j12AJHvMTfw5bPi5vSyyVt0uR7CKy6P2G 16ZFFj4ceFqP88lHqyUBJPbJxxNVnI3gmOf95agadZQmdKCVvc36kaZOkfYaNPHmz/g8 Nt63Zjc4WrhzPpWwxWkLTfggkmhhheJ1j20cxFCbmK6oDSOpQxyYIPykvfFiqBtjmuID KZyPUBUrrJfaDF/QUWYi/e4yBQMgBFAwEh5CmSXm6cycfwf2bYDbxCPqsspdstATSpH9 t6wv7vDakdJT0sfoNJElz4Sk7F9/jgiuYgwBkPPLKM4XBUp65wXM10pyWnEz2kyC3rU1 8VYw== X-Gm-Message-State: AOJu0YzCVZ7sCCK32BkhMbVl7d7rFITjjo4kon571H4BqoMs3N44EjHF KNAONmvhifOMvYub/nDd4Ozvr5mTgwB7gqA6BxQicYNQfvo4T+dtObXoolwPB9wn7cGC17twhq/ mmfzxjnQEl1kCpEyjaqkZTKZv053GEWbRcZ8V2KGU X-Gm-Gg: ASbGncsPjlQdhD/0K6KeYcTYqnASdYiW/5YQXVojBP38czVhASvXxE0FajxEqljDV2c Ic4NJsMU3laUC8h/YbFeiEx/XkdbHQLkzqNBUli+A4W0bmtPXVNZF4fi1wX06l4eiuTSU+LLkp5 UFcCQDkHvgiJ0xxrH8aGg38H/yrA/7Cr/j2/FcFnlM9OnnGiNP7gwyfuBAOmfN+q7Dy28P78H2v qc9U7hxKi21EezCXmHy8NsPhY5lJbbF+z7mfIm01VUO85fKPDFkdstp4loF0q1tWXMTApLKlXO2 fVhknjlWt2KKiYZbhJKlr+mlCq4mWw== X-Google-Smtp-Source: AGHT+IGRP0UOVgGMytLEwFoH0qX0tmWoPwqSlMjVBqLTP8qjLtsiRm2WYhQCok2XFpT50TBx4dXNEdjxUHzb X-Received: by 2002:a05:6e02:1d91:b0:3cf:b365:dcf8 with SMTP id e9e14a558f8ab-3d13df546a1mr44421275ab.21.1738955333762; Fri, 07 Feb 2025 11:08:53 -0800 (PST) Received: from postal.iol.unh.edu (postal.iol.unh.edu. [132.177.123.84]) by smtp-relay.gmail.com with ESMTPS id 8926c6da1cb9f-4ecda1dd9d2sm140471173.37.2025.02.07.11.08.53 (version=TLS1_2 cipher=ECDHE-ECDSA-AES128-GCM-SHA256 bits=128/128); Fri, 07 Feb 2025 11:08:53 -0800 (PST) X-Relaying-Domain: iol.unh.edu Date: Fri, 07 Feb 2025 11:08:53 -0800 (PST) Message-ID: <67a65a45.050a0220.13da3b.68f2SMTPIN_ADDED_MISSING@mx.google.com> Received: from [172.21.0.12] (unknown [172.18.0.240]) by postal.iol.unh.edu (Postfix) with ESMTP id 69C696052471; Fri, 7 Feb 2025 14:08:23 -0500 (EST) Subject: |SUCCESS| pw148942 [PATCH] [v4] dts: remove nested html dir for API From: dpdklab@iol.unh.edu To: Test Report Cc: dpdk-test-reports@iol.unh.edu In-Reply-To: <20241129115528.194137-1-thomas@monjalon.net> References: <20241129115528.194137-1-thomas@monjalon.net> Content-Type: text/plain X-BeenThere: test-report@dpdk.org X-Mailman-Version: 2.1.29 Precedence: list List-Id: automatic DPDK test reports List-Unsubscribe: , List-Archive: List-Post: List-Help: List-Subscribe: , Errors-To: test-report-bounces@dpdk.org Test-Label: iol-compile-amd64-testing Test-Status: SUCCESS http://dpdk.org/patch/148942 _Testing PASS_ Submitter: Thomas Monjalon Date: Friday, November 29 2024 11:54:26 DPDK git baseline: Repo:dpdk Branch: master CommitID:c0f5a9dd74f41688660e4ef84487a175ee44a54a 148942 --> testing pass Test environment and result as below: +---------------------+--------------------+------------------+-------------------+-------------------+-------------------------+----------------------+ | Environment | dpdk_meson_compile | dpdk_compile_ovs | dpdk_compile_spdk | dpdk_msvc_compile | dpdk_llvm_clang_compile | dpdk_mingw64_compile | +=====================+====================+==================+===================+===================+=========================+======================+ | CentOS Stream 9 | PASS | PASS | PASS | SKIPPED | SKIPPED | SKIPPED | +---------------------+--------------------+------------------+-------------------+-------------------+-------------------------+----------------------+ | Fedora 39 (Clang) | PASS | PASS | PASS | SKIPPED | SKIPPED | SKIPPED | +---------------------+--------------------+------------------+-------------------+-------------------+-------------------------+----------------------+ | Debian 12 | PASS | PASS | PASS | SKIPPED | SKIPPED | SKIPPED | +---------------------+--------------------+------------------+-------------------+-------------------+-------------------------+----------------------+ | Fedora 39 | PASS | PASS | PASS | SKIPPED | SKIPPED | SKIPPED | +---------------------+--------------------+------------------+-------------------+-------------------+-------------------------+----------------------+ | Fedora 40 (Clang) | PASS | PASS | PASS | SKIPPED | SKIPPED | SKIPPED | +---------------------+--------------------+------------------+-------------------+-------------------+-------------------------+----------------------+ | Fedora 40 | PASS | PASS | PASS | SKIPPED | SKIPPED | SKIPPED | +---------------------+--------------------+------------------+-------------------+-------------------+-------------------------+----------------------+ | FreeBSD 13.4 | PASS | SKIPPED | SKIPPED | SKIPPED | SKIPPED | SKIPPED | +---------------------+--------------------+------------------+-------------------+-------------------+-------------------------+----------------------+ | openSUSE Leap 15 | PASS | PASS | SKIPPED | SKIPPED | SKIPPED | SKIPPED | +---------------------+--------------------+------------------+-------------------+-------------------+-------------------------+----------------------+ | RHEL8 | PASS | PASS | SKIPPED | SKIPPED | SKIPPED | SKIPPED | +---------------------+--------------------+------------------+-------------------+-------------------+-------------------------+----------------------+ | RHEL9 | PASS | PASS | SKIPPED | SKIPPED | SKIPPED | SKIPPED | +---------------------+--------------------+------------------+-------------------+-------------------+-------------------------+----------------------+ | Ubuntu 20.04 | PASS | SKIPPED | SKIPPED | SKIPPED | SKIPPED | SKIPPED | +---------------------+--------------------+------------------+-------------------+-------------------+-------------------------+----------------------+ | Ubuntu 22.04 | PASS | PASS | PASS | SKIPPED | SKIPPED | SKIPPED | +---------------------+--------------------+------------------+-------------------+-------------------+-------------------------+----------------------+ | Alpine | PASS | PASS | SKIPPED | SKIPPED | SKIPPED | SKIPPED | +---------------------+--------------------+------------------+-------------------+-------------------+-------------------------+----------------------+ | FreeBSD 14.2 | PASS | SKIPPED | SKIPPED | SKIPPED | SKIPPED | SKIPPED | +---------------------+--------------------+------------------+-------------------+-------------------+-------------------------+----------------------+ | Ubuntu 24.04 | PASS | PASS | PASS | SKIPPED | SKIPPED | SKIPPED | +---------------------+--------------------+------------------+-------------------+-------------------+-------------------------+----------------------+ | Windows Server 2022 | SKIPPED | SKIPPED | SKIPPED | PASS | PASS | PASS | +---------------------+--------------------+------------------+-------------------+-------------------+-------------------------+----------------------+ CentOS Stream 9 Kernel: Depends on container host Compiler: gcc 11.5.0 20240719 (Red Hat 11.5.0-2) Fedora 39 (Clang) Kernel: Depends on container host Compiler: clang 17.0.6 (Fedora 17.0.6-2.fc39) Debian 12 Kernel: Depends on container host Compiler: gcc (Debian 12.2.0-14) 12.2.0 Fedora 39 Kernel: Depends on container host Compiler: gcc 13.3.1 20240522 (Red Hat 13.3.1-1) Fedora 40 (Clang) Kernel: Depends on container host Compiler: clang 18.1.8 (Fedora 18.1.8-1.fc40) Fedora 40 Kernel: Depends on container host Compiler: gcc 14.2.1 20240912 (Red Hat 14.2.1-3) FreeBSD 13.4 Kernel: 13.4-RELEASE-p1 Compiler: clang 18.1.6 openSUSE Leap 15 Kernel: Depends on container host Compiler: gcc (SUSE Linux) 7.5.0 RHEL8 Kernel: Depends on container host Compiler: gcc 8.5.0 20210514 (Red Hat 8.5.0-22) RHEL9 Kernel: Depends on container host Compiler: gcc 11.5.0 20240719 (Red Hat 11.5.0-2) Ubuntu 20.04 Kernel: Depends on container host Compiler: gcc (Ubuntu 9.4.0-1ubuntu1~20.04.2) 9.4.0 Ubuntu 22.04 Kernel: Depends on container host Compiler: gcc (Ubuntu 11.4.0-1ubuntu1~22.04) 11.4.0 Alpine Kernel: Depends on container host Compiler: gcc (Alpine 14.2.0) 14.2.0 FreeBSD 14.2 Kernel: 14.2-RELEASE Compiler: clang 18.1.6 Ubuntu 24.04 Kernel: Depends on container host Compiler: gcc (Ubuntu 13.3.0-6ubuntu2~24.04) 13.3.0 Windows Server 2022 Kernel: 10.0.20348.2031 Compiler: clang 15.0.7, gcc 14.1.0 (MinGW), and MSVC VS 19.39.33521 To view detailed results, visit: https://lab.dpdk.org/results/dashboard/patchsets/32057/ UNH-IOL DPDK Community Lab To manage your email subscriptions, visit: https://lab.dpdk.org/results/dashboard/preferences/subscriptions/