From mboxrd@z Thu Jan 1 00:00:00 1970 Return-Path: Received: from mails.dpdk.org (mails.dpdk.org [217.70.189.124]) by inbox.dpdk.org (Postfix) with ESMTP id DBC4B461BF for ; Fri, 7 Feb 2025 20:08:54 +0100 (CET) Received: from mails.dpdk.org (localhost [127.0.0.1]) by mails.dpdk.org (Postfix) with ESMTP id D638442ED5; Fri, 7 Feb 2025 20:08:54 +0100 (CET) Received: from mail-io1-f100.google.com (mail-io1-f100.google.com [209.85.166.100]) by mails.dpdk.org (Postfix) with ESMTP id AD57842E90 for ; Fri, 7 Feb 2025 20:08:53 +0100 (CET) Received: by mail-io1-f100.google.com with SMTP id ca18e2360f4ac-844e7bc6d84so76153439f.0 for ; Fri, 07 Feb 2025 11:08:53 -0800 (PST) DKIM-Signature: v=1; a=rsa-sha256; c=relaxed/relaxed; d=iol.unh.edu; s=unh-iol; t=1738955333; x=1739560133; darn=dpdk.org; h=references:in-reply-to:cc:to:from:subject:message-id:date:from:to :cc:subject:date:message-id:reply-to; bh=5Z2r9la85OZt4l+fpfJCwp45nVjbmcvzI0alWeLUV6w=; b=NlykLsHn8aZHLWGVz4hDY50pLJERJ5akSrDuo1w1eKU6ZiGNC9VW9gdF0T90xcw9pj 8V14c6+YqqOCKflQiX3mRfZCs6QzewWptpNllnHOHMdC3Kwdq1/BMVkjBbzgb//ySmLt bVKiXrJ/bKhc8ltvndk3+NcDKVeza2s7xg1mI= X-Google-DKIM-Signature: v=1; a=rsa-sha256; c=relaxed/relaxed; d=1e100.net; s=20230601; t=1738955333; x=1739560133; h=references:in-reply-to:cc:to:from:subject:message-id:date :x-gm-message-state:from:to:cc:subject:date:message-id:reply-to; bh=5Z2r9la85OZt4l+fpfJCwp45nVjbmcvzI0alWeLUV6w=; b=qwPJycy3b//uGj70rlf1/tzrjeoLCVXb7YwEHatQrHFH4fPz2RVMGv5KX8KIzw3Bhx JXQJEh7WOP5fqRHU7eWx+s6WTZE15XOBg66HCpVLdW6TFWUmctRip7EkWPsB5DysSsZs v4wG9oG24hKYy7oM4qjfb6fTK/Sh0jvIADwlNpJJjdINVFSfmfVv8oatjhR4BYROdgR9 MF58dP1S+Oj7fjkSnl4aPO1cYlUOKy+/itqcZ4AQxWp1xckN5fOK+peKc3vzy3bH3AYi vN1XVKGGtsrag9dsbIC8vl794ZWaIkX7ZozqMVtUh+U07xc3ZUkwrUY8KWkdrKAMWT8u /ZKQ== X-Gm-Message-State: AOJu0YzYkW0EfSEsQXA52eMZuLP4kEwJ7f1B6VNMrQfO8OSRy9wZrEr+ wVrEEvHnx3qJRgEXPWTDsEmvhZWNwSaHbmnQekje+nM+kBcFdTh0+2dbIRF4hf2MfTClGUhh70r yUW2b2S/BSYkCzhQbX/j7Eo1eV4zxZESSNrD6Rg4K X-Gm-Gg: ASbGncu4G+1h2h2CZ1aBOw/tvuDJvkpa1HTBYL3Db21Oq37JF8s+nsTVTS4I7t7KiMH JzpM72/R2BL1FzLU4uZhQgLw3nWlxqz9Wxbqr/L9v4/ag6L0JPVCUvgrTSx1cDtNnlMENgn2fl8 OvQZvFrbrpb0I/BlT8ck8SLjd+7fOZ5N6ORtiMB6KA0RlhZdETeysN8kjW9hKeqKuCNW5fWL1Uy f6TFIAdH71QgrsH4F5VOJoXrv6Rh+ZZcM3mV88lsjahbQBqADBVS9DAXMD/q5QFl39WoBnB1HBt wYIRy0rabARjGs4Z9G05WLGYAscQFQ== X-Google-Smtp-Source: AGHT+IG7rUjcGNvAg5s7McCAIO8hkQEPyDOffOBtCZKcxecWYjDTn67QTnqQTBPJWh7zCmOk2NrEOSG+IyDg X-Received: by 2002:a6b:7719:0:b0:841:99cb:776f with SMTP id ca18e2360f4ac-854f3a4caa3mr674258539f.6.1738955333039; Fri, 07 Feb 2025 11:08:53 -0800 (PST) Received: from postal.iol.unh.edu (postal.iol.unh.edu. [132.177.123.84]) by smtp-relay.gmail.com with ESMTPS id ca18e2360f4ac-854f6760775sm24369539f.29.2025.02.07.11.08.52 (version=TLS1_2 cipher=ECDHE-ECDSA-AES128-GCM-SHA256 bits=128/128); Fri, 07 Feb 2025 11:08:53 -0800 (PST) X-Relaying-Domain: iol.unh.edu Date: Fri, 07 Feb 2025 11:08:53 -0800 (PST) Message-ID: <67a65a45.050a0220.b4044.c6a2SMTPIN_ADDED_MISSING@mx.google.com> Received: from [172.21.0.5] (unknown [172.18.0.240]) by postal.iol.unh.edu (Postfix) with ESMTP id A747A6052472; Fri, 7 Feb 2025 14:08:52 -0500 (EST) Subject: |WARNING| pw151079-151088 [PATCH] [RFC,10/10] eal: deprecate weak sy From: dpdklab@iol.unh.edu To: Test Report Cc: dpdk-test-reports@iol.unh.edu In-Reply-To: <20250207083252.3131588-11-david.marchand@redhat.com> References: <20250207083252.3131588-11-david.marchand@redhat.com> Content-Type: text/plain X-BeenThere: test-report@dpdk.org X-Mailman-Version: 2.1.29 Precedence: list List-Id: automatic DPDK test reports List-Unsubscribe: , List-Archive: List-Post: List-Help: List-Subscribe: , Errors-To: test-report-bounces@dpdk.org Test-Label: iol-unit-arm64-testing Test-Status: WARNING http://dpdk.org/patch/151088 _Testing issues_ Submitter: David Marchand Date: Friday, February 07 2025 08:32:50 DPDK git baseline: Repo:dpdk Branch: master CommitID:1bf86800f7daf8d5c71a08a0776ff3b754ee6570 151079-151088 --> testing issues Upstream job id: Generic-Unit-Test-DPDK#312750 Test environment and result as below: +-----------------------------+----------------+--------------+---------------------------+------------------------------+ | Environment | dpdk_unit_test | lpm_autotest | cryptodev_sw_zuc_autotest | cryptodev_sw_snow3g_autotest | +=============================+================+==============+===========================+==============================+ | 32-bit Ubuntu 22.04.4 (ARM) | PASS | SKIPPED | SKIPPED | SKIPPED | +-----------------------------+----------------+--------------+---------------------------+------------------------------+ | Debian 11 (Buster) (ARM) | PASS | SKIPPED | SKIPPED | SKIPPED | +-----------------------------+----------------+--------------+---------------------------+------------------------------+ | CentOS Stream 9 (ARM) | PASS | SKIPPED | SKIPPED | SKIPPED | +-----------------------------+----------------+--------------+---------------------------+------------------------------+ | Debian 12 (arm) | PASS | SKIPPED | PASS | PASS | +-----------------------------+----------------+--------------+---------------------------+------------------------------+ | Fedora 40 (ARM) | PASS | SKIPPED | SKIPPED | SKIPPED | +-----------------------------+----------------+--------------+---------------------------+------------------------------+ | Fedora 41 (ARM) | PASS | SKIPPED | SKIPPED | SKIPPED | +-----------------------------+----------------+--------------+---------------------------+------------------------------+ | Fedora 40 (ARM Clang) | PASS | SKIPPED | SKIPPED | SKIPPED | +-----------------------------+----------------+--------------+---------------------------+------------------------------+ | Fedora 41 (ARM Clang) | PASS | SKIPPED | SKIPPED | SKIPPED | +-----------------------------+----------------+--------------+---------------------------+------------------------------+ | RHEL9 (ARM) | PASS | SKIPPED | SKIPPED | SKIPPED | +-----------------------------+----------------+--------------+---------------------------+------------------------------+ | Ubuntu 20.04 (ARM) | WARN | SKIPPED | SKIPPED | SKIPPED | +-----------------------------+----------------+--------------+---------------------------+------------------------------+ | Ubuntu 22.04 (ARM) | PASS | SKIPPED | SKIPPED | SKIPPED | +-----------------------------+----------------+--------------+---------------------------+------------------------------+ | Ubuntu 24.04 (ARM) | PASS | SKIPPED | SKIPPED | SKIPPED | +-----------------------------+----------------+--------------+---------------------------+------------------------------+ | Ubuntu 20.04 ARM SVE | SKIPPED | PASS | SKIPPED | SKIPPED | +-----------------------------+----------------+--------------+---------------------------+------------------------------+ ==== 20 line log output for Ubuntu 20.04 (ARM) (dpdk_unit_test): ==== /usr/bin/ld: drivers/libtmp_rte_net_hns3.a.p/net_hns3_hns3_rxtx.c.o: in function `hns3_dev_supported_ptypes_get': hns3_rxtx.c:(.text+0xa33c): undefined reference to `hns3_recv_pkts_vec_sve' /usr/bin/ld: hns3_rxtx.c:(.text+0xa340): undefined reference to `hns3_recv_pkts_vec_sve' /usr/bin/ld: drivers/libtmp_rte_net_hns3.a.p/net_hns3_hns3_rxtx.c.o: in function `hns3_rx_burst_mode_get': hns3_rxtx.c:(.text+0xa684): undefined reference to `hns3_recv_pkts_vec_sve' /usr/bin/ld: drivers/libtmp_rte_net_hns3.a.p/net_hns3_hns3_rxtx.c.o:hns3_rxtx.c:(.text+0xa688): more undefined references to `hns3_recv_pkts_vec_sve' follow /usr/bin/ld: drivers/libtmp_rte_net_hns3.a.p/net_hns3_hns3_rxtx.c.o: in function `hns3_tx_burst_mode_get': hns3_rxtx.c:(.text+0xae84): undefined reference to `hns3_xmit_pkts_vec_sve' /usr/bin/ld: hns3_rxtx.c:(.text+0xae88): undefined reference to `hns3_xmit_pkts_vec_sve' /usr/bin/ld: drivers/libtmp_rte_net_hns3.a.p/net_hns3_hns3_rxtx.c.o: in function `hns3_rx_queue_count': hns3_rxtx.c:(.text+0xc2f0): undefined reference to `hns3_recv_pkts_vec_sve' /usr/bin/ld: hns3_rxtx.c:(.text+0xc2f8): undefined reference to `hns3_recv_pkts_vec_sve' /usr/bin/ld: drivers/libtmp_rte_net_hns3.a.p/net_hns3_hns3_dump.c.o: in function `hns3_eth_dev_priv_dump': hns3_dump.c:(.text+0x748): undefined reference to `hns3_recv_pkts_vec_sve' /usr/bin/ld: hns3_dump.c:(.text+0x754): undefined reference to `hns3_recv_pkts_vec_sve' collect2: error: ld returned 1 exit status [1675/3378] Linking target drivers/librte_net_cnxk.so.25.1 [1676/3378] Compiling C object drivers/libtmp_rte_net_cpfl.a.p/net_intel_cpfl_cpfl_rxtx.c.o [1677/3378] Compiling C object drivers/libtmp_rte_net_cpfl.a.p/net_intel_cpfl_cpfl_ethdev.c.o ninja: build stopped: subcommand failed. ==== End log output ==== 32-bit Ubuntu 22.04.4 (ARM) Kernel: 5.15.83+ aarch64 Compiler: gcc (Ubuntu 11.4.0-1ubuntu1~22.04) 11.4.0 Debian 11 (Buster) (ARM) Kernel: Depends on container host Compiler: gcc (Debian 10.2.1-6) 10.2.1 20210110 CentOS Stream 9 (ARM) Kernel: Depends on container host Compiler: gcc 11.5.0 20240719 (Red Hat 11.5.0-2) Debian 12 (arm) Kernel: Depends on container host Compiler: gcc (Debian 12.2.0-14) 12.2.0 Fedora 40 (ARM) Kernel: Depends on container host Compiler: gcc 14.2.1 20240912 (Red Hat 14.2.1-3) Fedora 41 (ARM) Kernel: Depends on container host Compiler: gcc 14.2.1 20240912 (Red Hat 14.2.1-3) Fedora 40 (ARM Clang) Kernel: Depends on container host Compiler: clang 18.1.8 (Fedora 18.1.8-1.fc40) Fedora 41 (ARM Clang) Kernel: Depends on container host Compiler: clang 19.1.5 (Fedora 19.1.5-1.fc41) RHEL9 (ARM) Kernel: Depends on container host Compiler: gcc 11.5.0 20240719 (Red Hat 11.5.0-2) Ubuntu 20.04 (ARM) Kernel: Depends on container host Compiler: gcc (Ubuntu 9.4.0-1ubuntu1~20.04.2) 9.4.0 Ubuntu 22.04 (ARM) Kernel: Depends on container host Compiler: gcc (Ubuntu 11.4.0-1ubuntu1~22.04) 11.4.0 Ubuntu 24.04 (ARM) Kernel: Depends on container host Compiler: gcc (Ubuntu 13.3.0-6ubuntu2~24.04) 13.3.0 Ubuntu 20.04 ARM SVE Kernel: Depends on container host Compiler: gcc (Ubuntu 10.5.0-1ubuntu1~20.04) 10.5.0 To view detailed results, visit: https://lab.dpdk.org/results/dashboard/patchsets/32520/ UNH-IOL DPDK Community Lab To manage your email subscriptions, visit: https://lab.dpdk.org/results/dashboard/preferences/subscriptions/