From mboxrd@z Thu Jan 1 00:00:00 1970 Return-Path: Received: from mails.dpdk.org (mails.dpdk.org [217.70.189.124]) by inbox.dpdk.org (Postfix) with ESMTP id F335B461BF for ; Fri, 7 Feb 2025 20:13:10 +0100 (CET) Received: from mails.dpdk.org (localhost [127.0.0.1]) by mails.dpdk.org (Postfix) with ESMTP id D219842ED5; Fri, 7 Feb 2025 20:13:10 +0100 (CET) Received: from mail-pl1-f225.google.com (mail-pl1-f225.google.com [209.85.214.225]) by mails.dpdk.org (Postfix) with ESMTP id 5CCD742E90 for ; Fri, 7 Feb 2025 20:13:09 +0100 (CET) Received: by mail-pl1-f225.google.com with SMTP id d9443c01a7336-21ddab8800bso35730095ad.3 for ; Fri, 07 Feb 2025 11:13:09 -0800 (PST) DKIM-Signature: v=1; a=rsa-sha256; c=relaxed/relaxed; d=iol.unh.edu; s=unh-iol; t=1738955588; x=1739560388; darn=dpdk.org; h=references:in-reply-to:cc:to:from:subject:message-id:date:from:to :cc:subject:date:message-id:reply-to; bh=Fvtvs3CBpKmXwal55N2GIl7R3HDd1DOiJzSb3e/y0KA=; b=HyNhMLpm5QWJtnbfAQBUvnwLBpUiE36tncnDGT8/reNgVUQiQXknU17JawySrrh4hC ULI0oEWk+c7Pl4dDYs1uVHzv12g8ypnl3Dl2p72utuqOn3ev7bIuLUx+v/onLlTq4FAs u66exM7zYh+F7W3M1JWSg3OBeyMG45saLXFc8= X-Google-DKIM-Signature: v=1; a=rsa-sha256; c=relaxed/relaxed; d=1e100.net; s=20230601; t=1738955588; x=1739560388; h=references:in-reply-to:cc:to:from:subject:message-id:date :x-gm-message-state:from:to:cc:subject:date:message-id:reply-to; bh=Fvtvs3CBpKmXwal55N2GIl7R3HDd1DOiJzSb3e/y0KA=; b=T0lbxtbV4h/JBD6UqNr9VkaV+QkOtpwUmCbQy11+32J5/kBl+78nGptV628VMSArg2 h+Wo420Xi7R82BrW1ngXSFV84oe51E6IpJtJEa3W+uPeCWJfNG/TI0cW7fzXgGjDFYpO zDPsms+w5+6psb1D7WgmFw2Ali8ZMN+AHV/iOKcgSNDkPtFCGGKZu2uVDOgDxGBLkseG 5NIES0jcJcm307IYfKJwDe+8iU/0ouFUgdjizV2PM73uDWSUBXKwhC8tzi8SfP7YZvs2 hoqe9mjvLItUxND/yL4I+USZFrq1WThrWsfBVZUC9rwvzcHzDVtnjVKQ78n3CX+mwwrQ 0zyA== X-Gm-Message-State: AOJu0YzD6MtbDrGtbZ7QyMj+7cm3XZifL+XlW5nZN2NE6/yQ9DXGScId uhLP9V6aoHzXJzUiBpGTSqBMDlUxynHaDVUnmmUE6gd6XiyGQTuZjpemCUEoKeiMo5hLX5uNwUE +CJn5Kg/kevHCRCI5LoqZAGmzNjIl9BYiMXP1Ia1i X-Gm-Gg: ASbGncvt9Z44l5ap2OnP6LdcU92SEr8HNWM7rxCYimqLNoIW0keZb6BtsM5IQlQpFp7 U+tdfdcOFhUuuH3KfgeX3KCNr7GlR3ETFTq1LPFcRWISUNYOLwtGZ2hqogaZHTdcRGxGqpPCpz0 THgBrLA+PhkRIOTWNMMNchC//hLXN+lsikfwE2hnaFmWwD08GFkDWpgXpBHAD0AaNgMsRZ2J5QI zL4jY08z77HrzQa/UeDseIDHPbtmJWDXVQW8TUTLWsNlBaumaRmMILzNcAkNXlG43wB0CxEyItX AKOTgsr9tWiJghReApXGyTvHorEAJA== X-Google-Smtp-Source: AGHT+IGRQYguO/jtKBOfXGJymOuoMySstRA/Ar8T8beuw3KZuJJPqkoMi8mv3Buod/Sop2eAKUvGWq8fVtDs X-Received: by 2002:a17:902:f681:b0:216:2dc4:50ab with SMTP id d9443c01a7336-21f4e1cb849mr71922215ad.2.1738955588411; Fri, 07 Feb 2025 11:13:08 -0800 (PST) Received: from postal.iol.unh.edu (postal.iol.unh.edu. [132.177.123.84]) by smtp-relay.gmail.com with ESMTPS id d9443c01a7336-21f3653bab3sm2133735ad.36.2025.02.07.11.13.08 (version=TLS1_2 cipher=ECDHE-ECDSA-AES128-GCM-SHA256 bits=128/128); Fri, 07 Feb 2025 11:13:08 -0800 (PST) X-Relaying-Domain: iol.unh.edu Date: Fri, 07 Feb 2025 11:13:08 -0800 (PST) Message-ID: <67a65b44.170a0220.2a91d5.b163SMTPIN_ADDED_MISSING@mx.google.com> Received: from [172.21.0.5] (unknown [172.18.0.240]) by postal.iol.unh.edu (Postfix) with ESMTP id DB9D36052472; Fri, 7 Feb 2025 14:12:37 -0500 (EST) Subject: |SUCCESS| pw151129-151131 [PATCH] [3/3] test/event: unit test to bur From: dpdklab@iol.unh.edu To: Test Report Cc: dpdk-test-reports@iol.unh.edu In-Reply-To: <20250207140910.721374-4-sthotton@marvell.com> References: <20250207140910.721374-4-sthotton@marvell.com> Content-Type: text/plain X-BeenThere: test-report@dpdk.org X-Mailman-Version: 2.1.29 Precedence: list List-Id: automatic DPDK test reports List-Unsubscribe: , List-Archive: List-Post: List-Help: List-Subscribe: , Errors-To: test-report-bounces@dpdk.org Test-Label: iol-compile-amd64-testing Test-Status: SUCCESS http://dpdk.org/patch/151131 _Testing PASS_ Submitter: Shijith Thotton Date: Friday, February 07 2025 14:09:10 DPDK git baseline: Repo:dpdk Branch: master CommitID:32c18e7364e30a8e43cc7cc6709a7ce606fa285e 151129-151131 --> testing pass Upstream job id: Windows-Compile-DPDK-Native#26524 Test environment and result as below: +---------------------+-------------------+--------------------+-------------------------+ | Environment | dpdk_msvc_compile | dpdk_meson_compile | dpdk_llvm_clang_compile | +=====================+===================+====================+=========================+ | Windows Server 2022 | PASS | SKIPPED | PASS | +---------------------+-------------------+--------------------+-------------------------+ | FreeBSD 13.4 | SKIPPED | PASS | SKIPPED | +---------------------+-------------------+--------------------+-------------------------+ Windows Server 2022 Kernel: 10.0.20348.2031 Compiler: clang 15.0.7, gcc 14.1.0 (MinGW), and MSVC VS 19.39.33521 FreeBSD 13.4 Kernel: 13.4-RELEASE-p1 Compiler: clang 18.1.6 To view detailed results, visit: https://lab.dpdk.org/results/dashboard/patchsets/32525/ UNH-IOL DPDK Community Lab To manage your email subscriptions, visit: https://lab.dpdk.org/results/dashboard/preferences/subscriptions/