From mboxrd@z Thu Jan 1 00:00:00 1970 Return-Path: Received: from mails.dpdk.org (mails.dpdk.org [217.70.189.124]) by inbox.dpdk.org (Postfix) with ESMTP id 9C6F6461BF for ; Fri, 7 Feb 2025 20:26:41 +0100 (CET) Received: from mails.dpdk.org (localhost [127.0.0.1]) by mails.dpdk.org (Postfix) with ESMTP id 78958402CE; Fri, 7 Feb 2025 20:26:41 +0100 (CET) Received: from mail-qv1-f100.google.com (mail-qv1-f100.google.com [209.85.219.100]) by mails.dpdk.org (Postfix) with ESMTP id 3FD034029E for ; Fri, 7 Feb 2025 20:26:40 +0100 (CET) Received: by mail-qv1-f100.google.com with SMTP id 6a1803df08f44-6e42ff4f64cso29119856d6.1 for ; Fri, 07 Feb 2025 11:26:40 -0800 (PST) DKIM-Signature: v=1; a=rsa-sha256; c=relaxed/relaxed; d=iol.unh.edu; s=unh-iol; t=1738956399; x=1739561199; darn=dpdk.org; h=references:in-reply-to:cc:to:from:subject:message-id:date:from:to :cc:subject:date:message-id:reply-to; bh=tT/h88zJn7aCqmjhKE/FV+KFxjcQTmf5eEQp7RfVEks=; b=X66gV9lfN+din+cYQrfDrxmLGCpBzF/vTsmTekm2YMjfpTetCGWE027/fRVk/nrrw5 GxmJjYzkMtkcqEZ9SYDFedhPV0lepErNrUWnBxuyIUJg+DjPolWvTnIJDL4TxOr0cdHF 0lXKI08mbZ9p7cbCm8ZOBVg3Ih9fTNCm9X8Z8= X-Google-DKIM-Signature: v=1; a=rsa-sha256; c=relaxed/relaxed; d=1e100.net; s=20230601; t=1738956399; x=1739561199; h=references:in-reply-to:cc:to:from:subject:message-id:date :x-gm-message-state:from:to:cc:subject:date:message-id:reply-to; bh=tT/h88zJn7aCqmjhKE/FV+KFxjcQTmf5eEQp7RfVEks=; b=M7iaQtuFUfCZQyhZ/mtQZ2YoC0IA//Bx7F/btYaJdV4q0FCPEC+eudWuiV4wex5A3p KC5QPG2LwfWSrYmB8Cc/VfRlRNPNF4nxSZMx7zNN6Wy0WBVPTY4ObT+COm1Gx0I1+Jna q2JSMF7cp43+beU6i2jINpXCPTh1xwDTrrOfVEaqX61umV7NT9Ur7McNjiwbUHjIoaef iWethgv0xHdULOP3emViuQLZNJSgZWdkNeXO50RmiCBx+wVhRPaLXg0OgNOKQA6h5D2I zJRXqe0lZTQrDmxw9FLL2l6GAg5cU4LOw2gLGrvUtXPOv8NOTyF0U+lZhO9Xj7u3gObv fRYA== X-Gm-Message-State: AOJu0Ywzgi+rZKMXa9B/hgocMDNyzSnQhhqp2jMAfWud0akm8dTfAyMQ ihABMvF9a04Tc9lAskbFSswrmg/MJCq37FJiDzul26jB2baUUTODouzK588m9TUMs/D4Tz2xM4t B86s1FannjTz26t75PVwzHL3HGIgZhm+gRDSUPhib X-Gm-Gg: ASbGncsp4TMRbLuInkJ9EVhEQF2vQDcxe5EbZyzWofg4sj6J4Iqc8HlTl/u0qYp0h4q uhus16e5u2/TyJ1n+csQ7mExZeDdei/KuZZ8Yoe56TAATBKHF1nATd4pwJ3qwVy4kKxw+l927vB VDbRmQq/9mSLiCseHfCpOkyg0uPGKqgDvznNjHhBVfdgeq3TA3DdkA6OeSEtWMqu/JDkSqU92Ir dmelDVmV8IVlUZQ6SHvhLRGEaStsOBxFt5T5qLuRmSvScK5bPmvy7pTde2KeN4hdYTdGERtM4E/ 8xXwJ9r0r/W1z8hKzy3V3Rj9W4skhg== X-Google-Smtp-Source: AGHT+IE3m1BY62i1GticXZ+AiK1ACKqQcCQ+g7Gw4GqylBJP6qFoSj+CZI0R+MNLHtDKawjMmmb8vLlczAkW X-Received: by 2002:ad4:5ca6:0:b0:6d8:99cf:d2d0 with SMTP id 6a1803df08f44-6e445a43c28mr71042536d6.19.1738956399585; Fri, 07 Feb 2025 11:26:39 -0800 (PST) Received: from postal.iol.unh.edu (postal.iol.unh.edu. [132.177.123.84]) by smtp-relay.gmail.com with ESMTPS id 6a1803df08f44-6e4490afbfesm1119396d6.4.2025.02.07.11.26.39 (version=TLS1_2 cipher=ECDHE-ECDSA-AES128-GCM-SHA256 bits=128/128); Fri, 07 Feb 2025 11:26:39 -0800 (PST) X-Relaying-Domain: iol.unh.edu Date: Fri, 07 Feb 2025 11:26:39 -0800 (PST) Message-ID: <67a65e6f.050a0220.366b5.5d31SMTPIN_ADDED_MISSING@mx.google.com> Received: from [172.21.0.5] (unknown [172.18.0.240]) by postal.iol.unh.edu (Postfix) with ESMTP id 36F7F6052471; Fri, 7 Feb 2025 14:26:09 -0500 (EST) Subject: |SUCCESS| pw151089 [PATCH] common/qat: fix incorrect size in the par From: dpdklab@iol.unh.edu To: Test Report Cc: dpdk-test-reports@iol.unh.edu In-Reply-To: <20250207095832.4032332-1-arkadiuszx.kusztal@intel.com> References: <20250207095832.4032332-1-arkadiuszx.kusztal@intel.com> Content-Type: text/plain X-BeenThere: test-report@dpdk.org X-Mailman-Version: 2.1.29 Precedence: list List-Id: automatic DPDK test reports List-Unsubscribe: , List-Archive: List-Post: List-Help: List-Subscribe: , Errors-To: test-report-bounces@dpdk.org Test-Label: iol-unit-arm64-testing Test-Status: SUCCESS http://dpdk.org/patch/151089 _Testing PASS_ Submitter: Arkadiusz Kusztal Date: Friday, February 07 2025 09:58:32 DPDK git baseline: Repo:dpdk Branch: master CommitID:7125636162d67b1c40ba6802a3ff4466d125d243 151089 --> testing pass Upstream job id: Generic-Unit-Test-DPDK#312767 Test environment and result as below: +-----------------------------+----------------+---------------------------+--------------+------------------------------+ | Environment | dpdk_unit_test | cryptodev_sw_zuc_autotest | lpm_autotest | cryptodev_sw_snow3g_autotest | +=============================+================+===========================+==============+==============================+ | 32-bit Ubuntu 22.04.4 (ARM) | PASS | SKIPPED | SKIPPED | SKIPPED | +-----------------------------+----------------+---------------------------+--------------+------------------------------+ | Debian 12 (arm) | PASS | PASS | SKIPPED | PASS | +-----------------------------+----------------+---------------------------+--------------+------------------------------+ | CentOS Stream 9 (ARM) | PASS | SKIPPED | SKIPPED | SKIPPED | +-----------------------------+----------------+---------------------------+--------------+------------------------------+ | Debian 11 (Buster) (ARM) | PASS | SKIPPED | SKIPPED | SKIPPED | +-----------------------------+----------------+---------------------------+--------------+------------------------------+ | Fedora 40 (ARM) | PASS | SKIPPED | SKIPPED | SKIPPED | +-----------------------------+----------------+---------------------------+--------------+------------------------------+ | Fedora 41 (ARM) | PASS | SKIPPED | SKIPPED | SKIPPED | +-----------------------------+----------------+---------------------------+--------------+------------------------------+ | Fedora 40 (ARM Clang) | PASS | SKIPPED | SKIPPED | SKIPPED | +-----------------------------+----------------+---------------------------+--------------+------------------------------+ | Fedora 41 (ARM Clang) | PASS | SKIPPED | SKIPPED | SKIPPED | +-----------------------------+----------------+---------------------------+--------------+------------------------------+ | RHEL9 (ARM) | PASS | SKIPPED | SKIPPED | SKIPPED | +-----------------------------+----------------+---------------------------+--------------+------------------------------+ | Ubuntu 20.04 (ARM) | PASS | SKIPPED | SKIPPED | SKIPPED | +-----------------------------+----------------+---------------------------+--------------+------------------------------+ | Ubuntu 22.04 (ARM) | PASS | SKIPPED | SKIPPED | SKIPPED | +-----------------------------+----------------+---------------------------+--------------+------------------------------+ | Ubuntu 24.04 (ARM) | PASS | SKIPPED | SKIPPED | SKIPPED | +-----------------------------+----------------+---------------------------+--------------+------------------------------+ | Ubuntu 20.04 ARM SVE | SKIPPED | SKIPPED | PASS | SKIPPED | +-----------------------------+----------------+---------------------------+--------------+------------------------------+ 32-bit Ubuntu 22.04.4 (ARM) Kernel: 5.15.83+ aarch64 Compiler: gcc (Ubuntu 11.4.0-1ubuntu1~22.04) 11.4.0 Debian 12 (arm) Kernel: Depends on container host Compiler: gcc (Debian 12.2.0-14) 12.2.0 CentOS Stream 9 (ARM) Kernel: Depends on container host Compiler: gcc 11.5.0 20240719 (Red Hat 11.5.0-2) Debian 11 (Buster) (ARM) Kernel: Depends on container host Compiler: gcc (Debian 10.2.1-6) 10.2.1 20210110 Fedora 40 (ARM) Kernel: Depends on container host Compiler: gcc 14.2.1 20240912 (Red Hat 14.2.1-3) Fedora 41 (ARM) Kernel: Depends on container host Compiler: gcc 14.2.1 20240912 (Red Hat 14.2.1-3) Fedora 40 (ARM Clang) Kernel: Depends on container host Compiler: clang 18.1.8 (Fedora 18.1.8-1.fc40) Fedora 41 (ARM Clang) Kernel: Depends on container host Compiler: clang 19.1.5 (Fedora 19.1.5-1.fc41) RHEL9 (ARM) Kernel: Depends on container host Compiler: gcc 11.5.0 20240719 (Red Hat 11.5.0-2) Ubuntu 20.04 (ARM) Kernel: Depends on container host Compiler: gcc (Ubuntu 9.4.0-1ubuntu1~20.04.2) 9.4.0 Ubuntu 22.04 (ARM) Kernel: Depends on container host Compiler: gcc (Ubuntu 11.4.0-1ubuntu1~22.04) 11.4.0 Ubuntu 24.04 (ARM) Kernel: Depends on container host Compiler: gcc (Ubuntu 13.3.0-6ubuntu2~24.04) 13.3.0 Ubuntu 20.04 ARM SVE Kernel: Depends on container host Compiler: gcc (Ubuntu 10.5.0-1ubuntu1~20.04) 10.5.0 To view detailed results, visit: https://lab.dpdk.org/results/dashboard/patchsets/32521/ UNH-IOL DPDK Community Lab To manage your email subscriptions, visit: https://lab.dpdk.org/results/dashboard/preferences/subscriptions/