From mboxrd@z Thu Jan 1 00:00:00 1970 Return-Path: Received: from mails.dpdk.org (mails.dpdk.org [217.70.189.124]) by inbox.dpdk.org (Postfix) with ESMTP id E394A461BF for ; Fri, 7 Feb 2025 20:31:17 +0100 (CET) Received: from mails.dpdk.org (localhost [127.0.0.1]) by mails.dpdk.org (Postfix) with ESMTP id AC825402EB; Fri, 7 Feb 2025 20:31:17 +0100 (CET) Received: from mail-oa1-f98.google.com (mail-oa1-f98.google.com [209.85.160.98]) by mails.dpdk.org (Postfix) with ESMTP id 5C1194029E for ; Fri, 7 Feb 2025 20:31:16 +0100 (CET) Received: by mail-oa1-f98.google.com with SMTP id 586e51a60fabf-2b846648996so584387fac.1 for ; Fri, 07 Feb 2025 11:31:16 -0800 (PST) DKIM-Signature: v=1; a=rsa-sha256; c=relaxed/relaxed; d=iol.unh.edu; s=unh-iol; t=1738956675; x=1739561475; darn=dpdk.org; h=references:in-reply-to:cc:to:from:subject:message-id:date:from:to :cc:subject:date:message-id:reply-to; bh=tNx7vhwYj+HBhiRYS/T27D5b8s2x4xH44m+P0RHoLPg=; b=d8HzTwzZhOSV6EAB6DCRXJyY4GPrTavcBWr8k4Lve6B/MZ0+DnyIET45F7Y4E/u+UJ oIVPcTO25UKwlgvdhlidh4xmYPa5Sg3vjLoQJ/8SgViUu34lK9r4BLdpJXRg9RaGxU9C L8oZcZVi3ks4HcvC690kkPaJP0EyXRaYLJNUM= X-Google-DKIM-Signature: v=1; a=rsa-sha256; c=relaxed/relaxed; d=1e100.net; s=20230601; t=1738956675; x=1739561475; h=references:in-reply-to:cc:to:from:subject:message-id:date :x-gm-message-state:from:to:cc:subject:date:message-id:reply-to; bh=tNx7vhwYj+HBhiRYS/T27D5b8s2x4xH44m+P0RHoLPg=; b=xD9Rm8GRMEYm8dX6auu0bgKTVTuNbiLvc9VM8BscuR2ItDNtFBYXtFvINgpysJ9AxX ZwYN+3PbXpVc+1YW7Veus1/EAQRx4RQqiRWvxdH9FIviZaSJ1Ed4Iuqn77pHxAwAVHco WKUVDsrxeD01d/3OVVOcAgXVVftOPzsX9uCj68zoCGeic7t7lJDsjpXsvcv4BfJsCYOd Kv+zMUxBl5w1RuugWaPMyHCZvdnyFkV114wdYur1Hc9+2wrrKzv8yEpWQgIEbHRQa9EO LudsvMK9TTFd4+f//DFr256IoHc5W/w14rzvNN5E1e2kL3z1hss2S2MzX5qEuT2/duqu 3gqA== X-Gm-Message-State: AOJu0YxqyNmLVddKlMZKTNBCI13IA8SElH9dncVxjg/awQ9TjPPwYGOb N45/gb0R5QfbDpppvQpQuxcg11Re/TQcC+iHlRCHNDbxeHQeDtEN3yP5O5NQFnmyFq0nXOPViLz rCOwGTfKKpcv0Zwl1sZRNNAVWtHl3KFxcxbYWB9DO X-Gm-Gg: ASbGncs3oA2uJ6lnp0P5+LhHllZfoLCzsEDzE4t7DnfqwdAjauU43gQ9pRFvak5/JMj YCbtD1I+dNs4W++NKGHXkjZ3i4srr+9k3g68cfx4hmag2W6BmB6IbF5IsBke2MB7InqeUTpZ5wc +ERXR6XkJj0VDfxguodLkMXNqTn0fHJHepZOFDsPH93Uz2VPdsmXaYRj6FaUqSfEjKjSKWF7clB 687AyJYf5l7AmHr5Yjq/UYyeQd/P7qk4v2eTY3tkpxiDdS7A3iMTOPUbCenTZhJGfSWu4yOg8h6 W2UqCMbFqjGLIJ0FazOVllu/QA3RRA== X-Google-Smtp-Source: AGHT+IE5KNDI67Amp1ulgZgIulqrtoA+8IfHu5f/mYbj43+d+L4jDOzmp4P+N9/wbVV8JvT7vGaII/bP+GJz X-Received: by 2002:a05:6870:3908:b0:29e:4111:fefc with SMTP id 586e51a60fabf-2b83ec11e2emr2563751fac.12.1738956675369; Fri, 07 Feb 2025 11:31:15 -0800 (PST) Received: from postal.iol.unh.edu (postal.iol.unh.edu. [132.177.123.84]) by smtp-relay.gmail.com with ESMTPS id 586e51a60fabf-2b825fc0936sm214171fac.12.2025.02.07.11.31.15 (version=TLS1_2 cipher=ECDHE-ECDSA-AES128-GCM-SHA256 bits=128/128); Fri, 07 Feb 2025 11:31:15 -0800 (PST) X-Relaying-Domain: iol.unh.edu Date: Fri, 07 Feb 2025 11:31:15 -0800 (PST) Message-ID: <67a65f83.050a0220.115969.b662SMTPIN_ADDED_MISSING@mx.google.com> Received: from [172.21.0.7] (unknown [172.18.0.240]) by postal.iol.unh.edu (Postfix) with ESMTP id CC9E26052472; Fri, 7 Feb 2025 14:30:44 -0500 (EST) Subject: |SUCCESS| pw150597-150600 [PATCH] [RFC,4/4] dma/cnxk: implement enqu From: dpdklab@iol.unh.edu To: Test Report Cc: dpdk-test-reports@iol.unh.edu In-Reply-To: <20250129143649.3887989-4-kshankar@marvell.com> References: <20250129143649.3887989-4-kshankar@marvell.com> Content-Type: text/plain X-BeenThere: test-report@dpdk.org X-Mailman-Version: 2.1.29 Precedence: list List-Id: automatic DPDK test reports List-Unsubscribe: , List-Archive: List-Post: List-Help: List-Subscribe: , Errors-To: test-report-bounces@dpdk.org Test-Label: iol-compile-amd64-testing Test-Status: SUCCESS http://dpdk.org/patch/150600 _Testing PASS_ Submitter: Kommula Shiva Shankar Date: Wednesday, January 29 2025 14:36:49 DPDK git baseline: Repo:dpdk Branch: master CommitID:21cab84f6f8c946fabf72fdb03ce4b274887b950 150597-150600 --> testing pass Test environment and result as below: +---------------------+--------------------+------------------+-------------------+-------------------+----------------------+-------------------------+ | Environment | dpdk_meson_compile | dpdk_compile_ovs | dpdk_compile_spdk | dpdk_msvc_compile | dpdk_mingw64_compile | dpdk_llvm_clang_compile | +=====================+====================+==================+===================+===================+======================+=========================+ | CentOS Stream 9 | PASS | PASS | PASS | SKIPPED | SKIPPED | SKIPPED | +---------------------+--------------------+------------------+-------------------+-------------------+----------------------+-------------------------+ | Debian Bullseye | PASS | PASS | PASS | SKIPPED | SKIPPED | SKIPPED | +---------------------+--------------------+------------------+-------------------+-------------------+----------------------+-------------------------+ | Debian 12 | PASS | PASS | PASS | SKIPPED | SKIPPED | SKIPPED | +---------------------+--------------------+------------------+-------------------+-------------------+----------------------+-------------------------+ | Fedora 40 (Clang) | PASS | PASS | PASS | SKIPPED | SKIPPED | SKIPPED | +---------------------+--------------------+------------------+-------------------+-------------------+----------------------+-------------------------+ | Fedora 41 (Clang) | PASS | PASS | PASS | SKIPPED | SKIPPED | SKIPPED | +---------------------+--------------------+------------------+-------------------+-------------------+----------------------+-------------------------+ | openSUSE Leap 15 | PASS | SKIPPED | SKIPPED | SKIPPED | SKIPPED | SKIPPED | +---------------------+--------------------+------------------+-------------------+-------------------+----------------------+-------------------------+ | RHEL8 | PASS | PASS | SKIPPED | SKIPPED | SKIPPED | SKIPPED | +---------------------+--------------------+------------------+-------------------+-------------------+----------------------+-------------------------+ | Fedora 41 | PASS | PASS | PASS | SKIPPED | SKIPPED | SKIPPED | +---------------------+--------------------+------------------+-------------------+-------------------+----------------------+-------------------------+ | RHEL9 | PASS | PASS | SKIPPED | SKIPPED | SKIPPED | SKIPPED | +---------------------+--------------------+------------------+-------------------+-------------------+----------------------+-------------------------+ | Ubuntu 20.04 | PASS | SKIPPED | SKIPPED | SKIPPED | SKIPPED | SKIPPED | +---------------------+--------------------+------------------+-------------------+-------------------+----------------------+-------------------------+ | Ubuntu 22.04 | PASS | PASS | PASS | SKIPPED | SKIPPED | SKIPPED | +---------------------+--------------------+------------------+-------------------+-------------------+----------------------+-------------------------+ | Ubuntu 24.04 | PASS | PASS | PASS | SKIPPED | SKIPPED | SKIPPED | +---------------------+--------------------+------------------+-------------------+-------------------+----------------------+-------------------------+ | Alpine | PASS | PASS | SKIPPED | SKIPPED | SKIPPED | SKIPPED | +---------------------+--------------------+------------------+-------------------+-------------------+----------------------+-------------------------+ | FreeBSD 13.4 | PASS | SKIPPED | SKIPPED | SKIPPED | SKIPPED | SKIPPED | +---------------------+--------------------+------------------+-------------------+-------------------+----------------------+-------------------------+ | FreeBSD 14.2 | PASS | SKIPPED | SKIPPED | SKIPPED | SKIPPED | SKIPPED | +---------------------+--------------------+------------------+-------------------+-------------------+----------------------+-------------------------+ | Fedora 40 | PASS | PASS | PASS | SKIPPED | SKIPPED | SKIPPED | +---------------------+--------------------+------------------+-------------------+-------------------+----------------------+-------------------------+ | Windows Server 2022 | SKIPPED | SKIPPED | SKIPPED | PASS | PASS | PASS | +---------------------+--------------------+------------------+-------------------+-------------------+----------------------+-------------------------+ CentOS Stream 9 Kernel: Depends on container host Compiler: gcc 11.5.0 20240719 (Red Hat 11.5.0-2) Debian Bullseye Kernel: Depends on container host Compiler: gcc (Debian 10.2.1-6) 10.2.1 20210110 Debian 12 Kernel: Depends on container host Compiler: gcc (Debian 12.2.0-14) 12.2.0 Fedora 40 (Clang) Kernel: Depends on container host Compiler: clang 18.1.8 (Fedora 18.1.8-1.fc40) Fedora 41 (Clang) Kernel: Depends on container host Compiler: clang 19.1.5 (Fedora 19.1.5-1.fc41) openSUSE Leap 15 Kernel: Depends on container host Compiler: gcc (SUSE Linux) 7.5.0 RHEL8 Kernel: Depends on container host Compiler: gcc 8.5.0 20210514 (Red Hat 8.5.0-22) Fedora 41 Kernel: Depends on container host Compiler: gcc 14.2.1 20240912 (Red Hat 14.2.1-3) RHEL9 Kernel: Depends on container host Compiler: gcc 11.5.0 20240719 (Red Hat 11.5.0-2) Ubuntu 20.04 Kernel: Depends on container host Compiler: gcc (Ubuntu 9.4.0-1ubuntu1~20.04.2) 9.4.0 Ubuntu 22.04 Kernel: Depends on container host Compiler: gcc (Ubuntu 11.4.0-1ubuntu1~22.04) 11.4.0 Ubuntu 24.04 Kernel: Depends on container host Compiler: gcc (Ubuntu 13.3.0-6ubuntu2~24.04) 13.3.0 Alpine Kernel: Depends on container host Compiler: gcc (Alpine 14.2.0) 14.2.0 FreeBSD 13.4 Kernel: 13.4-RELEASE-p1 Compiler: clang 18.1.6 FreeBSD 14.2 Kernel: 14.2-RELEASE Compiler: clang 18.1.6 Fedora 40 Kernel: Depends on container host Compiler: gcc 14.2.1 20240912 (Red Hat 14.2.1-3) Windows Server 2022 Kernel: 10.0.20348.2031 Compiler: clang 15.0.7, gcc 14.1.0 (MinGW), and MSVC VS 19.39.33521 To view detailed results, visit: https://lab.dpdk.org/results/dashboard/patchsets/32450/ UNH-IOL DPDK Community Lab To manage your email subscriptions, visit: https://lab.dpdk.org/results/dashboard/preferences/subscriptions/