From mboxrd@z Thu Jan 1 00:00:00 1970 Return-Path: Received: from mails.dpdk.org (mails.dpdk.org [217.70.189.124]) by inbox.dpdk.org (Postfix) with ESMTP id 42BFC461BF for ; Fri, 7 Feb 2025 20:31:18 +0100 (CET) Received: from mails.dpdk.org (localhost [127.0.0.1]) by mails.dpdk.org (Postfix) with ESMTP id DD0494066A; Fri, 7 Feb 2025 20:31:17 +0100 (CET) Received: from mail-il1-f226.google.com (mail-il1-f226.google.com [209.85.166.226]) by mails.dpdk.org (Postfix) with ESMTP id 87386402CE for ; Fri, 7 Feb 2025 20:31:16 +0100 (CET) Received: by mail-il1-f226.google.com with SMTP id e9e14a558f8ab-3d149f4c64aso1218985ab.0 for ; Fri, 07 Feb 2025 11:31:16 -0800 (PST) DKIM-Signature: v=1; a=rsa-sha256; c=relaxed/relaxed; d=iol.unh.edu; s=unh-iol; t=1738956676; x=1739561476; darn=dpdk.org; h=references:in-reply-to:cc:to:from:subject:message-id:date:from:to :cc:subject:date:message-id:reply-to; bh=+cNMA7E4Fden2VCaDv5ZMbD0cAOJmhjf/2oIANwUO20=; b=cWfz2AxrqFTc6f4B1J6uGI3S8yi6TxVvo5cmrz+KGSv/7BaT6Mb1solbahAIa5kGmW ormNKSZGIPEYRgo7TMfbByMdOnFlKhBfyG2WnVlHvAiwstK4EeldZ6L6tbXjo92sNemz uCminqD707SmxdqxawreTE+A6I/8yHo0L4hsU= X-Google-DKIM-Signature: v=1; a=rsa-sha256; c=relaxed/relaxed; d=1e100.net; s=20230601; t=1738956676; x=1739561476; h=references:in-reply-to:cc:to:from:subject:message-id:date :x-gm-message-state:from:to:cc:subject:date:message-id:reply-to; bh=+cNMA7E4Fden2VCaDv5ZMbD0cAOJmhjf/2oIANwUO20=; b=SNfrZhBk5/Df02NUoTACj30/1VbiSbxbu2aFIMUrZqIvoUmpEAe9aaAxNTuGcd73Pg 2qaibm7rQSZbLzm+SRgQPOn1T5M3h9Z6RIZ5kpCeQtCGGfIJElc4ilq/MXrEbklmEB5e kz6e0NiaHBQGl/smsTjGziwcssXu4WclBCOkh4EZ0sgI7JhltsUSFaJPCUaBJmSzEBJ+ Z09QlcqwC3414KFIt8oULD7ihDOafjH5IIz41u+B+k1HE1ZwKsyMww/wUUTiEgumk9l3 JBR4V+PFJOmK4ea2KeulIuPBYZtZMmXqbd704xIQds6IGjnDJDBq4RTl/OvluN3ozZbz xzwA== X-Gm-Message-State: AOJu0YwmZUrocCarvloyPJJNFeA+ABLOa2Xlc3Hog2/Hx6B3hUrebKRx x73IUqIvEGXjrhkItGifgnXvjVMk+4W2UbaALsJVpYJiDRkVCkWW3e7+M9mqJ9SnV5eJwqLK3Hv cjHR/TR0uBtwMZmDqmie4wEr+AG29AH5HxYJcQnu6 X-Gm-Gg: ASbGncvR56nH2uuMry/+LFeiE5/wEnEZtdyoYavGjIKLNh7kAoY5LogrUhiWINL6TF+ lElMpvKeqs6orfODHya1a6eIP78MoVLoAF9GhK0AXnkIwykBnfAlXFUAsWCR2I7YHfG3pLx900V uhrYupWbeg8T3CyjYom0xUSvRXKWnYNJu9+stTbT2t4Eqe6sEE6w7JHEOjaCQavyKzS19nHruKY 37yMJl3c0dJR7S8Kbv2kPei40/zPGgIGuv05pVFeyZMzdDanUusu4j1EiJ5eXN4HWCYjr54we5Z xmAgRBXU04aUEdepk/x6+1BBy/s0oQ== X-Google-Smtp-Source: AGHT+IGpSsn2IXaO40SzJKbZ50KbgMJzN/38E3yyLd62cTh/y4r2S9q6w+zM0TAHh7i8wxpJTCUF0rCosyuv X-Received: by 2002:a05:6e02:3c05:b0:3cf:e76b:3937 with SMTP id e9e14a558f8ab-3d13db4808emr38578515ab.0.1738956675809; Fri, 07 Feb 2025 11:31:15 -0800 (PST) Received: from postal.iol.unh.edu (postal.iol.unh.edu. [132.177.123.84]) by smtp-relay.gmail.com with ESMTPS id e9e14a558f8ab-3d05e9f08c9sm2602815ab.53.2025.02.07.11.31.15 (version=TLS1_2 cipher=ECDHE-ECDSA-AES128-GCM-SHA256 bits=128/128); Fri, 07 Feb 2025 11:31:15 -0800 (PST) X-Relaying-Domain: iol.unh.edu Date: Fri, 07 Feb 2025 11:31:15 -0800 (PST) Message-ID: <67a65f83.050a0220.205d2d.de68SMTPIN_ADDED_MISSING@mx.google.com> Received: from [172.21.0.5] (unknown [172.18.0.240]) by postal.iol.unh.edu (Postfix) with ESMTP id 49520605247D; Fri, 7 Feb 2025 14:30:45 -0500 (EST) Subject: |SUCCESS| pw150647 [PATCH] dma/idxd: add device ids for new HW versi From: dpdklab@iol.unh.edu To: Test Report Cc: dpdk-test-reports@iol.unh.edu In-Reply-To: <20250130172624.1450975-2-bruce.richardson@intel.com> References: <20250130172624.1450975-2-bruce.richardson@intel.com> Content-Type: text/plain X-BeenThere: test-report@dpdk.org X-Mailman-Version: 2.1.29 Precedence: list List-Id: automatic DPDK test reports List-Unsubscribe: , List-Archive: List-Post: List-Help: List-Subscribe: , Errors-To: test-report-bounces@dpdk.org Test-Label: iol-compile-amd64-testing Test-Status: SUCCESS http://dpdk.org/patch/150647 _Testing PASS RETEST #1_ Submitter: Bruce Richardson Date: Thursday, January 30 2025 17:26:25 DPDK git baseline: Repo:dpdk Branch: master CommitID:8c565bbebb8f72decbc4af6a69cb76f07bffc472 150647 --> testing pass Test environment and result as below: +---------------------+--------------------+-------------------+----------------------+------------------+-------------------+-------------------------+ | Environment | dpdk_meson_compile | dpdk_msvc_compile | dpdk_mingw64_compile | dpdk_compile_ovs | dpdk_compile_spdk | dpdk_llvm_clang_compile | +=====================+====================+===================+======================+==================+===================+=========================+ | FreeBSD 13.4 | PASS | SKIPPED | SKIPPED | SKIPPED | SKIPPED | SKIPPED | +---------------------+--------------------+-------------------+----------------------+------------------+-------------------+-------------------------+ | FreeBSD 14.2 | PASS | SKIPPED | SKIPPED | SKIPPED | SKIPPED | SKIPPED | +---------------------+--------------------+-------------------+----------------------+------------------+-------------------+-------------------------+ | CentOS Stream 9 | PASS | SKIPPED | SKIPPED | PASS | PASS | SKIPPED | +---------------------+--------------------+-------------------+----------------------+------------------+-------------------+-------------------------+ | Debian Bullseye | PASS | SKIPPED | SKIPPED | PASS | PASS | SKIPPED | +---------------------+--------------------+-------------------+----------------------+------------------+-------------------+-------------------------+ | Debian 12 | PASS | SKIPPED | SKIPPED | PASS | PASS | SKIPPED | +---------------------+--------------------+-------------------+----------------------+------------------+-------------------+-------------------------+ | Fedora 40 (Clang) | PASS | SKIPPED | SKIPPED | PASS | PASS | SKIPPED | +---------------------+--------------------+-------------------+----------------------+------------------+-------------------+-------------------------+ | Fedora 40 | PASS | SKIPPED | SKIPPED | PASS | PASS | SKIPPED | +---------------------+--------------------+-------------------+----------------------+------------------+-------------------+-------------------------+ | Fedora 41 (Clang) | PASS | SKIPPED | SKIPPED | PASS | PASS | SKIPPED | +---------------------+--------------------+-------------------+----------------------+------------------+-------------------+-------------------------+ | Fedora 41 | PASS | SKIPPED | SKIPPED | PASS | PASS | SKIPPED | +---------------------+--------------------+-------------------+----------------------+------------------+-------------------+-------------------------+ | openSUSE Leap 15 | PASS | SKIPPED | SKIPPED | SKIPPED | SKIPPED | SKIPPED | +---------------------+--------------------+-------------------+----------------------+------------------+-------------------+-------------------------+ | RHEL8 | PASS | SKIPPED | SKIPPED | PASS | SKIPPED | SKIPPED | +---------------------+--------------------+-------------------+----------------------+------------------+-------------------+-------------------------+ | RHEL9 | PASS | SKIPPED | SKIPPED | PASS | SKIPPED | SKIPPED | +---------------------+--------------------+-------------------+----------------------+------------------+-------------------+-------------------------+ | Ubuntu 20.04 | PASS | SKIPPED | SKIPPED | SKIPPED | SKIPPED | SKIPPED | +---------------------+--------------------+-------------------+----------------------+------------------+-------------------+-------------------------+ | Ubuntu 22.04 | PASS | SKIPPED | SKIPPED | PASS | PASS | SKIPPED | +---------------------+--------------------+-------------------+----------------------+------------------+-------------------+-------------------------+ | Ubuntu 24.04 | PASS | SKIPPED | SKIPPED | PASS | PASS | SKIPPED | +---------------------+--------------------+-------------------+----------------------+------------------+-------------------+-------------------------+ | Alpine | PASS | SKIPPED | SKIPPED | PASS | SKIPPED | SKIPPED | +---------------------+--------------------+-------------------+----------------------+------------------+-------------------+-------------------------+ | Windows Server 2022 | SKIPPED | PASS | PASS | SKIPPED | SKIPPED | PASS | +---------------------+--------------------+-------------------+----------------------+------------------+-------------------+-------------------------+ FreeBSD 13.4 Kernel: 13.4-RELEASE-p1 Compiler: clang 18.1.6 FreeBSD 14.2 Kernel: 14.2-RELEASE Compiler: clang 18.1.6 CentOS Stream 9 Kernel: Depends on container host Compiler: gcc 11.5.0 20240719 (Red Hat 11.5.0-2) Debian Bullseye Kernel: Depends on container host Compiler: gcc (Debian 10.2.1-6) 10.2.1 20210110 Debian 12 Kernel: Depends on container host Compiler: gcc (Debian 12.2.0-14) 12.2.0 Fedora 40 (Clang) Kernel: Depends on container host Compiler: clang 18.1.8 (Fedora 18.1.8-1.fc40) Fedora 40 Kernel: Depends on container host Compiler: gcc 14.2.1 20240912 (Red Hat 14.2.1-3) Fedora 41 (Clang) Kernel: Depends on container host Compiler: clang 19.1.5 (Fedora 19.1.5-1.fc41) Fedora 41 Kernel: Depends on container host Compiler: gcc 14.2.1 20240912 (Red Hat 14.2.1-3) openSUSE Leap 15 Kernel: Depends on container host Compiler: gcc (SUSE Linux) 7.5.0 RHEL8 Kernel: Depends on container host Compiler: gcc 8.5.0 20210514 (Red Hat 8.5.0-22) RHEL9 Kernel: Depends on container host Compiler: gcc 11.5.0 20240719 (Red Hat 11.5.0-2) Ubuntu 20.04 Kernel: Depends on container host Compiler: gcc (Ubuntu 9.4.0-1ubuntu1~20.04.2) 9.4.0 Ubuntu 22.04 Kernel: Depends on container host Compiler: gcc (Ubuntu 11.4.0-1ubuntu1~22.04) 11.4.0 Ubuntu 24.04 Kernel: Depends on container host Compiler: gcc (Ubuntu 13.3.0-6ubuntu2~24.04) 13.3.0 Alpine Kernel: Depends on container host Compiler: gcc (Alpine 14.2.0) 14.2.0 Windows Server 2022 Kernel: 10.0.20348.2031 Compiler: clang 15.0.7, gcc 14.1.0 (MinGW), and MSVC VS 19.39.33521 To view detailed results, visit: https://lab.dpdk.org/results/dashboard/patchsets/32464/ UNH-IOL DPDK Community Lab To manage your email subscriptions, visit: https://lab.dpdk.org/results/dashboard/preferences/subscriptions/