From mboxrd@z Thu Jan 1 00:00:00 1970 Return-Path: Received: from mails.dpdk.org (mails.dpdk.org [217.70.189.124]) by inbox.dpdk.org (Postfix) with ESMTP id C27F1461BF for ; Fri, 7 Feb 2025 20:31:17 +0100 (CET) Received: from mails.dpdk.org (localhost [127.0.0.1]) by mails.dpdk.org (Postfix) with ESMTP id 9D7FD4029E; Fri, 7 Feb 2025 20:31:17 +0100 (CET) Received: from mail-qk1-f227.google.com (mail-qk1-f227.google.com [209.85.222.227]) by mails.dpdk.org (Postfix) with ESMTP id 265994029A for ; Fri, 7 Feb 2025 20:31:16 +0100 (CET) Received: by mail-qk1-f227.google.com with SMTP id af79cd13be357-7be3f230436so223348085a.3 for ; Fri, 07 Feb 2025 11:31:16 -0800 (PST) DKIM-Signature: v=1; a=rsa-sha256; c=relaxed/relaxed; d=iol.unh.edu; s=unh-iol; t=1738956675; x=1739561475; darn=dpdk.org; h=references:in-reply-to:cc:to:from:subject:message-id:date:from:to :cc:subject:date:message-id:reply-to; bh=tQf0m5phxI00pqTCvETb2ks1eBefPd30qyitqCftENA=; b=jOQyk4+eK9k49hYofcXv1dAxogRFPbj83WfRloHghdK8WikKgUC9LSxDVqYBllhwB9 cpwJjYFliv7UuOGkvgfFNbTTyJ+84GEmnU4uHmNMakYFwZm7q8/yfmotM9RZhCqrhgY3 TDjOIAzwueGzrBZnRL6V1Xsa1uyp0y4WTe6oQ= X-Google-DKIM-Signature: v=1; a=rsa-sha256; c=relaxed/relaxed; d=1e100.net; s=20230601; t=1738956675; x=1739561475; h=references:in-reply-to:cc:to:from:subject:message-id:date :x-gm-message-state:from:to:cc:subject:date:message-id:reply-to; bh=tQf0m5phxI00pqTCvETb2ks1eBefPd30qyitqCftENA=; b=wr/uYFFVe83p6OBzmG9q9RIW8n0YNniuL5AtWrwBOovwDs/auet19UHM6nzD1Z14+Q dO9GYphyCwjQF6z2UCKaFD8bSa8f16wxGE1DIZxJmk9mKYOYLQli5Rpdozy+zrt8VVYF c4p1zzqiSg23pYkxVwxHgypiCHNuYNBmxdGh0OwjVxAvTk+fUKhNIGj7+yiC9BjlAiy0 wYqQd/ImD4zL75EPzFdF/jsdakeIJtYLqHWenM4V46oKThonOhvmd+55IA8rmeoSSUQB ASGkw9t4SluBFoP+UTaDzBMD53fYpNzQaiMIkHWVnfjxoLzR+zfFQDzhT5+fjgTPXJmp nZYg== X-Gm-Message-State: AOJu0Yy0TL9PdhL5urMBc0WBQjCS1ox3OWInOtaAGpi822MmT5WH9pMA POOHIgKTOIdXG4BoZCeW9/Zggv7IQv3Mg6e5LxZh6uIet7pZg3uFMLM/PRMWTvJbbGCpc0yfYMh EcRu42pB33mYR6c+TrzEhK3yGnC9VbtD85K1OOYWR X-Gm-Gg: ASbGncvSDv35wv4KgveOHY7jINQ57KEYAtbeQzWIBjiiIGPbjWuc6wOQ96ZDuSAZe4k IocscYYjOOezlNn2wVbwNByJSXHgTrlGMCEgsPOjejzsUN2EpijezBt9m25Rdcgg/xjear2DMfT 0XpWsSpvkLiV9PoWdxKPBOQnBA7MvNb6hoR4R535UzJVbvSrV4SM3opx1mCp2ZAme+nlgFqoEk9 u+2lm7KEi+HZ1TjkxQPVNVKBqAa6vb55NkZnO6Ws+pN8zq79X04Zu44LzDiwJrBHj7iFEDGBFwp M9xa5fUbWEHjI/aYeTXpB1MmJ9Bk6w== X-Google-Smtp-Source: AGHT+IFvVYuoiL8kstwXYLhV6LZkbFcodQZHUu4vJalrYsu13017Ei+nXiW9GXoDdPOXXR/RMph07iimhpE6 X-Received: by 2002:a05:620a:bd4:b0:7be:5bc1:9460 with SMTP id af79cd13be357-7c047ca182cmr677604485a.35.1738956675263; Fri, 07 Feb 2025 11:31:15 -0800 (PST) Received: from postal.iol.unh.edu (postal.iol.unh.edu. [132.177.123.84]) by smtp-relay.gmail.com with ESMTPS id af79cd13be357-7c041de8de3sm27704985a.1.2025.02.07.11.31.15 (version=TLS1_2 cipher=ECDHE-ECDSA-AES128-GCM-SHA256 bits=128/128); Fri, 07 Feb 2025 11:31:15 -0800 (PST) X-Relaying-Domain: iol.unh.edu Date: Fri, 07 Feb 2025 11:31:15 -0800 (PST) Message-ID: <67a65f83.050a0220.29e9f4.e5e7SMTPIN_ADDED_MISSING@mx.google.com> Received: from [172.21.0.6] (unknown [172.18.0.240]) by postal.iol.unh.edu (Postfix) with ESMTP id EBABD6052477; Fri, 7 Feb 2025 14:30:44 -0500 (EST) Subject: |SUCCESS| pw150675 [PATCH] [v2] dts: add SUT cleanup to framework From: dpdklab@iol.unh.edu To: Test Report Cc: dpdk-test-reports@iol.unh.edu In-Reply-To: <20250130221324.75711-1-dmarx@iol.unh.edu> References: <20250130221324.75711-1-dmarx@iol.unh.edu> Content-Type: text/plain X-BeenThere: test-report@dpdk.org X-Mailman-Version: 2.1.29 Precedence: list List-Id: automatic DPDK test reports List-Unsubscribe: , List-Archive: List-Post: List-Help: List-Subscribe: , Errors-To: test-report-bounces@dpdk.org Test-Label: iol-compile-amd64-testing Test-Status: SUCCESS http://dpdk.org/patch/150675 _Testing PASS_ Submitter: Dean Marx Date: Thursday, January 30 2025 22:13:24 DPDK git baseline: Repo:dpdk Branch: master CommitID:d748916b207173c7f57a2b04c4f5c8f7fbb3cfd4 150675 --> testing pass Test environment and result as below: +---------------------+-------------------+--------------------+----------------------+------------------+-------------------+-------------------------+ | Environment | dpdk_msvc_compile | dpdk_meson_compile | dpdk_mingw64_compile | dpdk_compile_ovs | dpdk_compile_spdk | dpdk_llvm_clang_compile | +=====================+===================+====================+======================+==================+===================+=========================+ | Windows Server 2022 | PASS | SKIPPED | PASS | SKIPPED | SKIPPED | PASS | +---------------------+-------------------+--------------------+----------------------+------------------+-------------------+-------------------------+ | FreeBSD 13.4 | SKIPPED | PASS | SKIPPED | SKIPPED | SKIPPED | SKIPPED | +---------------------+-------------------+--------------------+----------------------+------------------+-------------------+-------------------------+ | FreeBSD 14.2 | SKIPPED | PASS | SKIPPED | SKIPPED | SKIPPED | SKIPPED | +---------------------+-------------------+--------------------+----------------------+------------------+-------------------+-------------------------+ | CentOS Stream 9 | SKIPPED | PASS | SKIPPED | PASS | PASS | SKIPPED | +---------------------+-------------------+--------------------+----------------------+------------------+-------------------+-------------------------+ | Debian Bullseye | SKIPPED | PASS | SKIPPED | PASS | PASS | SKIPPED | +---------------------+-------------------+--------------------+----------------------+------------------+-------------------+-------------------------+ | Debian 12 | SKIPPED | PASS | SKIPPED | PASS | PASS | SKIPPED | +---------------------+-------------------+--------------------+----------------------+------------------+-------------------+-------------------------+ | Fedora 40 (Clang) | SKIPPED | PASS | SKIPPED | PASS | PASS | SKIPPED | +---------------------+-------------------+--------------------+----------------------+------------------+-------------------+-------------------------+ | Fedora 40 | SKIPPED | PASS | SKIPPED | PASS | PASS | SKIPPED | +---------------------+-------------------+--------------------+----------------------+------------------+-------------------+-------------------------+ | Fedora 41 (Clang) | SKIPPED | PASS | SKIPPED | PASS | PASS | SKIPPED | +---------------------+-------------------+--------------------+----------------------+------------------+-------------------+-------------------------+ | Fedora 41 | SKIPPED | PASS | SKIPPED | PASS | PASS | SKIPPED | +---------------------+-------------------+--------------------+----------------------+------------------+-------------------+-------------------------+ | RHEL8 | SKIPPED | PASS | SKIPPED | PASS | SKIPPED | SKIPPED | +---------------------+-------------------+--------------------+----------------------+------------------+-------------------+-------------------------+ | RHEL9 | SKIPPED | PASS | SKIPPED | PASS | SKIPPED | SKIPPED | +---------------------+-------------------+--------------------+----------------------+------------------+-------------------+-------------------------+ | Ubuntu 20.04 | SKIPPED | PASS | SKIPPED | SKIPPED | SKIPPED | SKIPPED | +---------------------+-------------------+--------------------+----------------------+------------------+-------------------+-------------------------+ | Ubuntu 22.04 | SKIPPED | PASS | SKIPPED | PASS | PASS | SKIPPED | +---------------------+-------------------+--------------------+----------------------+------------------+-------------------+-------------------------+ | Ubuntu 24.04 | SKIPPED | PASS | SKIPPED | PASS | PASS | SKIPPED | +---------------------+-------------------+--------------------+----------------------+------------------+-------------------+-------------------------+ | Alpine | SKIPPED | PASS | SKIPPED | PASS | SKIPPED | SKIPPED | +---------------------+-------------------+--------------------+----------------------+------------------+-------------------+-------------------------+ Windows Server 2022 Kernel: 10.0.20348.2031 Compiler: clang 15.0.7, gcc 14.1.0 (MinGW), and MSVC VS 19.39.33521 FreeBSD 13.4 Kernel: 13.4-RELEASE-p1 Compiler: clang 18.1.6 FreeBSD 14.2 Kernel: 14.2-RELEASE Compiler: clang 18.1.6 CentOS Stream 9 Kernel: Depends on container host Compiler: gcc 11.5.0 20240719 (Red Hat 11.5.0-2) Debian Bullseye Kernel: Depends on container host Compiler: gcc (Debian 10.2.1-6) 10.2.1 20210110 Debian 12 Kernel: Depends on container host Compiler: gcc (Debian 12.2.0-14) 12.2.0 Fedora 40 (Clang) Kernel: Depends on container host Compiler: clang 18.1.8 (Fedora 18.1.8-1.fc40) Fedora 40 Kernel: Depends on container host Compiler: gcc 14.2.1 20240912 (Red Hat 14.2.1-3) Fedora 41 (Clang) Kernel: Depends on container host Compiler: clang 19.1.5 (Fedora 19.1.5-1.fc41) Fedora 41 Kernel: Depends on container host Compiler: gcc 14.2.1 20240912 (Red Hat 14.2.1-3) RHEL8 Kernel: Depends on container host Compiler: gcc 8.5.0 20210514 (Red Hat 8.5.0-22) RHEL9 Kernel: Depends on container host Compiler: gcc 11.5.0 20240719 (Red Hat 11.5.0-2) Ubuntu 20.04 Kernel: Depends on container host Compiler: gcc (Ubuntu 9.4.0-1ubuntu1~20.04.2) 9.4.0 Ubuntu 22.04 Kernel: Depends on container host Compiler: gcc (Ubuntu 11.4.0-1ubuntu1~22.04) 11.4.0 Ubuntu 24.04 Kernel: Depends on container host Compiler: gcc (Ubuntu 13.3.0-6ubuntu2~24.04) 13.3.0 Alpine Kernel: Depends on container host Compiler: gcc (Alpine 14.2.0) 14.2.0 To view detailed results, visit: https://lab.dpdk.org/results/dashboard/patchsets/32467/ UNH-IOL DPDK Community Lab To manage your email subscriptions, visit: https://lab.dpdk.org/results/dashboard/preferences/subscriptions/