From mboxrd@z Thu Jan 1 00:00:00 1970 Return-Path: Received: from mails.dpdk.org (mails.dpdk.org [217.70.189.124]) by inbox.dpdk.org (Postfix) with ESMTP id 1A60A461BF for ; Fri, 7 Feb 2025 20:31:18 +0100 (CET) Received: from mails.dpdk.org (localhost [127.0.0.1]) by mails.dpdk.org (Postfix) with ESMTP id C03FB40661; Fri, 7 Feb 2025 20:31:17 +0100 (CET) Received: from mail-pl1-f226.google.com (mail-pl1-f226.google.com [209.85.214.226]) by mails.dpdk.org (Postfix) with ESMTP id 7C4D74029A for ; Fri, 7 Feb 2025 20:31:16 +0100 (CET) Received: by mail-pl1-f226.google.com with SMTP id d9443c01a7336-21f49bd087cso27076625ad.0 for ; Fri, 07 Feb 2025 11:31:16 -0800 (PST) DKIM-Signature: v=1; a=rsa-sha256; c=relaxed/relaxed; d=iol.unh.edu; s=unh-iol; t=1738956675; x=1739561475; darn=dpdk.org; h=references:in-reply-to:cc:to:from:subject:message-id:date:from:to :cc:subject:date:message-id:reply-to; bh=VCAnCSH/g5fB32xbb9AS//qTTsCs0SoWlduvRXF9FxA=; b=HbrgwptitSrLkaYqmgXRGZXlnoOd24+96G3l4R8RloUYNiSZPwnycaZc1fCkgMnVWR 5GLTRPbpV34OfPeywG9+eTSEEFFkEyALI/NLjLYAt8jP6SDH7BWpfP5ideTlJyz2j2/h xtKNI5NAsp+VhXn2O9j11xtfVoAXyQpfXsHgA= X-Google-DKIM-Signature: v=1; a=rsa-sha256; c=relaxed/relaxed; d=1e100.net; s=20230601; t=1738956675; x=1739561475; h=references:in-reply-to:cc:to:from:subject:message-id:date :x-gm-message-state:from:to:cc:subject:date:message-id:reply-to; bh=VCAnCSH/g5fB32xbb9AS//qTTsCs0SoWlduvRXF9FxA=; b=ZmF4wtWnOefVF2J3q6sR++E18H4S/MGdswt6EOz8efDXOCXO91ZWD0eHkK68+6xrMl 5caqej4kKlX9Ls3g799Gwc+rjZfQb236aqK6mjvk7e7v1Nrs3LHXraPGG5W4Bcpr0q+B mSnUdr6z60in+RVU8Jho2KEHTYFGawFKjnAaQhF3+VdE8jQKW6hY0PhefY/5yTNEoJZY Mg2aPSNS2Le1cmzeIdcdVUpXxfRFhiMzACQEL4qjbO3+Bldl8r4YiFsucEnNjVa/+DfZ e4MLPgDYhs70JSHt1Iy1zfnulJxAl2dzjHzTBvpNPVwj7jJKvBVx2TVjhJsbe6QHaxcO 5gTQ== X-Gm-Message-State: AOJu0YxA41YekgQHH3bES1d2zzXLPWgG6Qg6Tyg4oiQd+KyyCnVgehna GH55brZtUUXtvqKjqba3JIyrI0XAKUadC2xqy218lUTZqDSdSWYScGYZ/qTi3eG956pilbCyn/d sNTplwdxeoRf/0aB0c+Jvywxsww9tX2aNS7d/vfrt X-Gm-Gg: ASbGncvBAfamwGseVVgVq7IHtMiQZQqN6XNSSOEvu108K7/rphhUmfHOsT4eZC4rSKe OWytk4HG1yIwjQkdBzWeT7FF0hsXsHn7y8GiQGOD9bJaarl3PmtvgsYFT4T5PLWi7Lb7TqkB1wN hl2msRsCKi0Ai2h838BO8HGWvih9TxRfPkQUnOaf/0FA0Br60v6MgmD7OptguxDprgkA+VTrffo w4EKTdYiUGz8PN7LkPAN1qBZwodN4Xbq7mNh9Pl59bkAnO9Ha17u6p82enBob6mxSdRJSzzpL3N +pJuwWsZ7V24Un+o7ePc2MuU7+oktw== X-Google-Smtp-Source: AGHT+IHisRNCkKifl090NrNWDq899EYbm0Ru3cXNMhWnHfki1tWGMtMFZhtPyz1HqfHusfpNiRzRRMNJkxqr X-Received: by 2002:a17:902:ec82:b0:21f:61a5:67a5 with SMTP id d9443c01a7336-21f61a569b8mr23051075ad.42.1738956675607; Fri, 07 Feb 2025 11:31:15 -0800 (PST) Received: from postal.iol.unh.edu (postal.iol.unh.edu. [132.177.123.84]) by smtp-relay.gmail.com with ESMTPS id d9443c01a7336-21f36562335sm2227785ad.52.2025.02.07.11.31.15 (version=TLS1_2 cipher=ECDHE-ECDSA-AES128-GCM-SHA256 bits=128/128); Fri, 07 Feb 2025 11:31:15 -0800 (PST) X-Relaying-Domain: iol.unh.edu Date: Fri, 07 Feb 2025 11:31:15 -0800 (PST) Message-ID: <67a65f83.170a0220.3acd8a.b707SMTPIN_ADDED_MISSING@mx.google.com> Received: from [172.21.0.8] (unknown [172.18.0.240]) by postal.iol.unh.edu (Postfix) with ESMTP id BEB796052471; Fri, 7 Feb 2025 14:30:44 -0500 (EST) Subject: |SUCCESS| pw150637 [PATCH] [v4] mbuf: add raw free and alloc bulk fu From: dpdklab@iol.unh.edu To: Test Report Cc: dpdk-test-reports@iol.unh.edu In-Reply-To: <20250130144949.671542-1-mb@smartsharesystems.com> References: <20250130144949.671542-1-mb@smartsharesystems.com> Content-Type: text/plain X-BeenThere: test-report@dpdk.org X-Mailman-Version: 2.1.29 Precedence: list List-Id: automatic DPDK test reports List-Unsubscribe: , List-Archive: List-Post: List-Help: List-Subscribe: , Errors-To: test-report-bounces@dpdk.org Test-Label: iol-compile-amd64-testing Test-Status: SUCCESS http://dpdk.org/patch/150637 _Testing PASS_ Submitter: Morten Brorup Date: Thursday, January 30 2025 14:49:49 DPDK git baseline: Repo:dpdk Branch: master CommitID:9ab5a5f30c4be9f12ddaf50aec3435986bc5a495 150637 --> testing pass Test environment and result as below: +---------------------+--------------------+------------------+-------------------+-------------------+----------------------+-------------------------+ | Environment | dpdk_meson_compile | dpdk_compile_ovs | dpdk_compile_spdk | dpdk_msvc_compile | dpdk_mingw64_compile | dpdk_llvm_clang_compile | +=====================+====================+==================+===================+===================+======================+=========================+ | CentOS Stream 9 | PASS | PASS | PASS | SKIPPED | SKIPPED | SKIPPED | +---------------------+--------------------+------------------+-------------------+-------------------+----------------------+-------------------------+ | Debian Bullseye | PASS | PASS | PASS | SKIPPED | SKIPPED | SKIPPED | +---------------------+--------------------+------------------+-------------------+-------------------+----------------------+-------------------------+ | Debian 12 | PASS | PASS | PASS | SKIPPED | SKIPPED | SKIPPED | +---------------------+--------------------+------------------+-------------------+-------------------+----------------------+-------------------------+ | Fedora 40 (Clang) | PASS | PASS | PASS | SKIPPED | SKIPPED | SKIPPED | +---------------------+--------------------+------------------+-------------------+-------------------+----------------------+-------------------------+ | Fedora 40 | PASS | PASS | PASS | SKIPPED | SKIPPED | SKIPPED | +---------------------+--------------------+------------------+-------------------+-------------------+----------------------+-------------------------+ | Fedora 41 (Clang) | PASS | PASS | PASS | SKIPPED | SKIPPED | SKIPPED | +---------------------+--------------------+------------------+-------------------+-------------------+----------------------+-------------------------+ | Ubuntu 22.04 | PASS | PASS | PASS | SKIPPED | SKIPPED | SKIPPED | +---------------------+--------------------+------------------+-------------------+-------------------+----------------------+-------------------------+ | openSUSE Leap 15 | PASS | SKIPPED | SKIPPED | SKIPPED | SKIPPED | SKIPPED | +---------------------+--------------------+------------------+-------------------+-------------------+----------------------+-------------------------+ | Fedora 41 | PASS | PASS | PASS | SKIPPED | SKIPPED | SKIPPED | +---------------------+--------------------+------------------+-------------------+-------------------+----------------------+-------------------------+ | RHEL9 | PASS | PASS | SKIPPED | SKIPPED | SKIPPED | SKIPPED | +---------------------+--------------------+------------------+-------------------+-------------------+----------------------+-------------------------+ | Ubuntu 20.04 | PASS | SKIPPED | SKIPPED | SKIPPED | SKIPPED | SKIPPED | +---------------------+--------------------+------------------+-------------------+-------------------+----------------------+-------------------------+ | Ubuntu 24.04 | PASS | PASS | PASS | SKIPPED | SKIPPED | SKIPPED | +---------------------+--------------------+------------------+-------------------+-------------------+----------------------+-------------------------+ | FreeBSD 13.4 | PASS | SKIPPED | SKIPPED | SKIPPED | SKIPPED | SKIPPED | +---------------------+--------------------+------------------+-------------------+-------------------+----------------------+-------------------------+ | Alpine | PASS | PASS | SKIPPED | SKIPPED | SKIPPED | SKIPPED | +---------------------+--------------------+------------------+-------------------+-------------------+----------------------+-------------------------+ | FreeBSD 14.2 | PASS | SKIPPED | SKIPPED | SKIPPED | SKIPPED | SKIPPED | +---------------------+--------------------+------------------+-------------------+-------------------+----------------------+-------------------------+ | Windows Server 2022 | SKIPPED | SKIPPED | SKIPPED | PASS | PASS | PASS | +---------------------+--------------------+------------------+-------------------+-------------------+----------------------+-------------------------+ CentOS Stream 9 Kernel: Depends on container host Compiler: gcc 11.5.0 20240719 (Red Hat 11.5.0-2) Debian Bullseye Kernel: Depends on container host Compiler: gcc (Debian 10.2.1-6) 10.2.1 20210110 Debian 12 Kernel: Depends on container host Compiler: gcc (Debian 12.2.0-14) 12.2.0 Fedora 40 (Clang) Kernel: Depends on container host Compiler: clang 18.1.8 (Fedora 18.1.8-1.fc40) Fedora 40 Kernel: Depends on container host Compiler: gcc 14.2.1 20240912 (Red Hat 14.2.1-3) Fedora 41 (Clang) Kernel: Depends on container host Compiler: clang 19.1.5 (Fedora 19.1.5-1.fc41) Ubuntu 22.04 Kernel: Depends on container host Compiler: gcc (Ubuntu 11.4.0-1ubuntu1~22.04) 11.4.0 openSUSE Leap 15 Kernel: Depends on container host Compiler: gcc (SUSE Linux) 7.5.0 Fedora 41 Kernel: Depends on container host Compiler: gcc 14.2.1 20240912 (Red Hat 14.2.1-3) RHEL9 Kernel: Depends on container host Compiler: gcc 11.5.0 20240719 (Red Hat 11.5.0-2) Ubuntu 20.04 Kernel: Depends on container host Compiler: gcc (Ubuntu 9.4.0-1ubuntu1~20.04.2) 9.4.0 Ubuntu 24.04 Kernel: Depends on container host Compiler: gcc (Ubuntu 13.3.0-6ubuntu2~24.04) 13.3.0 FreeBSD 13.4 Kernel: 13.4-RELEASE-p1 Compiler: clang 18.1.6 Alpine Kernel: Depends on container host Compiler: gcc (Alpine 14.2.0) 14.2.0 FreeBSD 14.2 Kernel: 14.2-RELEASE Compiler: clang 18.1.6 Windows Server 2022 Kernel: 10.0.20348.2031 Compiler: clang 15.0.7, gcc 14.1.0 (MinGW), and MSVC VS 19.39.33521 To view detailed results, visit: https://lab.dpdk.org/results/dashboard/patchsets/32459/ UNH-IOL DPDK Community Lab To manage your email subscriptions, visit: https://lab.dpdk.org/results/dashboard/preferences/subscriptions/