From mboxrd@z Thu Jan 1 00:00:00 1970 Return-Path: Received: from mails.dpdk.org (mails.dpdk.org [217.70.189.124]) by inbox.dpdk.org (Postfix) with ESMTP id 3066C461BF for ; Fri, 7 Feb 2025 20:41:24 +0100 (CET) Received: from mails.dpdk.org (localhost [127.0.0.1]) by mails.dpdk.org (Postfix) with ESMTP id EB735402E9; Fri, 7 Feb 2025 20:41:23 +0100 (CET) Received: from mail-pj1-f97.google.com (mail-pj1-f97.google.com [209.85.216.97]) by mails.dpdk.org (Postfix) with ESMTP id C8B2B4029A for ; Fri, 7 Feb 2025 20:41:21 +0100 (CET) Received: by mail-pj1-f97.google.com with SMTP id 98e67ed59e1d1-2f9d627b5fbso4433848a91.2 for ; Fri, 07 Feb 2025 11:41:21 -0800 (PST) DKIM-Signature: v=1; a=rsa-sha256; c=relaxed/relaxed; d=iol.unh.edu; s=unh-iol; t=1738957281; x=1739562081; darn=dpdk.org; h=cc:to:from:subject:message-id:date:from:to:cc:subject:date :message-id:reply-to; bh=Fgyzv3B19gJRT0FLBMVqFTj/Pi4Arj+CzpTgRLbJhMU=; b=Av971HO1yRESgDKySebbzvJkg9FgbYMPh2lAL/UlEkJnM3EbCTAMGFb/x7r0fvUl1d +Ho/1i4ByJSGCloQbIXQ1fWyLOnIEsi3DlMlu1Ckk+Y6o3Is9zlraBET38ilEaFhTwmQ p+l0ulye3HlEwqSMwxYlTCy45rCY4DTV3JblY= X-Google-DKIM-Signature: v=1; a=rsa-sha256; c=relaxed/relaxed; d=1e100.net; s=20230601; t=1738957281; x=1739562081; h=cc:to:from:subject:message-id:date:x-gm-message-state:from:to:cc :subject:date:message-id:reply-to; bh=Fgyzv3B19gJRT0FLBMVqFTj/Pi4Arj+CzpTgRLbJhMU=; b=fZTBXQKnXHKG2H5IJ6lHpp5WyAWmN7gNECprkrV8FJtzjec4zITkCUrICOG3CxySmZ XIxMETH2O2/HABl6Ph3TfX5t9cdqwIETPbxPv5Lrw40qwlJCtQgz5p/QGN29jSnwNWgz IhC1iwm4oI7/vASwx07bBUjjI5b0zvYTEzH9rL6BM6tcqFfKs7/efBHRDE8nDZ+3Q8T9 rf5dLmCyeD+ytaFDAlUT6WOOrLJpEd1ggQpY9Y+szDw8VUO1+ri1tOs5evcQtLBPAI2L 50j9BbB20XRIHStSyqpMcuIWi62+kKz8NDiI5g/3uxtx0bO3Ag9ZcH0QZb98cfxyaVN2 1rpA== X-Gm-Message-State: AOJu0Yxlxi4aJpWDvmn75zT7s7UZp2eVtpP55a5PhtxaDQkkpmQnBWDW 2CMrwSjDe05whKyFdoZaMI7Emuvs1EtyZft24YSgxeKTscpfzPIBxA6+9fda1FF+tbn53GSlodb yvGlP2cEJ/dgTJgTngldnPqTNpx4tX0fOuUlwOxHr X-Gm-Gg: ASbGnctG3pQT7mnw1fl0Gy8PkMxNAvu70POfIsiSBrfQ1IcpGT3Rh/Exma4CE4qVwfl wevq/gENS86ok8Y+dpIi/HYsqBXjFgiMWzzwuk5Ci1TznG+r6M5Btxw9fLKc7EWCkVWDG+u5uhp lBYT5zsh/nVYWveWkenpkSn6fw3YxAe8AqAVjJFyp12WgFKQpqbOCn1WbBFQ31nE3B2ee2KVs6I 42ga6QXni93M2pluH9oYjwzxq7iehMwhanLSwKYga8Y3pZ5lkxVxDPE67YzBllTdiFSUFWchJih hMIOQlJrlFrMaDwZThOrPpKqGUBylg== X-Google-Smtp-Source: AGHT+IF4iqT4duzjLyQMXbEYhf0u3hDUFTPn2RI4Fa7tmeywFYKri4CC8jU602rvpkdKqv59U/RzJApsca4E X-Received: by 2002:a17:90b:3dc3:b0:2ee:8ea0:6b9c with SMTP id 98e67ed59e1d1-2fa24064223mr7629282a91.12.1738957280979; Fri, 07 Feb 2025 11:41:20 -0800 (PST) Received: from postal.iol.unh.edu (postal.iol.unh.edu. [132.177.123.84]) by smtp-relay.gmail.com with ESMTPS id 98e67ed59e1d1-2f9e1e44d35sm509696a91.14.2025.02.07.11.41.20 (version=TLS1_2 cipher=ECDHE-ECDSA-AES128-GCM-SHA256 bits=128/128); Fri, 07 Feb 2025 11:41:20 -0800 (PST) X-Relaying-Domain: iol.unh.edu Date: Fri, 07 Feb 2025 11:41:20 -0800 (PST) Message-ID: <67a661e0.170a0220.3bb74.914eSMTPIN_ADDED_MISSING@mx.google.com> Received: from [172.21.0.8] (unknown [172.18.0.240]) by postal.iol.unh.edu (Postfix) with ESMTP id 2E0F16052471; Fri, 7 Feb 2025 14:41:20 -0500 (EST) Subject: |SUCCESS| [GIT MASTER] fd51012de5369679e807be1d6a81d63ef15015ce From: dpdklab@iol.unh.edu To: Test Report Cc: dpdk-test-reports@iol.unh.edu Content-Type: text/plain X-BeenThere: test-report@dpdk.org X-Mailman-Version: 2.1.29 Precedence: list List-Id: automatic DPDK test reports List-Unsubscribe: , List-Archive: List-Post: List-Help: List-Subscribe: , Errors-To: test-report-bounces@dpdk.org _Testing PASS_ Branch: dpdk fd51012de5369679e807be1d6a81d63ef15015ce --> testing pass Test environment and result as below: +---------------------+--------------------+------------------+-------------------+-------------------------+-------------------+----------------------+ | Environment | dpdk_meson_compile | dpdk_compile_ovs | dpdk_compile_spdk | dpdk_llvm_clang_compile | dpdk_msvc_compile | dpdk_mingw64_compile | +=====================+====================+==================+===================+=========================+===================+======================+ | CentOS Stream 9 | PASS | PASS | PASS | SKIPPED | SKIPPED | SKIPPED | +---------------------+--------------------+------------------+-------------------+-------------------------+-------------------+----------------------+ | Debian Bullseye | PASS | PASS | PASS | SKIPPED | SKIPPED | SKIPPED | +---------------------+--------------------+------------------+-------------------+-------------------------+-------------------+----------------------+ | openSUSE Leap 15 | PASS | SKIPPED | SKIPPED | SKIPPED | SKIPPED | SKIPPED | +---------------------+--------------------+------------------+-------------------+-------------------------+-------------------+----------------------+ | Debian 12 | PASS | PASS | PASS | SKIPPED | SKIPPED | SKIPPED | +---------------------+--------------------+------------------+-------------------+-------------------------+-------------------+----------------------+ | Fedora 40 (Clang) | PASS | PASS | PASS | SKIPPED | SKIPPED | SKIPPED | +---------------------+--------------------+------------------+-------------------+-------------------------+-------------------+----------------------+ | Fedora 41 (Clang) | PASS | PASS | PASS | SKIPPED | SKIPPED | SKIPPED | +---------------------+--------------------+------------------+-------------------+-------------------------+-------------------+----------------------+ | RHEL8 | PASS | PASS | SKIPPED | SKIPPED | SKIPPED | SKIPPED | +---------------------+--------------------+------------------+-------------------+-------------------------+-------------------+----------------------+ | Ubuntu 20.04 | PASS | SKIPPED | SKIPPED | SKIPPED | SKIPPED | SKIPPED | +---------------------+--------------------+------------------+-------------------+-------------------------+-------------------+----------------------+ | RHEL9 | PASS | PASS | SKIPPED | SKIPPED | SKIPPED | SKIPPED | +---------------------+--------------------+------------------+-------------------+-------------------------+-------------------+----------------------+ | Ubuntu 24.04 | PASS | PASS | PASS | SKIPPED | SKIPPED | SKIPPED | +---------------------+--------------------+------------------+-------------------+-------------------------+-------------------+----------------------+ | Ubuntu 22.04 | PASS | PASS | PASS | SKIPPED | SKIPPED | SKIPPED | +---------------------+--------------------+------------------+-------------------+-------------------------+-------------------+----------------------+ | Alpine | PASS | PASS | SKIPPED | SKIPPED | SKIPPED | SKIPPED | +---------------------+--------------------+------------------+-------------------+-------------------------+-------------------+----------------------+ | FreeBSD 13.4 | PASS | SKIPPED | SKIPPED | SKIPPED | SKIPPED | SKIPPED | +---------------------+--------------------+------------------+-------------------+-------------------------+-------------------+----------------------+ | FreeBSD 14.2 | PASS | SKIPPED | SKIPPED | SKIPPED | SKIPPED | SKIPPED | +---------------------+--------------------+------------------+-------------------+-------------------------+-------------------+----------------------+ | Fedora 41 | PASS | PASS | PASS | SKIPPED | SKIPPED | SKIPPED | +---------------------+--------------------+------------------+-------------------+-------------------------+-------------------+----------------------+ | Fedora 40 | PASS | PASS | PASS | SKIPPED | SKIPPED | SKIPPED | +---------------------+--------------------+------------------+-------------------+-------------------------+-------------------+----------------------+ | Arch Linux | PASS | PASS | SKIPPED | SKIPPED | SKIPPED | SKIPPED | +---------------------+--------------------+------------------+-------------------+-------------------------+-------------------+----------------------+ | Windows Server 2022 | SKIPPED | SKIPPED | SKIPPED | PASS | PASS | PASS | +---------------------+--------------------+------------------+-------------------+-------------------------+-------------------+----------------------+ CentOS Stream 9 Kernel: Depends on container host Compiler: gcc 11.5.0 20240719 (Red Hat 11.5.0-2) Debian Bullseye Kernel: Depends on container host Compiler: gcc (Debian 10.2.1-6) 10.2.1 20210110 openSUSE Leap 15 Kernel: Depends on container host Compiler: gcc (SUSE Linux) 7.5.0 Debian 12 Kernel: Depends on container host Compiler: gcc (Debian 12.2.0-14) 12.2.0 Fedora 40 (Clang) Kernel: Depends on container host Compiler: clang 18.1.8 (Fedora 18.1.8-1.fc40) Fedora 41 (Clang) Kernel: Depends on container host Compiler: clang 19.1.5 (Fedora 19.1.5-1.fc41) RHEL8 Kernel: Depends on container host Compiler: gcc 8.5.0 20210514 (Red Hat 8.5.0-22) Ubuntu 20.04 Kernel: Depends on container host Compiler: gcc (Ubuntu 9.4.0-1ubuntu1~20.04.2) 9.4.0 RHEL9 Kernel: Depends on container host Compiler: gcc 11.5.0 20240719 (Red Hat 11.5.0-2) Ubuntu 24.04 Kernel: Depends on container host Compiler: gcc (Ubuntu 13.3.0-6ubuntu2~24.04) 13.3.0 Ubuntu 22.04 Kernel: Depends on container host Compiler: gcc (Ubuntu 11.4.0-1ubuntu1~22.04) 11.4.0 Alpine Kernel: Depends on container host Compiler: gcc (Alpine 14.2.0) 14.2.0 FreeBSD 13.4 Kernel: 13.4-RELEASE-p1 Compiler: clang 18.1.6 FreeBSD 14.2 Kernel: 14.2-RELEASE Compiler: clang 18.1.6 Fedora 41 Kernel: Depends on container host Compiler: gcc 14.2.1 20240912 (Red Hat 14.2.1-3) Fedora 40 Kernel: Depends on container host Compiler: gcc 14.2.1 20240912 (Red Hat 14.2.1-3) Arch Linux Kernel: Depends on container host Compiler: gcc 14.2.1 20240910 Windows Server 2022 Kernel: 10.0.20348.2031 Compiler: clang 15.0.7, gcc 14.1.0 (MinGW), and MSVC VS 19.39.33521 To view detailed results, visit: https://lab.dpdk.org/results/dashboard/tarballs/32155/ UNH-IOL DPDK Community Lab To manage your email subscriptions, visit: https://lab.dpdk.org/results/dashboard/preferences/subscriptions/