From mboxrd@z Thu Jan 1 00:00:00 1970 Return-Path: Received: from mails.dpdk.org (mails.dpdk.org [217.70.189.124]) by inbox.dpdk.org (Postfix) with ESMTP id 5573E461BF for ; Fri, 7 Feb 2025 20:41:24 +0100 (CET) Received: from mails.dpdk.org (localhost [127.0.0.1]) by mails.dpdk.org (Postfix) with ESMTP id 03856402F2; Fri, 7 Feb 2025 20:41:24 +0100 (CET) Received: from mail-il1-f227.google.com (mail-il1-f227.google.com [209.85.166.227]) by mails.dpdk.org (Postfix) with ESMTP id 793504029A for ; Fri, 7 Feb 2025 20:41:22 +0100 (CET) Received: by mail-il1-f227.google.com with SMTP id e9e14a558f8ab-3ce886a2d5bso21721715ab.1 for ; Fri, 07 Feb 2025 11:41:22 -0800 (PST) DKIM-Signature: v=1; a=rsa-sha256; c=relaxed/relaxed; d=iol.unh.edu; s=unh-iol; t=1738957282; x=1739562082; darn=dpdk.org; h=references:in-reply-to:cc:to:from:subject:message-id:date:from:to :cc:subject:date:message-id:reply-to; bh=7OtIhcG4XlcNQSndmbVCcLbvx179Tt5HWp6elS2ape0=; b=AGNUiJuh2e/rk7B2fPu3k+LH1cPeBPDymUalK0CoKQ99NRi5+C1mat163bpdidrmL/ 4zpxXJtPIUk7T6oRjF56ZMOB8bkWVBPiTHI5cs7mV9oOCfsLtb0G3nB2kGnWQDSpf5xD PUVvmvo7jqdCtGYBdC4BaIIGicFYscJMr4NL4= X-Google-DKIM-Signature: v=1; a=rsa-sha256; c=relaxed/relaxed; d=1e100.net; s=20230601; t=1738957282; x=1739562082; h=references:in-reply-to:cc:to:from:subject:message-id:date :x-gm-message-state:from:to:cc:subject:date:message-id:reply-to; bh=7OtIhcG4XlcNQSndmbVCcLbvx179Tt5HWp6elS2ape0=; b=hl0ptZBJf9R/jExF+WPd60sVPutG43xWqx4b94020B+Qy40gGqm+izCFjIhyMoiq0Q +6+hfON0YCrvW+xzToHu473vbqD7h0Xcy1ffzmUzKsSARoHcxmML/r6w1fQnIMbDZGZ3 oarYFTTDwyJgBwInbs1KV0zG0vdsDVkzKzc6tEmCo+GRJiM3pBkeoG1JB+HMMivfbIsT ame2aHbRLWeDxOO1Mu+HppiA3PS9pi+V9suOTiBXluYb5R03ailZ/68IDcdFNT02GN/v HeVk6hP1hgnr1o14tY0w5O2BU5x6KQojdsE10i4R8I4BD5OWHPh4AQzgVL1R2dc2CmON x/SA== X-Gm-Message-State: AOJu0YyIYLilRRYvl/P0oFA1So7dnRr9Thha01ky6CJlZOoQVlAKE6Ks jcfkouA5zEAmwiAHX1afLh9CCjgix7mP0PAEoRlkMPRMA42yp5Gd3nLiw8vTA70gvXQanQxD3wQ mI3hkK+98kDBBAvkTUKDsf3xOjOt6eRlvMa7ysZCP X-Gm-Gg: ASbGncu/wttMgSG3H8tLhxERN3IgUj7Txu6cjrM0yirtqlnCudeNGNjjxRsCaWKnalH W8aSul/9Si1QN+vqF0AjzwKCetCyflVuYQecGihlw9Ri6BcY+7zEnajERiVOtVDjRT89dkGrc9T gqmoY4v+Jpk9BdJ5b6p9k7qx2Ie880Nvx3a+Yn/ZPCje11PPHispnyDXncdFSl8CsYrVObOoUTg 1Zj8cOnh9CkOVxvh0unh2KYBe5GwXzhg1qw85MkDM90JMW+3SELso0dFekbSV69TUkkcho/EYMc Pc34/Ld4kZj2Uq8okTvxsBQDgZLTjw== X-Google-Smtp-Source: AGHT+IF5sjwUl1/w23fH/ewEF8FCoNqr/W5Vw7dvE5Q02EDCQlTXNMxP5bjM03C56sSAOmNS54ZNdLpEUeyb X-Received: by 2002:a05:6e02:1544:b0:3d0:4700:db17 with SMTP id e9e14a558f8ab-3d13dfd4445mr38441285ab.20.1738957281775; Fri, 07 Feb 2025 11:41:21 -0800 (PST) Received: from postal.iol.unh.edu (postal.iol.unh.edu. [132.177.123.84]) by smtp-relay.gmail.com with ESMTPS id 8926c6da1cb9f-4eccf9f580asm265012173.41.2025.02.07.11.41.21 (version=TLS1_2 cipher=ECDHE-ECDSA-AES128-GCM-SHA256 bits=128/128); Fri, 07 Feb 2025 11:41:21 -0800 (PST) X-Relaying-Domain: iol.unh.edu Date: Fri, 07 Feb 2025 11:41:21 -0800 (PST) Message-ID: <67a661e1.050a0220.183691.d5ccSMTPIN_ADDED_MISSING@mx.google.com> Received: from [172.21.0.11] (unknown [172.18.0.240]) by postal.iol.unh.edu (Postfix) with ESMTP id 4E4296052471; Fri, 7 Feb 2025 14:41:21 -0500 (EST) Subject: |SUCCESS| pw149776-149777 [PATCH] [v4,2/2] dts: add dual VLAN test s From: dpdklab@iol.unh.edu To: Test Report Cc: dpdk-test-reports@iol.unh.edu In-Reply-To: <20250109180124.1678253-2-paul.szczepanek@arm.com> References: <20250109180124.1678253-2-paul.szczepanek@arm.com> Content-Type: text/plain X-BeenThere: test-report@dpdk.org X-Mailman-Version: 2.1.29 Precedence: list List-Id: automatic DPDK test reports List-Unsubscribe: , List-Archive: List-Post: List-Help: List-Subscribe: , Errors-To: test-report-bounces@dpdk.org Test-Label: iol-compile-amd64-testing Test-Status: SUCCESS http://dpdk.org/patch/149777 _Testing PASS_ Submitter: Paul Szczepanek Date: Thursday, January 09 2025 18:01:24 DPDK git baseline: Repo:dpdk Branch: master CommitID:fd51012de5369679e807be1d6a81d63ef15015ce 149776-149777 --> testing pass Test environment and result as below: +---------------------+--------------------+------------------+-------------------+-------------------+-------------------------+----------------------+ | Environment | dpdk_meson_compile | dpdk_compile_ovs | dpdk_compile_spdk | dpdk_msvc_compile | dpdk_llvm_clang_compile | dpdk_mingw64_compile | +=====================+====================+==================+===================+===================+=========================+======================+ | CentOS Stream 9 | PASS | PASS | PASS | SKIPPED | SKIPPED | SKIPPED | +---------------------+--------------------+------------------+-------------------+-------------------+-------------------------+----------------------+ | Debian Bullseye | PASS | PASS | PASS | SKIPPED | SKIPPED | SKIPPED | +---------------------+--------------------+------------------+-------------------+-------------------+-------------------------+----------------------+ | Debian 12 | PASS | PASS | PASS | SKIPPED | SKIPPED | SKIPPED | +---------------------+--------------------+------------------+-------------------+-------------------+-------------------------+----------------------+ | Fedora 40 | PASS | PASS | PASS | SKIPPED | SKIPPED | SKIPPED | +---------------------+--------------------+------------------+-------------------+-------------------+-------------------------+----------------------+ | Fedora 41 | PASS | PASS | PASS | SKIPPED | SKIPPED | SKIPPED | +---------------------+--------------------+------------------+-------------------+-------------------+-------------------------+----------------------+ | openSUSE Leap 15 | PASS | SKIPPED | SKIPPED | SKIPPED | SKIPPED | SKIPPED | +---------------------+--------------------+------------------+-------------------+-------------------+-------------------------+----------------------+ | Fedora 41 (Clang) | PASS | PASS | PASS | SKIPPED | SKIPPED | SKIPPED | +---------------------+--------------------+------------------+-------------------+-------------------+-------------------------+----------------------+ | RHEL9 | PASS | PASS | SKIPPED | SKIPPED | SKIPPED | SKIPPED | +---------------------+--------------------+------------------+-------------------+-------------------+-------------------------+----------------------+ | RHEL8 | PASS | PASS | SKIPPED | SKIPPED | SKIPPED | SKIPPED | +---------------------+--------------------+------------------+-------------------+-------------------+-------------------------+----------------------+ | Ubuntu 20.04 | PASS | SKIPPED | SKIPPED | SKIPPED | SKIPPED | SKIPPED | +---------------------+--------------------+------------------+-------------------+-------------------+-------------------------+----------------------+ | Ubuntu 24.04 | PASS | PASS | PASS | SKIPPED | SKIPPED | SKIPPED | +---------------------+--------------------+------------------+-------------------+-------------------+-------------------------+----------------------+ | Ubuntu 22.04 | PASS | PASS | PASS | SKIPPED | SKIPPED | SKIPPED | +---------------------+--------------------+------------------+-------------------+-------------------+-------------------------+----------------------+ | Alpine | PASS | PASS | SKIPPED | SKIPPED | SKIPPED | SKIPPED | +---------------------+--------------------+------------------+-------------------+-------------------+-------------------------+----------------------+ | FreeBSD 13.4 | PASS | SKIPPED | SKIPPED | SKIPPED | SKIPPED | SKIPPED | +---------------------+--------------------+------------------+-------------------+-------------------+-------------------------+----------------------+ | FreeBSD 14.2 | PASS | SKIPPED | SKIPPED | SKIPPED | SKIPPED | SKIPPED | +---------------------+--------------------+------------------+-------------------+-------------------+-------------------------+----------------------+ | Fedora 40 (Clang) | PASS | PASS | PASS | SKIPPED | SKIPPED | SKIPPED | +---------------------+--------------------+------------------+-------------------+-------------------+-------------------------+----------------------+ | Windows Server 2022 | SKIPPED | SKIPPED | SKIPPED | PASS | PASS | PASS | +---------------------+--------------------+------------------+-------------------+-------------------+-------------------------+----------------------+ CentOS Stream 9 Kernel: Depends on container host Compiler: gcc 11.5.0 20240719 (Red Hat 11.5.0-2) Debian Bullseye Kernel: Depends on container host Compiler: gcc (Debian 10.2.1-6) 10.2.1 20210110 Debian 12 Kernel: Depends on container host Compiler: gcc (Debian 12.2.0-14) 12.2.0 Fedora 40 Kernel: Depends on container host Compiler: gcc 14.2.1 20240912 (Red Hat 14.2.1-3) Fedora 41 Kernel: Depends on container host Compiler: gcc 14.2.1 20240912 (Red Hat 14.2.1-3) openSUSE Leap 15 Kernel: Depends on container host Compiler: gcc (SUSE Linux) 7.5.0 Fedora 41 (Clang) Kernel: Depends on container host Compiler: clang 19.1.5 (Fedora 19.1.5-1.fc41) RHEL9 Kernel: Depends on container host Compiler: gcc 11.5.0 20240719 (Red Hat 11.5.0-2) RHEL8 Kernel: Depends on container host Compiler: gcc 8.5.0 20210514 (Red Hat 8.5.0-22) Ubuntu 20.04 Kernel: Depends on container host Compiler: gcc (Ubuntu 9.4.0-1ubuntu1~20.04.2) 9.4.0 Ubuntu 24.04 Kernel: Depends on container host Compiler: gcc (Ubuntu 13.3.0-6ubuntu2~24.04) 13.3.0 Ubuntu 22.04 Kernel: Depends on container host Compiler: gcc (Ubuntu 11.4.0-1ubuntu1~22.04) 11.4.0 Alpine Kernel: Depends on container host Compiler: gcc (Alpine 14.2.0) 14.2.0 FreeBSD 13.4 Kernel: 13.4-RELEASE-p1 Compiler: clang 18.1.6 FreeBSD 14.2 Kernel: 14.2-RELEASE Compiler: clang 18.1.6 Fedora 40 (Clang) Kernel: Depends on container host Compiler: clang 18.1.8 (Fedora 18.1.8-1.fc40) Windows Server 2022 Kernel: 10.0.20348.2031 Compiler: clang 15.0.7, gcc 14.1.0 (MinGW), and MSVC VS 19.39.33521 To view detailed results, visit: https://lab.dpdk.org/results/dashboard/patchsets/32286/ UNH-IOL DPDK Community Lab To manage your email subscriptions, visit: https://lab.dpdk.org/results/dashboard/preferences/subscriptions/