From mboxrd@z Thu Jan 1 00:00:00 1970 Return-Path: Received: from mails.dpdk.org (mails.dpdk.org [217.70.189.124]) by inbox.dpdk.org (Postfix) with ESMTP id A67E2461BF for ; Fri, 7 Feb 2025 20:44:33 +0100 (CET) Received: from mails.dpdk.org (localhost [127.0.0.1]) by mails.dpdk.org (Postfix) with ESMTP id 9E87A4029A; Fri, 7 Feb 2025 20:44:33 +0100 (CET) Received: from mail-qk1-f228.google.com (mail-qk1-f228.google.com [209.85.222.228]) by mails.dpdk.org (Postfix) with ESMTP id 1CA6A4026C for ; Fri, 7 Feb 2025 20:44:32 +0100 (CET) Received: by mail-qk1-f228.google.com with SMTP id af79cd13be357-7be49f6b331so239854585a.1 for ; Fri, 07 Feb 2025 11:44:32 -0800 (PST) DKIM-Signature: v=1; a=rsa-sha256; c=relaxed/relaxed; d=iol.unh.edu; s=unh-iol; t=1738957471; x=1739562271; darn=dpdk.org; h=cc:to:from:subject:message-id:date:from:to:cc:subject:date :message-id:reply-to; bh=a2vRGXqqitqHkkRCwtF+qXY49D4XJYltZgj3R+rGNI4=; b=FeRB7W4RhfsJKXZSusNS1yR4/Wth5ooSSwD7PH6Ccv2HV9d3FJNgOEa4zWSuF4yNMs 7bXXVQAtAR2C3cZVLbwVvv1roRRQ6rGvJmg64SaXl+AnkxJ8MF6MfPzplr7OZwFUtnj9 qMdH0crRYWRsl+sERnNrBW/s/7WdaCpLzWtPI= X-Google-DKIM-Signature: v=1; a=rsa-sha256; c=relaxed/relaxed; d=1e100.net; s=20230601; t=1738957471; x=1739562271; h=cc:to:from:subject:message-id:date:x-gm-message-state:from:to:cc :subject:date:message-id:reply-to; bh=a2vRGXqqitqHkkRCwtF+qXY49D4XJYltZgj3R+rGNI4=; b=hSXYWTBaTR6Ah+SUs6SBAasutr1galBBccY55D+GJgXcuZ78N2oAEha8z/g3X7ZwpP mLYRD39yz4OqWFX5GYmOjJiUfbNv0B6jgjOYks3rOsxr2kji7YsEU7szPntriipnXxvh TWJm2clpk8lwi7uQxAsY8IOJmt1Q6xAlOxfGXdCKTdrzwwTsEXAyAe5fCy229jxe8Ti2 ZhpQODafcREuync7LgMGQZWjloI0qr4ZrNgKyx9FGAsQE8Aw7qrgTsZrYp3NMHo6CCVA GlV08HLP+G2MDARsGiW9gSBTrGHZouFNBKm/ktiHxoIDBN2iiB1tB0aG4sggR5wWJNJU dOlw== X-Gm-Message-State: AOJu0YyuJ9cx1hHZv5W4fxgojix8C+0uSJoQt1FweVb7OlZIVxAVJYSt ZE1xcku+ehHP/xeRhdlj5r0IpP2/ElRE9giRlCLfzDOCXtfQZdL2JZU+f7g/hms6GUFETA2hpga nUBg8mzRMYFDm060wEA2+yEgxsu27Y8Zx X-Gm-Gg: ASbGncs1gyrbdWFkUVtsYGO7iHDS/ht0HN4X7AB0CQC0oM8HRiDX78ZwLz8ydHrcv5p oTSxP+6XFmm/1x9Wdbn6Rr7KSXxyfKitPUOpc99mRjA3mMLO4YWLgy9UdAw4u7YKuxsxBl6pa+3 gcp0YzluUvFuanD91jB1LmD00X77HU49JqdtS25jx/56c/CCsiI6kOX4G4GJD0QZF43b8tpNLcB mZrUSW9AXV88Sowhy4E4d0/ZPaSxWWKluagzrGqQyYs2KSKVlRZNiGk1yBDu9p30hT9/T7Y6eLk 9ry+NokB3i554EqlmRnjqAYbTQ5bRw== X-Google-Smtp-Source: AGHT+IH1dDgdaybLZojXNibGiqRw7JwC3j3xLrwnhLx/v6QJ01ifgmdyF99uPBNlg+MiOf3gODppx+biAlQg X-Received: by 2002:a05:6214:230c:b0:6e4:2b7e:3992 with SMTP id 6a1803df08f44-6e44561daeemr67161116d6.16.1738957471426; Fri, 07 Feb 2025 11:44:31 -0800 (PST) Received: from postal.iol.unh.edu (postal.iol.unh.edu. [132.177.123.84]) by smtp-relay.gmail.com with ESMTPS id 6a1803df08f44-6e43bb1b5eesm2248396d6.66.2025.02.07.11.44.31 (version=TLS1_2 cipher=ECDHE-ECDSA-AES128-GCM-SHA256 bits=128/128); Fri, 07 Feb 2025 11:44:31 -0800 (PST) X-Relaying-Domain: iol.unh.edu Date: Fri, 07 Feb 2025 11:44:31 -0800 (PST) Message-ID: <67a6629f.050a0220.7c324.be0eSMTPIN_ADDED_MISSING@mx.google.com> Received: from [172.21.0.16] (unknown [172.18.0.240]) by postal.iol.unh.edu (Postfix) with ESMTP id 2D9046052471; Fri, 7 Feb 2025 14:44:30 -0500 (EST) Subject: |SUCCESS| [GIT MASTER] f2eea2f37a82bb73fb01d56350708f7d70e21379 From: dpdklab@iol.unh.edu To: Test Report Cc: dpdk-test-reports@iol.unh.edu, Xueming Li , Christian Ehrhardt , Kevin Traynor , Luca Boccassi Content-Type: text/plain X-BeenThere: test-report@dpdk.org X-Mailman-Version: 2.1.29 Precedence: list List-Id: automatic DPDK test reports List-Unsubscribe: , List-Archive: List-Post: List-Help: List-Subscribe: , Errors-To: test-report-bounces@dpdk.org _Testing PASS_ Branch: tags/v24.11 f2eea2f37a82bb73fb01d56350708f7d70e21379 --> testing pass Test environment and result as below: +---------------------+--------------------+------------------+-------------------+-------------------------+----------------------+ | Environment | dpdk_meson_compile | dpdk_compile_ovs | dpdk_compile_spdk | dpdk_llvm_clang_compile | dpdk_mingw64_compile | +=====================+====================+==================+===================+=========================+======================+ | CentOS Stream 9 | PASS | PASS | PASS | SKIPPED | SKIPPED | +---------------------+--------------------+------------------+-------------------+-------------------------+----------------------+ | Debian Bullseye | PASS | PASS | PASS | SKIPPED | SKIPPED | +---------------------+--------------------+------------------+-------------------+-------------------------+----------------------+ | Debian 12 | PASS | PASS | PASS | SKIPPED | SKIPPED | +---------------------+--------------------+------------------+-------------------+-------------------------+----------------------+ | Fedora 40 (Clang) | PASS | PASS | PASS | SKIPPED | SKIPPED | +---------------------+--------------------+------------------+-------------------+-------------------------+----------------------+ | Fedora 41 (Clang) | PASS | PASS | PASS | SKIPPED | SKIPPED | +---------------------+--------------------+------------------+-------------------+-------------------------+----------------------+ | Fedora 41 | PASS | PASS | PASS | SKIPPED | SKIPPED | +---------------------+--------------------+------------------+-------------------+-------------------------+----------------------+ | openSUSE Leap 15 | PASS | SKIPPED | SKIPPED | SKIPPED | SKIPPED | +---------------------+--------------------+------------------+-------------------+-------------------------+----------------------+ | RHEL8 | PASS | PASS | SKIPPED | SKIPPED | SKIPPED | +---------------------+--------------------+------------------+-------------------+-------------------------+----------------------+ | RHEL9 | PASS | PASS | SKIPPED | SKIPPED | SKIPPED | +---------------------+--------------------+------------------+-------------------+-------------------------+----------------------+ | Ubuntu 20.04 | PASS | SKIPPED | SKIPPED | SKIPPED | SKIPPED | +---------------------+--------------------+------------------+-------------------+-------------------------+----------------------+ | Ubuntu 22.04 | PASS | PASS | PASS | SKIPPED | SKIPPED | +---------------------+--------------------+------------------+-------------------+-------------------------+----------------------+ | Ubuntu 24.04 | PASS | PASS | PASS | SKIPPED | SKIPPED | +---------------------+--------------------+------------------+-------------------+-------------------------+----------------------+ | Alpine | PASS | PASS | SKIPPED | SKIPPED | SKIPPED | +---------------------+--------------------+------------------+-------------------+-------------------------+----------------------+ | FreeBSD 13.4 | PASS | SKIPPED | SKIPPED | SKIPPED | SKIPPED | +---------------------+--------------------+------------------+-------------------+-------------------------+----------------------+ | FreeBSD 14.2 | PASS | SKIPPED | SKIPPED | SKIPPED | SKIPPED | +---------------------+--------------------+------------------+-------------------+-------------------------+----------------------+ | Windows Server 2022 | SKIPPED | SKIPPED | SKIPPED | PASS | PASS | +---------------------+--------------------+------------------+-------------------+-------------------------+----------------------+ CentOS Stream 9 Kernel: Depends on container host Compiler: gcc 11.5.0 20240719 (Red Hat 11.5.0-2) Debian Bullseye Kernel: Depends on container host Compiler: gcc (Debian 10.2.1-6) 10.2.1 20210110 Debian 12 Kernel: Depends on container host Compiler: gcc (Debian 12.2.0-14) 12.2.0 Fedora 40 (Clang) Kernel: Depends on container host Compiler: clang 18.1.8 (Fedora 18.1.8-1.fc40) Fedora 41 (Clang) Kernel: Depends on container host Compiler: clang 19.1.5 (Fedora 19.1.5-1.fc41) Fedora 41 Kernel: Depends on container host Compiler: gcc 14.2.1 20240912 (Red Hat 14.2.1-3) openSUSE Leap 15 Kernel: Depends on container host Compiler: gcc (SUSE Linux) 7.5.0 RHEL8 Kernel: Depends on container host Compiler: gcc 8.5.0 20210514 (Red Hat 8.5.0-22) RHEL9 Kernel: Depends on container host Compiler: gcc 11.5.0 20240719 (Red Hat 11.5.0-2) Ubuntu 20.04 Kernel: Depends on container host Compiler: gcc (Ubuntu 9.4.0-1ubuntu1~20.04.2) 9.4.0 Ubuntu 22.04 Kernel: Depends on container host Compiler: gcc (Ubuntu 11.4.0-1ubuntu1~22.04) 11.4.0 Ubuntu 24.04 Kernel: Depends on container host Compiler: gcc (Ubuntu 13.3.0-6ubuntu2~24.04) 13.3.0 Alpine Kernel: Depends on container host Compiler: gcc (Alpine 14.2.0) 14.2.0 FreeBSD 13.4 Kernel: 13.4-RELEASE-p1 Compiler: clang 18.1.6 FreeBSD 14.2 Kernel: 14.2-RELEASE Compiler: clang 18.1.6 Windows Server 2022 Kernel: 10.0.20348.2031 Compiler: clang 15.0.7, gcc 14.1.0 (MinGW), and MSVC VS 19.39.33521 To view detailed results, visit: https://lab.dpdk.org/results/dashboard/tarballs/32124/ UNH-IOL DPDK Community Lab To manage your email subscriptions, visit: https://lab.dpdk.org/results/dashboard/preferences/subscriptions/